{"text_format":"1","workbook":"xlsx","n_sheets":14,"sheets":["設定","○月","4月","5月","6月","7月","8月","9月","10月","11月","12月","1月","2月","3月"],"not_rendered":{"charts":0,"images":67,"macros":1,"external_links":0,"defined_names":26,"comments":0,"pivot_tables":0},"unopened":[],"bounds":{"document_bytes":16777216,"sheet_cells":100000,"rows_first":2000,"rows_last":500,"rows_between":2000,"halvings":0,"cell_chars":16384,"cell_head_chars":4096},"cells_cut":0,"cells_raw":0,"read":"whole","date_system":"1900"}

{"sheet":"設定","index":0,"n_rows":90,"n_cols":16,"rows_kept":90,"cut":false,"hidden":false,"merged":[[84,12,84,16],[58,5,58,6],[49,5,49,6],[50,5,50,6],[52,5,52,6],[53,5,53,6],[54,5,54,6],[55,12,55,15],[56,12,56,15],[57,12,57,15],[75,12,75,15],[63,12,63,15],[58,12,58,15],[59,12,59,15],[60,12,60,15],[61,12,61,15],[45,5,45,6],[46,5,46,6],[48,5,48,6],[56,5,56,6],[57,5,57,6],[62,12,62,15],[64,12,64,15],[65,12,65,15],[74,12,74,15],[71,12,71,15],[66,12,66,15],[67,12,67,15],[1,3,1,4],[5,5,5,6],[45,10,47,15],[51,12,51,15],[52,12,52,15],[18,5,18,6],[19,5,19,6],[23,5,23,6],[24,5,24,6],[36,5,36,6],[37,5,37,6],[38,5,38,6],[40,5,40,6],[41,5,41,6],[42,5,42,6],[44,5,44,6],[82,12,82,15],[80,12,80,15],[83,12,83,15],[81,12,81,16],[29,5,29,6],[68,12,68,15],[69,12,69,15],[70,12,70,15],[72,12,72,15],[73,12,73,15],[76,12,76,15],[77,12,77,15],[78,12,78,15],[79,12,79,15],[53,12,53,15],[54,12,54,15],[33,17,33,18],[36,17,36,18],[37,17,37,18],[38,17,38,18],[11,5,15,7],[20,5,20,6],[25,5,25,6],[30,5,30,6],[26,17,26,18],[27,17,27,18],[28,17,28,18],[31,17,31,18],[32,17,32,18],[28,5,28,6]]}
[null,null,null,null,null,null,null,null,null,null,null,null,null,null,"出席簿改訂版","Ver.210326"]
["◆学校名",null,"松岡小","学校",null,"◆学級名",null,null,null,"◆児童生徒名列"]
[null,null,null,null,null,null,"組","みどり学級",null,null,null,"0:(当初)","1:(変更１)","2:(変更２)","3:(変更３)","4:(変更４)"]
["◆年度を西暦で入力してください。",null,null,null,null,null,null,null,null,null,1,"西郷隆盛　１年"]
[null,"年度(西暦)",2021,null,null,null,null,null,null,null,2,"伊達政宗　３年"]
[null,{"$f":"C47","v":"令和"},{"$f":"IF(C5-C48+1=1,\"元\",C5-C48+1)","v":3},null,null,"◆担任氏名",null,"永平寺 太郎",null,null,3,"井伊直弼　５年"]
[null,null,null,null,null,null,null,null,null,null,4,"桓武天皇　５年"]
["◆祝日設定",null,null,null,null,null,null,null,null,null,5]
[null,"月日","名称",null,null,null,null,null,null,null,6]
[null,"2021-04-29","昭和の日",null,null,"【長期休業設定の説明】",null,null,null,null,7]
[null,"2021-05-03","憲法記念日",null,null,null,null,null,null,null,8]
[null,"2021-05-04","みどりの日",null,null,"Ｎ型表示の長期休業を毎月３つまで設定できます。入力は、「月始め処理」の前に行う必要があります。Ⅰ～Ⅲは日付順でなくてもＯＫです。",null,null,null,null,9]
[null,"2021-05-05","こどもの日",null,null,null,null,null,null,null,10]
[null,"2021-07-22","海の日",null,null,null,null,null,null,null,11]
[null,"2021-07-23","スポーツの日",null,null,null,null,null,null,null,12]
[null,"2021-08-08","山の日",null,null,null,null,null,null,null,13]
[null,"2021-08-09","休　　日",null,null,null,null,null,null,null,14]
[null,"2021-09-20","敬老の日",null,null,"長期休業Ⅰ",null,null,null,null,15]
[null,"2021-09-23","秋分の日",null,null,"名称",null,"学年始休業",null,null,16]
[null,"2021-11-03","文化の日",null,null,"開始日",null,1,null,null,17]
[null,"2021-11-23","勤労感謝の日",null,null,"終了日",null,7,null,null,18]
[null,"2022-01-01","元　　日",null,null,null,null,null,null,null,19]
[null,"2022-01-10","成人の日",null,null,"長期休業Ⅱ",null,null,null,null,20]
[null,"2022-02-11","建国記念の日",null,null,"名称",null,"臨時休業",null,null,21]
[null,"2022-02-23","天皇誕生日",null,null,"開始日",null,9,null,null,22]
[null,"2022-03-19","春分の日",null,null,"終了日",null,17,null,null,23]
[null,null,null,null,null,null,null,null,null,null,24]
[null,null,null,null,null,"長期休業Ⅲ",null,null,null,null,25]
[null,null,null,null,null,"名称",null,"臨時休業",null,null,26]
[null,null,null,null,null,"開始日",null,21,null,null,27]
[null,null,null,null,null,"終了日",null,30,null,null,28]
[null,null,null,null,null,null,null,null,null,null,29]
[null,null,null,null,null,null,null,null,null,null,30]
[null,null,null,null,null,null,null,null,null,null,31]
[null,null,null,null,null,"【主な長期休業の設定】",null,null,null,null,32]
[null,null,null,null,null,"４月",null,null,null,null,33]
[null,null,null,null,null,"名称",null,"学年始休業",null,null,34]
[null,null,null,null,null,"開始日",null,1,null,null,35]
[null,null,null,null,null,"終了日",null,7,null,null,36]
[null,null,null,null,null,"７月",null,null,null,null,37]
[null,null,null,null,null,"名称",null,"夏季休業",null,null,38]
[null,null,null,null,null,"開始日",null,21,null,null,39]
[null,null,null,null,null,"終了日",null,31,null,null,40]
[null,null,null,null,null,"８月",null,null,null,null,"児童生徒数",{"$f":"COUNTA(L4:L42)","v":4},{"$f":"COUNTA(M4:M42)","v":0},{"$f":"COUNTA(N4:N42)","v":0},{"$f":"COUNTA(O4:O42)","v":0},{"$f":"COUNTA(P4:P42)","v":0}]
[null,null,null,null,null,"名称",null,"夏季休業"]
["◆元号の設定",null,null,null,null,"開始日",null,1,null,null,"※児童生徒の転入・転出があった場合、変更１以降に新しい名列を作成し、各月のシートにおいて、「使用名列」を、1～4に変更すると、作成した名列を表示させることができます。"]
[null,"元号の名称","令和",null,null,"終了日",null,29]
[null,"元年の西暦",2019,null,null,"１２月"]
[null,{"$f":"IF(C5-C48+1=1,\"元\",C5-C48+1)","v":3},{"$f":"IF(C5-C48+2=1,\"元\",C5-C48+2)","v":4},null,null,"名称",null,"冬季休業"]
[null,null,null,null,null,"開始日",null,24]
["◆選択リスト",null,null,null,null,"終了日",null,31,null,null,null,"◇システム改訂の記録"]
[null,null,"学級",null,null,"１月",null,null,null,null,null,"2019-05-01","新元号「令和」に対応"]
[null,null,"みどり学級",null,null,"名称",null,"冬季休業",null,null,null,null,"「遅刻＋早退」への対応"]
[null,null,"あおば学級",null,null,"開始日",null,1,null,null,null,null,"設定シートによる初期値の入力"]
[null,null,"わかば学級",null,null,"終了日",null,7,null,null,null,null,"名列の転出入への対応"]
[null,null,null,null,null,"３月",null,null,null,null,null,"2019-05-04","卒業学年での卒業式後の縦線処理の追加"]
[null,null,null,null,null,"名称",null,"学年末休業",null,null,null,"2019-05-05","８名以下の罫線処理を変更"]
[null,null,null,null,null,"開始日",null,25,null,null,null,null,"入力時にキャンセルで処理終了（エラー処理追加）"]
[null,null,null,null,null,"終了日",null,31,null,null,null,null,"祝日設定数を35に拡大（前後期一括処理に変更）"]
[null,null,null,null,null,null,null,null,null,null,null,null,"臨時休業、学年閉鎖への対応"]
[null,null,null,null,null,null,null,null,null,null,null,"2019-05-06","年間一括・月指定での出席簿作成機能を追加"]
[null,null,null,null,null,null,null,null,null,null,null,"2019-05-09","長期休業の処理見直し（文字配置の適正化）"]
[null,null,null,null,null,null,null,null,null,null,null,"2019-05-10","長期休業の文字間隔調整の対応"]
[null,null,null,null,null,null,null,null,null,null,null,null,"（祝日名との重なり回避）"]
[null,null,null,null,null,null,null,null,null,null,null,"2019-05-12","長期休業中の祝日カウント不具合への対応"]
[null,null,null,null,null,null,null,null,null,null,null,null,"授業日数カウント処理の見直し"]
[null,null,null,null,null,null,null,null,null,null,null,null,"夏休み中の授業日に対応"]
[null,null,null,null,null,null,null,null,null,null,null,null,"月をまたぐ振替に対応(振替処理の見直し)"]
[null,null,null,null,null,null,null,null,null,null,null,"2019-05-13","振替のエラー処理の変更"]
[null,null,null,null,null,null,null,null,null,null,null,null,"一番下の欄への入力処理を見直し"]
[null,null,null,null,null,null,null,null,null,null,null,"2019-05-14","全欠席者の処理を変更"]
[null,null,null,null,null,null,null,null,null,null,null,null,"設定シートの見直し（授業日数の初期入力なし）"]
[null,null,null,null,null,null,null,null,null,null,null,"2019-05-16","振替で赤線を消す処理方法を変更"]
[null,null,null,null,null,null,null,null,null,null,null,"2019-05-19","シートを初期化する処理を追加"]
[null,null,null,null,null,null,null,null,null,null,null,"2019-05-20","元号の処理の見直し"]
[null,null,null,null,null,null,null,null,null,null,null,null,"秋季休業の処理を追加"]
[null,null,null,null,null,null,null,null,null,null,null,"2019-05-21","学級閉鎖の処理を追加"]
[null,null,null,null,null,null,null,null,null,null,null,"2019-05-22","印字面の書式等を見直し"]
[null,null,null,null,null,null,null,null,null,null,null,"2019-05-29","プログラム内の配列処理の見直し"]
[null,null,null,null,null,null,null,null,null,null,null,"2019-06-12","印字面の書式見直し"]
[null,null,null,null,null,null,null,null,null,null,null,"2020-03-11","全欠者数・出席者数の処理見直し"]
[null,null,null,null,null,null,null,null,null,null,null,null,"（授業日全てが出停・忌引等の場合、全欠者・出席者ともカウントしない）"]
[null,null,null,null,null,null,null,null,null,null,null,"2020-04-05","長期休業のＮ型表示を、毎月３つまで設定できるようにした。"]
[null,null,null,null,null,null,null,null,null,null,null,null,"（新型コロナウイルスによる臨時休業への対応として）"]
[null,null,null,null,null,null,null,null,null,null,null,null,"長期休業処理に合わせて休業追加処理の見直し・エラー処理追加"]
[null,null,null,null,null,null,null,null,null,null,null,"2021-03-26","卒業学年の縦線が31日まで引かれるバグを修正"]
[null,null,null,null,null,null,null,null,null,null,null,"2021-03-27","上記の修正をブラッシュアップ（３月に臨時休業があった場合を想定）"]
[]
[null,null,null,null,null,null,null,null,null,null,null,"オリジナル版","小鍜治　優"]
[null,null,null,null,null,null,null,null,null,null,null,"改訂版","大谷　峰雄"]

{"sheet":"○月","index":1,"n_rows":96,"n_cols":67,"rows_kept":96,"cut":false,"hidden":false,"merged":[[2,1,2,2],[1,53,1,54],[1,55,1,56],[1,57,1,58],[44,39,44,40],[32,41,32,42],[37,41,37,42],[38,41,38,42],[39,41,39,42],[40,41,40,42],[37,39,37,40],[38,39,38,40],[39,39,39,40],[40,39,40,40],[33,41,33,42],[34,41,34,42],[35,41,35,42],[36,41,36,42],[2,38,2,40],[1,39,1,44],[14,39,14,40],[15,39,15,40],[14,41,14,42],[13,41,13,42],[42,2,42,6],[43,2,43,6],[44,2,44,6],[45,2,45,6],[46,2,46,6],[32,2,32,6],[33,2,33,6],[34,2,34,6],[35,2,35,6],[36,2,36,6],[37,2,37,6],[38,2,38,6],[39,2,39,6],[40,2,40,6],[27,0,37,0],[5,0,24,0],[22,2,22,6],[23,2,23,6],[24,2,24,6],[27,2,27,6],[28,2,28,6],[29,2,29,6],[30,2,30,6],[31,2,31,6],[18,2,18,6],[19,2,19,6],[20,2,20,6],[14,2,14,6],[15,2,15,6],[3,1,4,1],[3,38,4,38],[27,41,27,42],[28,41,28,42],[24,41,24,42],[20,41,20,42],[5,2,5,6],[6,2,6,6],[7,2,7,6],[8,2,8,6],[9,2,9,6],[10,2,10,6],[11,2,11,6],[12,2,12,6],[13,2,13,6],[21,41,21,42],[6,39,6,40],[12,39,12,40],[13,39,13,40],[7,39,7,40],[8,39,8,40],[9,39,9,40],[5,39,5,40],[26,39,26,40],[47,1,48,1],[47,2,47,6],[48,2,48,6],[16,39,16,40],[17,39,17,40],[18,39,18,40],[19,39,19,40],[27,39,27,40],[28,39,28,40],[23,39,23,40],[24,39,24,40],[33,39,33,40],[34,39,34,40],[35,39,35,40],[36,39,36,40],[29,39,29,40],[30,39,30,40],[31,39,31,40],[32,39,32,40],[16,2,16,6],[21,2,21,6],[25,39,25,40],[41,2,41,6],[17,2,17,6],[18,41,18,42],[19,41,19,42],[42,39,42,40],[22,41,22,42],[20,39,20,40],[2,31,2,36],[3,39,4,39],[3,40,4,40],[3,42,4,42],[3,41,4,41],[5,41,5,42],[12,41,12,42],[10,41,10,42],[10,39,10,40],[11,39,11,40],[11,41,11,42],[2,41,2,46],[15,41,15,42],[51,52,51,53],[19,62,21,63],[9,41,9,42],[8,41,8,42],[7,41,7,42],[6,41,6,42],[3,46,4,46],[3,47,4,47],[3,44,4,44],[3,45,4,45],[18,62,18,63],[41,41,41,42],[42,41,42,42],[43,41,43,42],[44,41,44,42],[29,41,29,42],[42,62,45,63],[30,41,30,42],[17,41,17,42],[23,41,23,42],[26,41,26,42],[3,43,4,43],[31,41,31,42],[25,41,25,42],[2,9,2,14],[0,49,0,60],[49,4,49,5],[49,10,49,13],[49,18,49,21],[49,26,49,30],[49,35,49,37],[49,44,49,46],[45,41,45,42],[46,41,46,42],[47,41,47,42],[48,41,48,42],[45,39,45,40],[46,39,46,40],[47,39,47,40],[49,41,49,42],[49,39,49,40],[48,39,48,40],[41,39,41,40],[16,41,16,42],[2,19,2,27],[43,39,43,40],[21,39,21,40],[22,39,22,40]]}
[null,null,null,null,null,null,null,null,null,null,null,null,null,null,null,null,null,null,null,null,null,null,null,null,null,null,null,null,null,null,null,null,null,null,null,null,null,null,null,null,null,null,null,null,null,null,null,null,null,"【注意】 この範囲は、処理のために使用しています。"]
[null,null,null,null,null,null,null,null,null,null,null,null,null,null,null,null,null,null,null,null,null,null,null,null,null,null,null,null,null,null,null,null,null,null,null,null,null,null,null,"校 長 検 印",null,null,null,null,null,null,null,null,null,"処理用セル",null,null,null,"土日",null,"祝日",null,"長期休業",null,"学級閉鎖","赤線"]
[null,{"$f":"設定!C47","v":"令和"},null,{"$f":"IF(F3>3,設定!B49,設定!C49)","v":3},"年",4,"月",null,null,{"$f":"IF(設定!H3=\"\",\"\",設定!H3)","v":"みどり学級"},null,null,null,null,null,null,null,null,null,"出　　席　　簿",null,null,null,null,null,null,null,null,null,null,null,{"$f":"設定!C2&\"学校\"","v":"松岡小学校"},null,null,null,null,null,null,"担任名",null,null,{"$f":"設定!H6","v":"永平寺 太郎"},null,null,null,null,null,null,null,"日にちの合成",{"$f":"IF(D3=\"元\",設定!C48,D3+設定!C48-1)&\"/\"&F3&\"/\"&H4","v":"2021/4/1"},{"$f":"WEEKDAY(AY3)","v":5},"日","(1,?)","(2,?)","(3,?)","(4,?)","(5,?)","(6,?)","(7,?)"]
[null,"番号",null,null,null,null,"日",1,2,3,4,5,6,7,8,9,10,11,12,13,14,15,16,17,18,19,20,21,22,23,24,25,26,27,28,29,30,31,"授業日数","出席停止忌引","等の日数","出席しなければ","ならない日数","病気欠席","事故欠席","遅刻回数","早退回数","出席日数",null,"西暦に変換",{"$f":"DATE(YEAR(AY3),MONTH(AY3),DAY(AY3))","v":"2021-04-01"},{"$f":"YEAR(AY3)","v":2021},1,null,null,null,null,null,null,null,{"$f":"BB4-BC4+BD4-BE4+BF4-BG4","v":0}]
[null,null,null,"氏    名",null,null,"曜日",null,null,null,null,null,null,null,null,null,null,null,null,null,null,null,null,null,null,null,null,null,null,null,null,null,null,null,null,null,null,null,null,null,null,null,null,null,null,null,null,null,null,"曜日決定",{"$f":"TEXT(AY4,\"aaa\")","v":"木"},{"$f":"TEXT(AZ3,\"aaa\")","v":"木"},2,null,null,null,null,null,null,null,{"$f":"BB5-BC5+BD5-BE5+BF5-BG5","v":0}]
["〈記号〉出席空欄　病欠／ 事故欠〃 遅刻× 早退○ 忌引キ 出席停止テ",1,{"$f":"IF(VLOOKUP(B6,設定!$K$4:$P$43,$BL$16+2,0)=0,\"\",VLOOKUP(B6,設定!$K$4:$P$43,$BL$16+2,0))","v":"西郷隆盛　１年"},null,null,null,null,null,null,null,null,null,null,null,null,null,null,null,null,null,null,null,null,null,null,null,null,null,null,null,null,null,null,null,null,null,null,null,null,null,null,null,null,null,null,null,null,null,null,"今月の日数",30,null,3,null,null,null,null,null,null,null,0]
[null,2,{"$f":"IF(VLOOKUP(B7,設定!$K$4:$P$43,$BL$16+2,0)=0,\"\",VLOOKUP(B7,設定!$K$4:$P$43,$BL$16+2,0))","v":"伊達政宗　３年"},null,null,null,null,null,null,null,null,null,null,null,null,null,null,null,null,null,null,null,null,null,null,null,null,null,null,null,null,null,null,null,null,null,null,null,null,null,null,null,null,null,null,null,null,null,null,null,null,null,4,null,null,null,null,null,null,null,0,null,null,null,null,"◆休業追加"]
[null,3,{"$f":"IF(VLOOKUP(B8,設定!$K$4:$P$43,$BL$16+2,0)=0,\"\",VLOOKUP(B8,設定!$K$4:$P$43,$BL$16+2,0))","v":"井伊直弼　５年"},null,null,null,null,null,null,null,null,null,null,null,null,null,null,null,null,null,null,null,null,null,null,null,null,null,null,null,null,null,null,null,null,null,null,null,null,null,null,null,null,null,null,null,null,null,null,null,null,null,5,null,null,null,null,null,null,null,0,null,null,null,null,"名称","日"]
[null,4,{"$f":"IF(VLOOKUP(B9,設定!$K$4:$P$43,$BL$16+2,0)=0,\"\",VLOOKUP(B9,設定!$K$4:$P$43,$BL$16+2,0))","v":"桓武天皇　５年"},null,null,null,null,null,null,null,null,null,null,null,null,null,null,null,null,null,null,null,null,null,null,null,null,null,null,null,null,null,null,null,null,null,null,null,null,null,null,null,null,null,null,null,null,null,null,"祝日",{"$f":"IF(設定!B10=\"\",\"\",設定!B10)","v":"2021-04-29"},{"$f":"IF(設定!C10=\"\",\"\",設定!C10)","v":"昭和の日"},6,null,null,null,null,null,null,null,0,null,null,null,null,"学年閉鎖",20]
[null,5,{"$f":"IF(VLOOKUP(B10,設定!$K$4:$P$43,$BL$16+2,0)=0,\"\",VLOOKUP(B10,設定!$K$4:$P$43,$BL$16+2,0))","v":""},null,null,null,null,null,null,null,null,null,null,null,null,null,null,null,null,null,null,null,null,null,null,null,null,null,null,null,null,null,null,null,null,null,null,null,null,null,null,null,null,null,null,null,null,null,null,null,{"$f":"IF(設定!B11=\"\",\"\",設定!B11)","v":"2021-05-03"},{"$f":"IF(設定!C11=\"\",\"\",設定!C11)","v":"憲法記念日"},7,null,null,null,null,null,null,null,0,null,null,null,null,"学級閉鎖",21]
[null,6,{"$f":"IF(VLOOKUP(B11,設定!$K$4:$P$43,$BL$16+2,0)=0,\"\",VLOOKUP(B11,設定!$K$4:$P$43,$BL$16+2,0))","v":""},null,null,null,null,null,null,null,null,null,null,null,null,null,null,null,null,null,null,null,null,null,null,null,null,null,null,null,null,null,null,null,null,null,null,null,null,null,null,null,null,null,null,null,null,null,null,null,{"$f":"IF(設定!B12=\"\",\"\",設定!B12)","v":"2021-05-04"},{"$f":"IF(設定!C12=\"\",\"\",設定!C12)","v":"みどりの日"},8,null,null,null,null,null,null,null,0,null,null,null,null,"臨時休業",22]
[null,7,{"$f":"IF(VLOOKUP(B12,設定!$K$4:$P$43,$BL$16+2,0)=0,\"\",VLOOKUP(B12,設定!$K$4:$P$43,$BL$16+2,0))","v":""},null,null,null,null,null,null,null,null,null,null,null,null,null,null,null,null,null,null,null,null,null,null,null,null,null,null,null,null,null,null,null,null,null,null,null,null,null,null,null,null,null,null,null,null,null,null,null,{"$f":"IF(設定!B13=\"\",\"\",設定!B13)","v":"2021-05-05"},{"$f":"IF(設定!C13=\"\",\"\",設定!C13)","v":"こどもの日"},9,null,null,null,null,null,null,null,0]
[null,8,{"$f":"IF(VLOOKUP(B13,設定!$K$4:$P$43,$BL$16+2,0)=0,\"\",VLOOKUP(B13,設定!$K$4:$P$43,$BL$16+2,0))","v":""},null,null,null,null,null,null,null,null,null,null,null,null,null,null,null,null,null,null,null,null,null,null,null,null,null,null,null,null,null,null,null,null,null,null,null,null,null,null,null,null,null,null,null,null,null,null,null,{"$f":"IF(設定!B14=\"\",\"\",設定!B14)","v":"2021-07-22"},{"$f":"IF(設定!C14=\"\",\"\",設定!C14)","v":"海の日"},10,null,null,null,null,null,null,null,0]
[null,9,{"$f":"IF(VLOOKUP(B14,設定!$K$4:$P$43,$BL$16+2,0)=0,\"\",VLOOKUP(B14,設定!$K$4:$P$43,$BL$16+2,0))","v":""},null,null,null,null,null,null,null,null,null,null,null,null,null,null,null,null,null,null,null,null,null,null,null,null,null,null,null,null,null,null,null,null,null,null,null,null,null,null,null,null,null,null,null,null,null,null,null,{"$f":"IF(設定!B15=\"\",\"\",設定!B15)","v":"2021-07-23"},{"$f":"IF(設定!C15=\"\",\"\",設定!C15)","v":"スポーツの日"},11,null,null,null,null,null,null,null,0]
[null,10,{"$f":"IF(VLOOKUP(B15,設定!$K$4:$P$43,$BL$16+2,0)=0,\"\",VLOOKUP(B15,設定!$K$4:$P$43,$BL$16+2,0))","v":""},null,null,null,null,null,null,null,null,null,null,null,null,null,null,null,null,null,null,null,null,null,null,null,null,null,null,null,null,null,null,null,null,null,null,null,null,null,null,null,null,null,null,null,null,null,null,null,{"$f":"IF(設定!B16=\"\",\"\",設定!B16)","v":"2021-08-08"},{"$f":"IF(設定!C16=\"\",\"\",設定!C16)","v":"山の日"},12,null,null,null,null,null,null,null,0]
[null,11,{"$f":"IF(VLOOKUP(B16,設定!$K$4:$P$43,$BL$16+2,0)=0,\"\",VLOOKUP(B16,設定!$K$4:$P$43,$BL$16+2,0))","v":""},null,null,null,null,null,null,null,null,null,null,null,null,null,null,null,null,null,null,null,null,null,null,null,null,null,null,null,null,null,null,null,null,null,null,null,null,null,null,null,null,null,null,null,null,null,null,null,{"$f":"IF(設定!B17=\"\",\"\",設定!B17)","v":"2021-08-09"},{"$f":"IF(設定!C17=\"\",\"\",設定!C17)","v":"休　　日"},13,null,null,null,null,null,null,null,0,null,"使用名列",0]
[null,12,{"$f":"IF(VLOOKUP(B17,設定!$K$4:$P$43,$BL$16+2,0)=0,\"\",VLOOKUP(B17,設定!$K$4:$P$43,$BL$16+2,0))","v":""},null,null,null,null,null,null,null,null,null,null,null,null,null,null,null,null,null,null,null,null,null,null,null,null,null,null,null,null,null,null,null,null,null,null,null,null,null,null,null,null,null,null,null,null,null,null,null,{"$f":"IF(設定!B18=\"\",\"\",設定!B18)","v":"2021-09-20"},{"$f":"IF(設定!C18=\"\",\"\",設定!C18)","v":"敬老の日"},14,null,null,null,null,null,null,null,0,null,null,null,null,"※「月始め処理」の前に入力"]
[null,13,{"$f":"IF(VLOOKUP(B18,設定!$K$4:$P$43,$BL$16+2,0)=0,\"\",VLOOKUP(B18,設定!$K$4:$P$43,$BL$16+2,0))","v":""},null,null,null,null,null,null,null,null,null,null,null,null,null,null,null,null,null,null,null,null,null,null,null,null,null,null,null,null,null,null,null,null,null,null,null,null,null,null,null,null,null,null,null,null,null,null,null,{"$f":"IF(設定!B19=\"\",\"\",設定!B19)","v":"2021-09-23"},{"$f":"IF(設定!C19=\"\",\"\",設定!C19)","v":"秋分の日"},15,null,null,null,null,null,null,null,0,null,"◆長期休業の文字間隔",null,null,"◆長期休業Ⅰ"]
[null,14,{"$f":"IF(VLOOKUP(B19,設定!$K$4:$P$43,$BL$16+2,0)=0,\"\",VLOOKUP(B19,設定!$K$4:$P$43,$BL$16+2,0))","v":""},null,null,null,null,null,null,null,null,null,null,null,null,null,null,null,null,null,null,null,null,null,null,null,null,null,null,null,null,null,null,null,null,null,null,null,null,null,null,null,null,null,null,null,null,null,null,null,{"$f":"IF(設定!B20=\"\",\"\",設定!B20)","v":"2021-11-03"},{"$f":"IF(設定!C20=\"\",\"\",設定!C20)","v":"文化の日"},16,null,null,null,null,null,null,null,0,null,"やや広く",null,null,"名称"]
[null,15,{"$f":"IF(VLOOKUP(B20,設定!$K$4:$P$43,$BL$16+2,0)=0,\"\",VLOOKUP(B20,設定!$K$4:$P$43,$BL$16+2,0))","v":""},null,null,null,null,null,null,null,null,null,null,null,null,null,null,null,null,null,null,null,null,null,null,null,null,null,null,null,null,null,null,null,null,null,null,null,null,null,null,null,null,null,null,null,null,null,null,null,{"$f":"IF(設定!B21=\"\",\"\",設定!B21)","v":"2021-11-23"},{"$f":"IF(設定!C21=\"\",\"\",設定!C21)","v":"勤労感謝の日"},17,null,null,null,null,null,null,null,0,null,"※長期休業の文字間隔を調節します。祝日との文字の重なりを回避することができます。",null,null,"開始日"]
[null,16,{"$f":"IF(VLOOKUP(B21,設定!$K$4:$P$43,$BL$16+2,0)=0,\"\",VLOOKUP(B21,設定!$K$4:$P$43,$BL$16+2,0))","v":""},null,null,null,null,null,null,null,null,null,null,null,null,null,null,null,null,null,null,null,null,null,null,null,null,null,null,null,null,null,null,null,null,null,null,null,null,null,null,null,null,null,null,null,null,null,null,null,{"$f":"IF(設定!B22=\"\",\"\",設定!B22)","v":"2022-01-01"},{"$f":"IF(設定!C22=\"\",\"\",設定!C22)","v":"元　　日"},18,null,null,null,null,null,null,null,0,null,null,null,null,"終了日"]
[null,17,{"$f":"IF(VLOOKUP(B22,設定!$K$4:$P$43,$BL$16+2,0)=0,\"\",VLOOKUP(B22,設定!$K$4:$P$43,$BL$16+2,0))","v":""},null,null,null,null,null,null,null,null,null,null,null,null,null,null,null,null,null,null,null,null,null,null,null,null,null,null,null,null,null,null,null,null,null,null,null,null,null,null,null,null,null,null,null,null,null,null,null,{"$f":"IF(設定!B23=\"\",\"\",設定!B23)","v":"2022-01-10"},{"$f":"IF(設定!C23=\"\",\"\",設定!C23)","v":"成人の日"},19,null,null,null,null,null,null,null,0,null,null,null,null,"◆長期休業Ⅱ"]
[null,18,{"$f":"IF(VLOOKUP(B23,設定!$K$4:$P$43,$BL$16+2,0)=0,\"\",VLOOKUP(B23,設定!$K$4:$P$43,$BL$16+2,0))","v":""},null,null,null,null,null,null,null,null,null,null,null,null,null,null,null,null,null,null,null,null,null,null,null,null,null,null,null,null,null,null,null,null,null,null,null,null,null,null,null,null,null,null,null,null,null,null,null,{"$f":"IF(設定!B24=\"\",\"\",設定!B24)","v":"2022-02-11"},{"$f":"IF(設定!C24=\"\",\"\",設定!C24)","v":"建国記念の日"},20,null,null,null,null,null,null,null,0,null,null,null,null,"名称"]
[null,19,{"$f":"IF(VLOOKUP(B24,設定!$K$4:$P$43,$BL$16+2,0)=0,\"\",VLOOKUP(B24,設定!$K$4:$P$43,$BL$16+2,0))","v":""},null,null,null,null,null,null,null,null,null,null,null,null,null,null,null,null,null,null,null,null,null,null,null,null,null,null,null,null,null,null,null,null,null,null,null,null,null,null,null,null,null,null,null,null,null,null,null,{"$f":"IF(設定!B25=\"\",\"\",設定!B25)","v":"2022-02-23"},{"$f":"IF(設定!C25=\"\",\"\",設定!C25)","v":"天皇誕生日"},21,null,null,null,null,null,null,null,0,null,"◆各処理にて再計算",null,null,"開始日"]
[null,20,{"$f":"IF(VLOOKUP(B25,設定!$K$4:$P$43,$BL$16+2,0)=0,\"\",VLOOKUP(B25,設定!$K$4:$P$43,$BL$16+2,0))","v":""},null,null,null,null,null,null,null,null,null,null,null,null,null,null,null,null,null,null,null,null,null,null,null,null,null,null,null,null,null,null,null,null,null,null,null,null,null,null,null,null,null,null,null,null,null,null,null,{"$f":"IF(設定!B26=\"\",\"\",設定!B26)","v":"2022-03-19"},{"$f":"IF(設定!C26=\"\",\"\",設定!C26)","v":"春分の日"},22,null,null,null,null,null,null,null,0,null,"児童生徒数",{"$f":"AY45","v":4},null,"終了日"]
[null,null,null,null,null,null,null,null,null,null,null,null,null,null,null,null,null,null,null,null,null,null,null,null,null,null,null,null,null,null,null,null,null,null,null,null,null,null,null,null,null,null,null,null,null,null,null,null,null,null,{"$f":"IF(設定!B27=\"\",\"\",設定!B27)","v":""},{"$f":"IF(設定!C27=\"\",\"\",設定!C27)","v":""},23,null,null,null,null,null,null,null,0,null,"授業日数",{"$f":"IF(AY46=\"\",\"\",AY46)","v":""},null,"◆長期休業Ⅲ"]
[null,null,null,null,null,null,null,1,2,3,4,5,6,7,8,9,10,11,12,13,14,15,16,17,18,19,20,21,22,23,24,25,26,27,28,29,30,31,null,null,null,null,null,null,null,null,null,null,null,null,{"$f":"IF(設定!B28=\"\",\"\",設定!B28)","v":""},{"$f":"IF(設定!C28=\"\",\"\",設定!C28)","v":""},24,null,null,null,null,null,null,null,0,null,"出席者数",22,null,"名称"]
["その他教育上特に必要と認めた日タ",21,{"$f":"IF(VLOOKUP(B28,設定!$K$4:$P$43,$BL$16+2,0)=0,\"\",VLOOKUP(B28,設定!$K$4:$P$43,$BL$16+2,0))","v":""},null,null,null,null,null,null,null,null,null,null,null,null,null,null,null,null,null,null,null,null,null,null,null,null,null,null,null,null,null,null,null,null,null,null,null,null,null,null,null,null,null,null,null,null,null,null,null,{"$f":"IF(設定!B29=\"\",\"\",設定!B29)","v":""},{"$f":"IF(設定!C29=\"\",\"\",設定!C29)","v":""},25,null,null,null,null,null,null,null,0,null,"全欠席者数",0,null,"開始日"]
[null,22,{"$f":"IF(VLOOKUP(B29,設定!$K$4:$P$43,$BL$16+2,0)=0,\"\",VLOOKUP(B29,設定!$K$4:$P$43,$BL$16+2,0))","v":""},null,null,null,null,null,null,null,null,null,null,null,null,null,null,null,null,null,null,null,null,null,null,null,null,null,null,null,null,null,null,null,null,null,null,null,null,null,null,null,null,null,null,null,null,null,null,null,{"$f":"IF(設定!B30=\"\",\"\",設定!B30)","v":""},{"$f":"IF(設定!C30=\"\",\"\",設定!C30)","v":""},26,null,null,null,null,null,null,null,0,null,"転入学者数",0,null,"終了日"]
[null,23,{"$f":"IF(VLOOKUP(B30,設定!$K$4:$P$43,$BL$16+2,0)=0,\"\",VLOOKUP(B30,設定!$K$4:$P$43,$BL$16+2,0))","v":""},null,null,null,null,null,null,null,null,null,null,null,null,null,null,null,null,null,null,null,null,null,null,null,null,null,null,null,null,null,null,null,null,null,null,null,null,null,null,null,null,null,null,null,null,null,null,null,{"$f":"IF(設定!B31=\"\",\"\",設定!B31)","v":""},{"$f":"IF(設定!C31=\"\",\"\",設定!C31)","v":""},27,null,null,null,null,null,null,null,0,null,"転学退学者数",0]
[null,24,{"$f":"IF(VLOOKUP(B31,設定!$K$4:$P$43,$BL$16+2,0)=0,\"\",VLOOKUP(B31,設定!$K$4:$P$43,$BL$16+2,0))","v":""},null,null,null,null,null,null,null,null,null,null,null,null,null,null,null,null,null,null,null,null,null,null,null,null,null,null,null,null,null,null,null,null,null,null,null,null,null,null,null,null,null,null,null,null,null,null,null,{"$f":"IF(設定!B32=\"\",\"\",設定!B32)","v":""},{"$f":"IF(設定!C32=\"\",\"\",設定!C32)","v":""},28,null,null,null,null,null,null,null,0]
[null,25,{"$f":"IF(VLOOKUP(B32,設定!$K$4:$P$43,$BL$16+2,0)=0,\"\",VLOOKUP(B32,設定!$K$4:$P$43,$BL$16+2,0))","v":""},null,null,null,null,null,null,null,null,null,null,null,null,null,null,null,null,null,null,null,null,null,null,null,null,null,null,null,null,null,null,null,null,null,null,null,null,null,null,null,null,null,null,null,null,null,null,null,{"$f":"IF(設定!B33=\"\",\"\",設定!B33)","v":""},{"$f":"IF(設定!C33=\"\",\"\",設定!C33)","v":""},29,null,null,null,null,null,null,null,0,null,"◆入力記号"]
[null,26,{"$f":"IF(VLOOKUP(B33,設定!$K$4:$P$43,$BL$16+2,0)=0,\"\",VLOOKUP(B33,設定!$K$4:$P$43,$BL$16+2,0))","v":""},null,null,null,null,null,null,null,null,null,null,null,null,null,null,null,null,null,null,null,null,null,null,null,null,null,null,null,null,null,null,null,null,null,null,null,null,null,null,null,null,null,null,null,null,null,null,null,{"$f":"IF(設定!B34=\"\",\"\",設定!B34)","v":""},{"$f":"IF(設定!C34=\"\",\"\",設定!C34)","v":""},30,null,null,null,null,null,null,null,0,null,"病欠","／"]
[null,27,{"$f":"IF(VLOOKUP(B34,設定!$K$4:$P$43,$BL$16+2,0)=0,\"\",VLOOKUP(B34,設定!$K$4:$P$43,$BL$16+2,0))","v":""},null,null,null,null,null,null,null,null,null,null,null,null,null,null,null,null,null,null,null,null,null,null,null,null,null,null,null,null,null,null,null,null,null,null,null,null,null,null,null,null,null,null,null,null,null,null,null,{"$f":"IF(設定!B35=\"\",\"\",設定!B35)","v":""},{"$f":"IF(設定!C35=\"\",\"\",設定!C35)","v":""},31,null,null,null,null,null,null,null,0,null,"事故欠","〃"]
[null,28,{"$f":"IF(VLOOKUP(B35,設定!$K$4:$P$43,$BL$16+2,0)=0,\"\",VLOOKUP(B35,設定!$K$4:$P$43,$BL$16+2,0))","v":""},null,null,null,null,null,null,null,null,null,null,null,null,null,null,null,null,null,null,null,null,null,null,null,null,null,null,null,null,null,null,null,null,null,null,null,null,null,null,null,null,null,null,null,null,null,null,null,{"$f":"IF(設定!B36=\"\",\"\",設定!B36)","v":""},{"$f":"IF(設定!C36=\"\",\"\",設定!C36)","v":""},null,null,null,null,null,null,null,null,null,null,"遅刻","×"]
[null,29,{"$f":"IF(VLOOKUP(B36,設定!$K$4:$P$43,$BL$16+2,0)=0,\"\",VLOOKUP(B36,設定!$K$4:$P$43,$BL$16+2,0))","v":""},null,null,null,null,null,null,null,null,null,null,null,null,null,null,null,null,null,null,null,null,null,null,null,null,null,null,null,null,null,null,null,null,null,null,null,null,null,null,null,null,null,null,null,null,null,null,null,{"$f":"IF(設定!B37=\"\",\"\",設定!B37)","v":""},{"$f":"IF(設定!C37=\"\",\"\",設定!C37)","v":""},null,30,"data(tu)　その月の日数",null,null,null,null,null,null,null,"早退","○"]
[null,30,{"$f":"IF(VLOOKUP(B37,設定!$K$4:$P$43,$BL$16+2,0)=0,\"\",VLOOKUP(B37,設定!$K$4:$P$43,$BL$16+2,0))","v":""},null,null,null,null,null,null,null,null,null,null,null,null,null,null,null,null,null,null,null,null,null,null,null,null,null,null,null,null,null,null,null,null,null,null,null,null,null,null,null,null,null,null,null,null,null,null,null,{"$f":"IF(設定!B38=\"\",\"\",設定!B38)","v":""},{"$f":"IF(設定!C38=\"\",\"\",設定!C38)","v":""},null,7,"hi　月の長期休業の日数",null,null,null,null,null,null,null,"遅刻・早退","×○"]
[null,31,{"$f":"IF(VLOOKUP(B38,設定!$K$4:$P$43,$BL$16+2,0)=0,\"\",VLOOKUP(B38,設定!$K$4:$P$43,$BL$16+2,0))","v":""},null,null,null,null,null,null,null,null,null,null,null,null,null,null,null,null,null,null,null,null,null,null,null,null,null,null,null,null,null,null,null,null,null,null,null,null,null,null,null,null,null,null,null,null,null,null,null,{"$f":"IF(設定!B39=\"\",\"\",設定!B39)","v":""},{"$f":"IF(設定!C39=\"\",\"\",設定!C39)","v":""},null,1,"hj　月の祝日の日数",null,null,null,null,null,null,null,"忌引","キ"]
[null,32,{"$f":"IF(VLOOKUP(B39,設定!$K$4:$P$43,$BL$16+2,0)=0,\"\",VLOOKUP(B39,設定!$K$4:$P$43,$BL$16+2,0))","v":""},null,null,null,null,null,null,null,null,null,null,null,null,null,null,null,null,null,null,null,null,null,null,null,null,null,null,null,null,null,null,null,null,null,null,null,null,null,null,null,null,null,null,null,null,null,null,null,{"$f":"IF(設定!B40=\"\",\"\",設定!B40)","v":""},{"$f":"IF(設定!C40=\"\",\"\",設定!C40)","v":""},null,6,"hk　月の祝日ではない土日の数",null,null,null,null,null,null,null,"出席停止","テ"]
[null,33,{"$f":"IF(VLOOKUP(B40,設定!$K$4:$P$43,$BL$16+2,0)=0,\"\",VLOOKUP(B40,設定!$K$4:$P$43,$BL$16+2,0))","v":""},null,null,null,null,null,null,null,null,null,null,null,null,null,null,null,null,null,null,null,null,null,null,null,null,null,null,null,null,null,null,null,null,null,null,null,null,null,null,null,null,null,null,null,null,null,null,null,{"$f":"IF(設定!B41=\"\",\"\",設定!B41)","v":""},{"$f":"IF(設定!C41=\"\",\"\",設定!C41)","v":""},null,0,"hl　長期休業で祝日と重複する数",null,null,null,null,null,null,null,"その他","タ"]
[null,34,{"$f":"IF(VLOOKUP(B41,設定!$K$4:$P$43,$BL$16+2,0)=0,\"\",VLOOKUP(B41,設定!$K$4:$P$43,$BL$16+2,0))","v":""},null,null,null,null,null,null,null,null,null,null,null,null,null,null,null,null,null,null,null,null,null,null,null,null,null,null,null,null,null,null,null,null,null,null,null,null,null,null,null,null,null,null,null,null,null,null,null,{"$f":"IF(設定!B42=\"\",\"\",設定!B42)","v":""},{"$f":"IF(設定!C42=\"\",\"\",設定!C42)","v":""},null,0,"so　卒業式後の日数",null,null,null,null,null,null,null,"転手転確転入","◎"]
[null,35,{"$f":"IF(VLOOKUP(B42,設定!$K$4:$P$43,$BL$16+2,0)=0,\"\",VLOOKUP(B42,設定!$K$4:$P$43,$BL$16+2,0))","v":""},null,null,null,null,null,null,null,null,null,null,null,null,null,null,null,null,null,null,null,null,null,null,null,null,null,null,null,null,null,null,null,null,null,null,null,null,null,null,null,null,null,null,null,null,null,null,null,{"$f":"IF(設定!B43=\"\",\"\",設定!B43)","v":""},{"$f":"IF(設定!C43=\"\",\"\",設定!C43)","v":""},null,0,"gh　学級閉鎖の日数"]
[null,36,{"$f":"IF(VLOOKUP(B43,設定!$K$4:$P$43,$BL$16+2,0)=0,\"\",VLOOKUP(B43,設定!$K$4:$P$43,$BL$16+2,0))","v":""},null,null,null,null,null,null,null,null,null,null,null,null,null,null,null,null,null,null,null,null,null,null,null,null,null,null,null,null,null,null,null,null,null,null,null,null,null,null,null,null,null,null,null,null,null,null,null,{"$f":"IF(設定!B44=\"\",\"\",設定!B44)","v":""},{"$f":"IF(設定!C44=\"\",\"\",設定!C44)","v":""},null,null,null,null,null,null,null,null,null,null,"※転出入については、集計欄の自動計算には対応していません。「月末処理」の後、手動にて修正をしてください。"]
[null,37,{"$f":"IF(VLOOKUP(B44,設定!$K$4:$P$43,$BL$16+2,0)=0,\"\",VLOOKUP(B44,設定!$K$4:$P$43,$BL$16+2,0))","v":""}]
[null,38,{"$f":"IF(VLOOKUP(B45,設定!$K$4:$P$43,$BL$16+2,0)=0,\"\",VLOOKUP(B45,設定!$K$4:$P$43,$BL$16+2,0))","v":""},null,null,null,null,null,null,null,null,null,null,null,null,null,null,null,null,null,null,null,null,null,null,null,null,null,null,null,null,null,null,null,null,null,null,null,null,null,null,null,null,null,null,null,null,null,null,"児童生徒数",{"$f":"40-BB45-BC45","v":4},null,null,{"$f":"COUNTIF(C6:C25,\"\")","v":16},{"$f":"COUNTIF(C28:C47,\"\")","v":20},"児童生徒欄の空白セル"]
[null,39,{"$f":"IF(VLOOKUP(B46,設定!$K$4:$P$43,$BL$16+2,0)=0,\"\",VLOOKUP(B46,設定!$K$4:$P$43,$BL$16+2,0))","v":""},null,null,null,null,null,null,null,null,null,null,null,null,null,null,null,null,null,null,null,null,null,null,null,null,null,null,null,null,null,null,null,null,null,null,null,null,null,null,null,null,null,null,null,null,null,null,"授業日数",null,"←月始め処理で授業日数が入力される"]
[null,40,{"$f":"IF(VLOOKUP(B47,設定!$K$4:$P$43,$BL$16+2,0)=0,\"\",VLOOKUP(B47,設定!$K$4:$P$43,$BL$16+2,0))","v":""},null,null,null,null,null,null,null,null,null,null,null,null,null,null,null,null,null,null,null,null,null,null,null,null,null,null,null,null,null,null,null,null,null,null,null,null,null,null,null,null,null,null,null,null,null,null,"出席者数",22,"←月末処理で入力される",null,"出席日数0のカウント"]
[null,"計","出  席  者  数",null,null,null,null,null,null,null,null,null,null,null,null,null,null,null,null,null,null,null,null,null,null,null,null,null,null,null,null,null,null,null,null,null,null,null,null,null,null,null,null,null,null,null,null,null,null,"全欠席者数",{"$f":"SUM(BH53:BH92)","v":0},"←月末処理で入力される",null,{"$f":"COUNTIF(AV6:AV25,0)","v":0},{"$f":"COUNTIF(AV28:AV47,0)","v":0},{"$f":"BB48+BC48","v":0}]
[null,null,"欠  席  者  数",null,null,null,null,null,null,null,null,null,null,null,null,null,null,null,null,null,null,null,null,null,null,null,null,null,null,null,null,null,null,null,null,null,null,null,null,null,null,null,null,null,null,null,null,null,null,"転入学者数",0,"←月末処理で入力される"]
[null,"授業","日数",null,null,null,null,"在籍","者数",null,null,null,null,null,null,"出席","者数",null,null,null,null,null,null,"全欠席","者　数",null,null,null,null,null,null,null,"転入学","者　数",null,null,null,null,null,"転学退",null,"学者数",null,null,null,null,null,null,null,"転学退学者数",0,"←月末処理で入力される"]
[]
[null,null,null,null,null,null,null,null,null,null,null,null,null,null,null,null,null,null,null,null,null,null,null,null,null,null,null,null,null,null,null,null,null,null,null,null,null,null,null,null,null,null,null,null,null,null,null,null,null,"長期休業間隔",{"$f":"IF(BK19=\"狭く\",9,IF(BK19=\"やや狭く\",8,IF(BK19=\"やや広く\",6,IF(BK19=\"広く\",5,7))))","v":6},null,"長期休業間隔",null,"標準",null,null,null,"全欠処理"]
[null,null,null,null,null,null,null,null,null,null,null,null,null,null,null,null,null,null,null,null,null,null,null,null,null,null,null,null,null,null,null,null,null,null,null,null,null,null,null,null,null,null,null,null,null,null,null,null,null,"長期休業処理",null,null,null,null,"狭く",null,null,null,1,{"$f":"IF(AV6<>\"\",IF(AM6-AR6-AS6=0,1,0),0)","v":0}]
[null,null,null,null,null,null,null,null,null,null,null,null,null,null,null,null,null,null,null,null,null,null,null,null,null,null,null,null,null,null,null,null,null,null,null,null,null,null,null,null,null,null,null,null,null,null,null,null,null,"長期休業Ⅰ",{"$f":"BO19","v":0},null,null,null,"やや狭く",null,null,null,2,{"$f":"IF(AV7<>\"\",IF(AM7-AR7-AS7=0,1,0),0)","v":0}]
[null,null,null,null,null,null,null,null,null,null,null,null,null,null,null,null,null,null,null,null,null,null,null,null,null,null,null,null,null,null,null,null,null,null,null,null,null,null,null,null,null,null,null,null,null,null,null,null,null,null,{"$f":"BO20","v":0},null,null,null,"やや広く",null,null,null,3,0]
[null,null,null,null,null,null,null,null,null,null,null,null,null,null,null,null,null,null,null,null,null,null,null,null,null,null,null,null,null,null,null,null,null,null,null,null,null,null,null,null,null,null,null,null,null,null,null,null,null,null,{"$f":"BO21","v":0},null,null,null,{"$f":"IF(F3=4,\"\",IF(F3=3,\"\",\"広く\"))","v":""},null,null,null,4,0]
[null,null,null,null,null,null,null,null,null,null,null,null,null,null,null,null,null,null,null,null,null,null,null,null,null,null,null,null,null,null,null,null,null,null,null,null,null,null,null,null,null,null,null,null,null,null,null,null,null,"長期休業Ⅱ",{"$f":"BO23","v":0},null,null,null,null,null,null,null,5,0]
[null,null,null,null,null,null,null,null,null,null,null,null,null,null,null,null,null,null,null,null,null,null,null,null,null,null,null,null,null,null,null,null,null,null,null,null,null,null,null,null,null,null,null,null,null,null,null,null,null,null,{"$f":"BO24","v":0},null,null,null,null,null,null,null,6,0]
[null,null,null,null,null,null,null,null,null,null,null,null,null,null,null,null,null,null,null,null,null,null,null,null,null,null,null,null,null,null,null,null,null,null,null,null,null,null,null,null,null,null,null,null,null,null,null,null,null,null,{"$f":"BO25","v":0},null,null,null,null,null,null,null,7,0]
[null,null,null,null,null,null,null,null,null,null,null,null,null,null,null,null,null,null,null,null,null,null,null,null,null,null,null,null,null,null,null,null,null,null,null,null,null,null,null,null,null,null,null,null,null,null,null,null,null,"長期休業Ⅲ",{"$f":"BO27","v":0},null,null,null,null,null,null,null,8,0]
[null,null,null,null,null,null,null,null,null,null,null,null,null,null,null,null,null,null,null,null,null,null,null,null,null,null,null,null,null,null,null,null,null,null,null,null,null,null,null,null,null,null,null,null,null,null,null,null,null,null,{"$f":"BO28","v":0},null,null,null,null,null,null,null,9,0]
[null,null,null,null,null,null,null,null,null,null,null,null,null,null,null,null,null,null,null,null,null,null,null,null,null,null,null,null,null,null,null,null,null,null,null,null,null,null,null,null,null,null,null,null,null,null,null,null,null,null,{"$f":"BO29","v":0},null,null,null,null,null,null,null,10,0]
[null,null,null,null,null,null,null,null,null,null,null,null,null,null,null,null,null,null,null,null,null,null,null,null,null,null,null,null,null,null,null,null,null,null,null,null,null,null,null,null,null,null,null,null,null,null,null,null,null,null,{"$f":"MAX(AY55,AY58,AY61)","v":0},null,null,null,null,null,null,null,11,0]
[null,null,null,null,null,null,null,null,null,null,null,null,null,null,null,null,null,null,null,null,null,null,null,null,null,null,null,null,null,null,null,null,null,null,null,null,null,null,null,null,null,null,null,null,null,null,null,null,null,null,null,null,null,null,null,null,null,null,12,0]
[null,null,null,null,null,null,null,null,null,null,null,null,null,null,null,null,null,null,null,null,null,null,null,null,null,null,null,null,null,null,null,null,null,null,null,null,null,null,null,null,null,null,null,null,null,null,null,null,null,null,null,null,null,null,null,null,null,null,13,0]
[null,null,null,null,null,null,null,null,null,null,null,null,null,null,null,null,null,null,null,null,null,null,null,null,null,null,null,null,null,null,null,null,null,null,null,null,null,null,null,null,null,null,null,null,null,null,null,null,null,null,null,null,null,null,null,null,null,null,14,0]
[null,null,null,null,null,null,null,null,null,null,null,null,null,null,null,null,null,null,null,null,null,null,null,null,null,null,null,null,null,null,null,null,null,null,null,null,null,null,null,null,null,null,null,null,null,null,null,null,null,null,null,null,null,null,null,null,null,null,15,0]
[null,null,null,null,null,null,null,null,null,null,null,null,null,null,null,null,null,null,null,null,null,null,null,null,null,null,null,null,null,null,null,null,null,null,null,null,null,null,null,null,null,null,null,null,null,null,null,null,null,null,null,null,null,null,null,null,null,null,16,0]
[null,null,null,null,null,null,null,null,null,null,null,null,null,null,null,null,null,null,null,null,null,null,null,null,null,null,null,null,null,null,null,null,null,null,null,null,null,null,null,null,null,null,null,null,null,null,null,null,null,"入力規則","／",null,null,null,null,null,null,null,17,0]
[null,null,null,null,null,null,null,null,null,null,null,null,null,null,null,null,null,null,null,null,null,null,null,null,null,null,null,null,null,null,null,null,null,null,null,null,null,null,null,null,null,null,null,null,null,null,null,null,null,null,"〃",null,null,null,null,null,null,null,18,0]
[null,null,null,null,null,null,null,null,null,null,null,null,null,null,null,null,null,null,null,null,null,null,null,null,null,null,null,null,null,null,null,null,null,null,null,null,null,null,null,null,null,null,null,null,null,null,null,null,null,null,"×",null,null,null,null,null,null,null,19,0]
[null,null,null,null,null,null,null,null,null,null,null,null,null,null,null,null,null,null,null,null,null,null,null,null,null,null,null,null,null,null,null,null,null,null,null,null,null,null,null,null,null,null,null,null,null,null,null,null,null,null,"○",null,null,null,null,null,null,null,20,0]
[null,null,null,null,null,null,null,null,null,null,null,null,null,null,null,null,null,null,null,null,null,null,null,null,null,null,null,null,null,null,null,null,null,null,null,null,null,null,null,null,null,null,null,null,null,null,null,null,null,null,"×○",null,null,null,null,null,null,null,21,{"$f":"IF(AV28<>\"\",IF(AM28-AR28-AS28=0,1,0),0)","v":0}]
[null,null,null,null,null,null,null,null,null,null,null,null,null,null,null,null,null,null,null,null,null,null,null,null,null,null,null,null,null,null,null,null,null,null,null,null,null,null,null,null,null,null,null,null,null,null,null,null,null,null,"キ",null,null,null,null,null,null,null,22,{"$f":"IF(AV29<>\"\",IF(AM29-AR29-AS29=0,1,0),0)","v":0}]
[null,null,null,null,null,null,null,null,null,null,null,null,null,null,null,null,null,null,null,null,null,null,null,null,null,null,null,null,null,null,null,null,null,null,null,null,null,null,null,null,null,null,null,null,null,null,null,null,null,null,"テ",null,null,null,null,null,null,null,23,0]
[null,null,null,null,null,null,null,null,null,null,null,null,null,null,null,null,null,null,null,null,null,null,null,null,null,null,null,null,null,null,null,null,null,null,null,null,null,null,null,null,null,null,null,null,null,null,null,null,null,null,"タ",null,null,null,null,null,null,null,24,0]
[null,null,null,null,null,null,null,null,null,null,null,null,null,null,null,null,null,null,null,null,null,null,null,null,null,null,null,null,null,null,null,null,null,null,null,null,null,null,null,null,null,null,null,null,null,null,null,null,null,null,"◎",null,null,null,null,null,null,null,25,0]
[null,null,null,null,null,null,null,null,null,null,null,null,null,null,null,null,null,null,null,null,null,null,null,null,null,null,null,null,null,null,null,null,null,null,null,null,null,null,null,null,null,null,null,null,null,null,null,null,null,null,null,null,null,null,null,null,null,null,26,0]
[null,null,null,null,null,null,null,null,null,null,null,null,null,null,null,null,null,null,null,null,null,null,null,null,null,null,null,null,null,null,null,null,null,null,null,null,null,null,null,null,null,null,null,null,null,null,null,null,null,null,null,null,null,null,null,null,null,null,27,0]
[null,null,null,null,null,null,null,null,null,null,null,null,null,null,null,null,null,null,null,null,null,null,null,null,null,null,null,null,null,null,null,null,null,null,null,null,null,null,null,null,null,null,null,null,null,null,null,null,null,null,null,null,null,null,null,null,null,null,28,0]
[null,null,null,null,null,null,null,null,null,null,null,null,null,null,null,null,null,null,null,null,null,null,null,null,null,null,null,null,null,null,null,null,null,null,null,null,null,null,null,null,null,null,null,null,null,null,null,null,null,null,null,null,null,null,null,null,null,null,29,0]
[null,null,null,null,null,null,null,null,null,null,null,null,null,null,null,null,null,null,null,null,null,null,null,null,null,null,null,null,null,null,null,null,null,null,null,null,null,null,null,null,null,null,null,null,null,null,null,null,null,null,null,null,null,null,null,null,null,null,30,0]
[null,null,null,null,null,null,null,null,null,null,null,null,null,null,null,null,null,null,null,null,null,null,null,null,null,null,null,null,null,null,null,null,null,null,null,null,null,null,null,null,null,null,null,null,null,null,null,null,null,null,null,null,null,null,null,null,null,null,31,0]
[null,null,null,null,null,null,null,null,null,null,null,null,null,null,null,null,null,null,null,null,null,null,null,null,null,null,null,null,null,null,null,null,null,null,null,null,null,null,null,null,null,null,null,null,null,null,null,null,null,"追加休業","臨時休業",null,null,null,null,null,null,null,32,0]
[null,null,null,null,null,null,null,null,null,null,null,null,null,null,null,null,null,null,null,null,null,null,null,null,null,null,null,null,null,null,null,null,null,null,null,null,null,null,null,null,null,null,null,null,null,null,null,null,null,null,"学年閉鎖",null,null,null,null,null,null,null,33,0]
[null,null,null,null,null,null,null,null,null,null,null,null,null,null,null,null,null,null,null,null,null,null,null,null,null,null,null,null,null,null,null,null,null,null,null,null,null,null,null,null,null,null,null,null,null,null,null,null,null,null,"学級閉鎖",null,null,null,null,null,null,null,34,0]
[null,null,null,null,null,null,null,null,null,null,null,null,null,null,null,null,null,null,null,null,null,null,null,null,null,null,null,null,null,null,null,null,null,null,null,null,null,null,null,null,null,null,null,null,null,null,null,null,null,null,null,null,null,null,null,null,null,null,35,0]
[null,null,null,null,null,null,null,null,null,null,null,null,null,null,null,null,null,null,null,null,null,null,null,null,null,null,null,null,null,null,null,null,null,null,null,null,null,null,null,null,null,null,null,null,null,null,null,null,null,null,null,null,null,null,null,null,null,null,36,0]
[null,null,null,null,null,null,null,null,null,null,null,null,null,null,null,null,null,null,null,null,null,null,null,null,null,null,null,null,null,null,null,null,null,null,null,null,null,null,null,null,null,null,null,null,null,null,null,null,null,null,null,null,null,null,null,null,null,null,37,0]
[null,null,null,null,null,null,null,null,null,null,null,null,null,null,null,null,null,null,null,null,null,null,null,null,null,null,null,null,null,null,null,null,null,null,null,null,null,null,null,null,null,null,null,null,null,null,null,null,null,"長期休業","学年始休業",null,null,null,null,null,null,null,38,0]
[null,null,null,null,null,null,null,null,null,null,null,null,null,null,null,null,null,null,null,null,null,null,null,null,null,null,null,null,null,null,null,null,null,null,null,null,null,null,null,null,null,null,null,null,null,null,null,null,null,null,"夏季休業",null,null,null,null,null,null,null,39,0]
[null,null,null,null,null,null,null,null,null,null,null,null,null,null,null,null,null,null,null,null,null,null,null,null,null,null,null,null,null,null,null,null,null,null,null,null,null,null,null,null,null,null,null,null,null,null,null,null,null,null,"秋季休業",null,null,null,null,null,null,null,40,{"$f":"IF(AV47<>\"\",IF(AM47-AR47-AS47=0,1,0),0)","v":0}]
[null,null,null,null,null,null,null,null,null,null,null,null,null,null,null,null,null,null,null,null,null,null,null,null,null,null,null,null,null,null,null,null,null,null,null,null,null,null,null,null,null,null,null,null,null,null,null,null,null,null,"冬季休業"]
[null,null,null,null,null,null,null,null,null,null,null,null,null,null,null,null,null,null,null,null,null,null,null,null,null,null,null,null,null,null,null,null,null,null,null,null,null,null,null,null,null,null,null,null,null,null,null,null,null,null,"学年末休業"]
[null,null,null,null,null,null,null,null,null,null,null,null,null,null,null,null,null,null,null,null,null,null,null,null,null,null,null,null,null,null,null,null,null,null,null,null,null,null,null,null,null,null,null,null,null,null,null,null,null,null,"臨時休業"]
[null,null,null,null,null,null,null,null,null,null,null,null,null,null,null,null,null,null,null,null,null,null,null,null,null,null,null,null,null,null,null,null,null,null,null,null,null,null,null,null,null,null,null,null,null,null,null,null,null,null,"学年閉鎖"]

{"sheet":"4月","index":2,"n_rows":96,"n_cols":67,"rows_kept":96,"cut":false,"hidden":false,"merged":[[49,41,49,42],[49,44,49,46],[51,52,51,53],[49,4,49,5],[49,10,49,13],[49,18,49,21],[49,26,49,30],[49,35,49,37],[49,39,49,40],[46,2,46,6],[46,39,46,40],[46,41,46,42],[47,1,48,1],[47,2,47,6],[47,39,47,40],[47,41,47,42],[48,2,48,6],[48,39,48,40],[48,41,48,42],[42,62,45,63],[43,2,43,6],[43,39,43,40],[43,41,43,42],[44,2,44,6],[44,39,44,40],[44,41,44,42],[45,2,45,6],[45,39,45,40],[45,41,45,42],[41,2,41,6],[41,39,41,40],[41,41,41,42],[42,2,42,6],[42,39,42,40],[42,41,42,42],[39,2,39,6],[39,39,39,40],[39,41,39,42],[40,2,40,6],[40,39,40,40],[40,41,40,42],[37,2,37,6],[37,39,37,40],[37,41,37,42],[38,2,38,6],[38,39,38,40],[38,41,38,42],[35,2,35,6],[35,39,35,40],[35,41,35,42],[36,2,36,6],[36,39,36,40],[36,41,36,42],[33,2,33,6],[33,39,33,40],[33,41,33,42],[34,2,34,6],[34,39,34,40],[34,41,34,42],[31,2,31,6],[31,39,31,40],[31,41,31,42],[32,2,32,6],[32,39,32,40],[32,41,32,42],[28,41,28,42],[29,2,29,6],[29,39,29,40],[29,41,29,42],[30,2,30,6],[30,39,30,40],[30,41,30,42],[25,39,25,40],[25,41,25,42],[26,39,26,40],[26,41,26,42],[22,2,22,6],[22,39,22,40],[22,41,22,42],[18,2,18,6],[18,39,18,40],[18,41,18,42],[27,0,37,0],[27,2,27,6],[27,39,27,40],[27,41,27,42],[28,2,28,6],[28,39,28,40],[23,2,23,6],[23,39,23,40],[23,41,23,42],[24,2,24,6],[24,39,24,40],[24,41,24,42],[5,0,24,0],[5,2,5,6],[5,39,5,40],[5,41,5,42],[6,2,6,6],[6,39,6,40],[10,2,10,6],[10,39,10,40],[10,41,10,42],[11,2,11,6],[11,39,11,40],[11,41,11,42],[8,2,8,6],[18,62,18,63],[19,2,19,6],[19,39,19,40],[19,41,19,42],[19,62,21,63],[20,2,20,6],[20,39,20,40],[16,2,16,6],[16,39,16,40],[16,41,16,42],[17,2,17,6],[17,39,17,40],[17,41,17,42],[20,41,20,42],[21,2,21,6],[21,39,21,40],[21,41,21,42],[14,2,14,6],[14,39,14,40],[14,41,14,42],[15,2,15,6],[15,39,15,40],[15,41,15,42],[12,2,12,6],[12,39,12,40],[12,41,12,42],[13,2,13,6],[13,39,13,40],[13,41,13,42],[8,39,8,40],[8,41,8,42],[9,2,9,6],[9,39,9,40],[9,41,9,42],[3,1,4,1],[3,38,4,38],[3,39,4,39],[3,40,4,40],[3,41,4,41],[6,41,6,42],[7,2,7,6],[7,39,7,40],[7,41,7,42],[0,49,0,60],[1,39,1,44],[1,53,1,54],[1,55,1,56],[1,57,1,58],[2,1,2,2],[3,42,4,42],[3,43,4,43],[3,44,4,44],[3,45,4,45],[3,46,4,46],[3,47,4,47],[2,19,2,27],[2,31,2,36],[2,38,2,40],[2,41,2,46],[2,9,2,14]]}
[null,null,null,null,null,null,null,null,null,null,null,null,null,null,null,null,null,null,null,null,null,null,null,null,null,null,null,null,null,null,null,null,null,null,null,null,null,null,null,null,null,null,null,null,null,null,null,null,null,"【注意】 この範囲は、処理のために使用しています。"]
[null,null,null,null,null,null,null,null,null,null,null,null,null,null,null,null,null,null,null,null,null,null,null,null,null,null,null,null,null,null,null,null,null,null,null,null,null,null,null,"校 長 検 印",null,null,null,null,null,null,null,null,null,"処理用セル",null,null,null,"土日",null,"祝日",null,"長期休業",null,"学級閉鎖","赤線"]
[null,{"$f":"設定!C47","v":"令和"},null,{"$f":"IF(F3>3,設定!B49,設定!C49)","v":3},"年",4,"月",null,null,{"$f":"IF(設定!H3=\"\",\"\",設定!H3)","v":"みどり学級"},null,null,null,null,null,null,null,null,null,"出　　席　　簿",null,null,null,null,null,null,null,null,null,null,null,{"$f":"設定!C2&\"学校\"","v":"松岡小学校"},null,null,null,null,null,null,"担任名",null,null,{"$f":"設定!H6","v":"永平寺 太郎"},null,null,null,null,null,null,null,"日にちの合成",{"$f":"IF(D3=\"元\",設定!C48,D3+設定!C48-1)&\"/\"&F3&\"/\"&H4","v":"2021/4/1"},{"$f":"WEEKDAY(AY3)","v":5},"日","(1,?)","(2,?)","(3,?)","(4,?)","(5,?)","(6,?)","(7,?)"]
[null,"番号",null,null,null,null,"日",1,2,3,4,5,6,7,8,9,10,11,12,13,14,15,16,17,18,19,20,21,22,23,24,25,26,27,28,29,30,31,"授業日数","出席停止忌引","等の日数","出席しなければ","ならない日数","病気欠席","事故欠席","遅刻回数","早退回数","出席日数",null,"西暦に変換",{"$f":"DATE(YEAR(AY3),MONTH(AY3),DAY(AY3))","v":"2021-04-01"},{"$f":"YEAR(AY3)","v":2021},1,null,null,null,null,null,null,null,{"$f":"BB4-BC4+BD4-BE4+BF4-BG4","v":0}]
[null,null,null,"氏    名",null,null,"曜日",null,null,null,null,null,null,null,null,null,null,null,null,null,null,null,null,null,null,null,null,null,null,null,null,null,null,null,null,null,null,null,null,null,null,null,null,null,null,null,null,null,null,"曜日決定",{"$f":"TEXT(AY4,\"aaa\")","v":"木"},{"$f":"TEXT(AZ3,\"aaa\")","v":"木"},2,null,null,null,null,null,null,null,{"$f":"BB5-BC5+BD5-BE5+BF5-BG5","v":0}]
["〈記号〉出席空欄　病欠／ 事故欠〃 遅刻× 早退○ 忌引キ 出席停止テ",1,{"$f":"IF(VLOOKUP(B6,設定!$K$4:$P$43,$BL$16+2,0)=0,\"\",VLOOKUP(B6,設定!$K$4:$P$43,$BL$16+2,0))","v":"西郷隆盛　１年"},null,null,null,null,null,null,null,null,null,null,null,null,null,null,null,null,null,null,null,null,null,null,null,null,null,null,null,null,null,null,null,null,null,null,null,null,null,null,null,null,null,null,null,null,null,null,"今月の日数",30,null,3,null,null,null,null,null,null,null,0]
[null,2,{"$f":"IF(VLOOKUP(B7,設定!$K$4:$P$43,$BL$16+2,0)=0,\"\",VLOOKUP(B7,設定!$K$4:$P$43,$BL$16+2,0))","v":"伊達政宗　３年"},null,null,null,null,null,null,null,null,null,null,null,null,null,null,null,null,null,null,null,null,null,null,null,null,null,null,null,null,null,null,null,null,null,null,null,null,null,null,null,null,null,null,null,null,null,null,null,null,null,4,null,null,null,null,null,null,null,0,null,null,null,null,"◆休業追加"]
[null,3,{"$f":"IF(VLOOKUP(B8,設定!$K$4:$P$43,$BL$16+2,0)=0,\"\",VLOOKUP(B8,設定!$K$4:$P$43,$BL$16+2,0))","v":"井伊直弼　５年"},null,null,null,null,null,null,null,null,null,null,null,null,null,null,null,null,null,null,null,null,null,null,null,null,null,null,null,null,null,null,null,null,null,null,null,null,null,null,null,null,null,null,null,null,null,null,null,null,null,5,null,null,null,null,null,null,null,0,null,null,null,null,"名称","日"]
[null,4,{"$f":"IF(VLOOKUP(B9,設定!$K$4:$P$43,$BL$16+2,0)=0,\"\",VLOOKUP(B9,設定!$K$4:$P$43,$BL$16+2,0))","v":"桓武天皇　５年"},null,null,null,null,null,null,null,null,null,null,null,null,null,null,null,null,null,null,null,null,null,null,null,null,null,null,null,null,null,null,null,null,null,null,null,null,null,null,null,null,null,null,null,null,null,null,"祝日",{"$f":"IF(設定!B10=\"\",\"\",設定!B10)","v":"2021-04-29"},{"$f":"IF(設定!C10=\"\",\"\",設定!C10)","v":"昭和の日"},6,null,null,null,null,null,null,null,0,null,null,null,null,"学年閉鎖",20]
[null,5,{"$f":"IF(VLOOKUP(B10,設定!$K$4:$P$43,$BL$16+2,0)=0,\"\",VLOOKUP(B10,設定!$K$4:$P$43,$BL$16+2,0))","v":""},null,null,null,null,null,null,null,null,null,null,null,null,null,null,null,null,null,null,null,null,null,null,null,null,null,null,null,null,null,null,null,null,null,null,null,null,null,null,null,null,null,null,null,null,null,null,null,{"$f":"IF(設定!B11=\"\",\"\",設定!B11)","v":"2021-05-03"},{"$f":"IF(設定!C11=\"\",\"\",設定!C11)","v":"憲法記念日"},7,null,null,null,null,null,null,null,0]
[null,6,{"$f":"IF(VLOOKUP(B11,設定!$K$4:$P$43,$BL$16+2,0)=0,\"\",VLOOKUP(B11,設定!$K$4:$P$43,$BL$16+2,0))","v":""},null,null,null,null,null,null,null,null,null,null,null,null,null,null,null,null,null,null,null,null,null,null,null,null,null,null,null,null,null,null,null,null,null,null,null,null,null,null,null,null,null,null,null,null,null,null,null,{"$f":"IF(設定!B12=\"\",\"\",設定!B12)","v":"2021-05-04"},{"$f":"IF(設定!C12=\"\",\"\",設定!C12)","v":"みどりの日"},8,null,null,null,null,null,null,null,0]
[null,7,{"$f":"IF(VLOOKUP(B12,設定!$K$4:$P$43,$BL$16+2,0)=0,\"\",VLOOKUP(B12,設定!$K$4:$P$43,$BL$16+2,0))","v":""},null,null,null,null,null,null,null,null,null,null,null,null,null,null,null,null,null,null,null,null,null,null,null,null,null,null,null,null,null,null,null,null,null,null,null,null,null,null,null,null,null,null,null,null,null,null,null,{"$f":"IF(設定!B13=\"\",\"\",設定!B13)","v":"2021-05-05"},{"$f":"IF(設定!C13=\"\",\"\",設定!C13)","v":"こどもの日"},9,null,null,null,null,null,null,null,0]
[null,8,{"$f":"IF(VLOOKUP(B13,設定!$K$4:$P$43,$BL$16+2,0)=0,\"\",VLOOKUP(B13,設定!$K$4:$P$43,$BL$16+2,0))","v":""},null,null,null,null,null,null,null,null,null,null,null,null,null,null,null,null,null,null,null,null,null,null,null,null,null,null,null,null,null,null,null,null,null,null,null,null,null,null,null,null,null,null,null,null,null,null,null,{"$f":"IF(設定!B14=\"\",\"\",設定!B14)","v":"2021-07-22"},{"$f":"IF(設定!C14=\"\",\"\",設定!C14)","v":"海の日"},10,null,null,null,null,null,null,null,0]
[null,9,{"$f":"IF(VLOOKUP(B14,設定!$K$4:$P$43,$BL$16+2,0)=0,\"\",VLOOKUP(B14,設定!$K$4:$P$43,$BL$16+2,0))","v":""},null,null,null,null,null,null,null,null,null,null,null,null,null,null,null,null,null,null,null,null,null,null,null,null,null,null,null,null,null,null,null,null,null,null,null,null,null,null,null,null,null,null,null,null,null,null,null,{"$f":"IF(設定!B15=\"\",\"\",設定!B15)","v":"2021-07-23"},{"$f":"IF(設定!C15=\"\",\"\",設定!C15)","v":"スポーツの日"},11,null,null,null,null,null,null,null,0]
[null,10,{"$f":"IF(VLOOKUP(B15,設定!$K$4:$P$43,$BL$16+2,0)=0,\"\",VLOOKUP(B15,設定!$K$4:$P$43,$BL$16+2,0))","v":""},null,null,null,null,null,null,null,null,null,null,null,null,null,null,null,null,null,null,null,null,null,null,null,null,null,null,null,null,null,null,null,null,null,null,null,null,null,null,null,null,null,null,null,null,null,null,null,{"$f":"IF(設定!B16=\"\",\"\",設定!B16)","v":"2021-08-08"},{"$f":"IF(設定!C16=\"\",\"\",設定!C16)","v":"山の日"},12,null,null,null,null,null,null,null,0]
[null,11,{"$f":"IF(VLOOKUP(B16,設定!$K$4:$P$43,$BL$16+2,0)=0,\"\",VLOOKUP(B16,設定!$K$4:$P$43,$BL$16+2,0))","v":""},null,null,null,null,null,null,null,null,null,null,null,null,null,null,null,null,null,null,null,null,null,null,null,null,null,null,null,null,null,null,null,null,null,null,null,null,null,null,null,null,null,null,null,null,null,null,null,{"$f":"IF(設定!B17=\"\",\"\",設定!B17)","v":"2021-08-09"},{"$f":"IF(設定!C17=\"\",\"\",設定!C17)","v":"休　　日"},13,null,null,null,null,null,null,null,0,null,"使用名列",0]
[null,12,{"$f":"IF(VLOOKUP(B17,設定!$K$4:$P$43,$BL$16+2,0)=0,\"\",VLOOKUP(B17,設定!$K$4:$P$43,$BL$16+2,0))","v":""},null,null,null,null,null,null,null,null,null,null,null,null,null,null,null,null,null,null,null,null,null,null,null,null,null,null,null,null,null,null,null,null,null,null,null,null,null,null,null,null,null,null,null,null,null,null,null,{"$f":"IF(設定!B18=\"\",\"\",設定!B18)","v":"2021-09-20"},{"$f":"IF(設定!C18=\"\",\"\",設定!C18)","v":"敬老の日"},14,null,null,null,null,null,null,null,0,null,null,null,null,"※「月始め処理」の前に入力"]
[null,13,{"$f":"IF(VLOOKUP(B18,設定!$K$4:$P$43,$BL$16+2,0)=0,\"\",VLOOKUP(B18,設定!$K$4:$P$43,$BL$16+2,0))","v":""},null,null,null,null,null,null,null,null,null,null,null,null,null,null,null,null,null,null,null,null,null,null,null,null,null,null,null,null,null,null,null,null,null,null,null,null,null,null,null,null,null,null,null,null,null,null,null,{"$f":"IF(設定!B19=\"\",\"\",設定!B19)","v":"2021-09-23"},{"$f":"IF(設定!C19=\"\",\"\",設定!C19)","v":"秋分の日"},15,null,null,null,null,null,null,null,0,null,"◆長期休業の文字間隔",null,null,"◆長期休業Ⅰ"]
[null,14,{"$f":"IF(VLOOKUP(B19,設定!$K$4:$P$43,$BL$16+2,0)=0,\"\",VLOOKUP(B19,設定!$K$4:$P$43,$BL$16+2,0))","v":""},null,null,null,null,null,null,null,null,null,null,null,null,null,null,null,null,null,null,null,null,null,null,null,null,null,null,null,null,null,null,null,null,null,null,null,null,null,null,null,null,null,null,null,null,null,null,null,{"$f":"IF(設定!B20=\"\",\"\",設定!B20)","v":"2021-11-03"},{"$f":"IF(設定!C20=\"\",\"\",設定!C20)","v":"文化の日"},16,null,null,null,null,null,null,null,0,null,"やや広く",null,null,"名称","学年始休業"]
[null,15,{"$f":"IF(VLOOKUP(B20,設定!$K$4:$P$43,$BL$16+2,0)=0,\"\",VLOOKUP(B20,設定!$K$4:$P$43,$BL$16+2,0))","v":""},null,null,null,null,null,null,null,null,null,null,null,null,null,null,null,null,null,null,null,null,null,null,null,null,null,null,null,null,null,null,null,null,null,null,null,null,null,null,null,null,null,null,null,null,null,null,null,{"$f":"IF(設定!B21=\"\",\"\",設定!B21)","v":"2021-11-23"},{"$f":"IF(設定!C21=\"\",\"\",設定!C21)","v":"勤労感謝の日"},17,null,null,null,null,null,null,null,0,null,"※長期休業の文字間隔を調節します。祝日との文字の重なりを回避することができます。",null,null,"開始日",1]
[null,16,{"$f":"IF(VLOOKUP(B21,設定!$K$4:$P$43,$BL$16+2,0)=0,\"\",VLOOKUP(B21,設定!$K$4:$P$43,$BL$16+2,0))","v":""},null,null,null,null,null,null,null,null,null,null,null,null,null,null,null,null,null,null,null,null,null,null,null,null,null,null,null,null,null,null,null,null,null,null,null,null,null,null,null,null,null,null,null,null,null,null,null,{"$f":"IF(設定!B22=\"\",\"\",設定!B22)","v":"2022-01-01"},{"$f":"IF(設定!C22=\"\",\"\",設定!C22)","v":"元　　日"},18,null,null,null,null,null,null,null,0,null,null,null,null,"終了日",7]
[null,17,{"$f":"IF(VLOOKUP(B22,設定!$K$4:$P$43,$BL$16+2,0)=0,\"\",VLOOKUP(B22,設定!$K$4:$P$43,$BL$16+2,0))","v":""},null,null,null,null,null,null,null,null,null,null,null,null,null,null,null,null,null,null,null,null,null,null,null,null,null,null,null,null,null,null,null,null,null,null,null,null,null,null,null,null,null,null,null,null,null,null,null,{"$f":"IF(設定!B23=\"\",\"\",設定!B23)","v":"2022-01-10"},{"$f":"IF(設定!C23=\"\",\"\",設定!C23)","v":"成人の日"},19,null,null,null,null,null,null,null,0,null,null,null,null,"◆長期休業Ⅱ"]
[null,18,{"$f":"IF(VLOOKUP(B23,設定!$K$4:$P$43,$BL$16+2,0)=0,\"\",VLOOKUP(B23,設定!$K$4:$P$43,$BL$16+2,0))","v":""},null,null,null,null,null,null,null,null,null,null,null,null,null,null,null,null,null,null,null,null,null,null,null,null,null,null,null,null,null,null,null,null,null,null,null,null,null,null,null,null,null,null,null,null,null,null,null,{"$f":"IF(設定!B24=\"\",\"\",設定!B24)","v":"2022-02-11"},{"$f":"IF(設定!C24=\"\",\"\",設定!C24)","v":"建国記念の日"},20,null,null,null,null,null,null,null,0,null,null,null,null,"名称"]
[null,19,{"$f":"IF(VLOOKUP(B24,設定!$K$4:$P$43,$BL$16+2,0)=0,\"\",VLOOKUP(B24,設定!$K$4:$P$43,$BL$16+2,0))","v":""},null,null,null,null,null,null,null,null,null,null,null,null,null,null,null,null,null,null,null,null,null,null,null,null,null,null,null,null,null,null,null,null,null,null,null,null,null,null,null,null,null,null,null,null,null,null,null,{"$f":"IF(設定!B25=\"\",\"\",設定!B25)","v":"2022-02-23"},{"$f":"IF(設定!C25=\"\",\"\",設定!C25)","v":"天皇誕生日"},21,null,null,null,null,null,null,null,0,null,"◆各処理にて再計算",null,null,"開始日"]
[null,20,{"$f":"IF(VLOOKUP(B25,設定!$K$4:$P$43,$BL$16+2,0)=0,\"\",VLOOKUP(B25,設定!$K$4:$P$43,$BL$16+2,0))","v":""},null,null,null,null,null,null,null,null,null,null,null,null,null,null,null,null,null,null,null,null,null,null,null,null,null,null,null,null,null,null,null,null,null,null,null,null,null,null,null,null,null,null,null,null,null,null,null,{"$f":"IF(設定!B26=\"\",\"\",設定!B26)","v":"2022-03-19"},{"$f":"IF(設定!C26=\"\",\"\",設定!C26)","v":"春分の日"},22,null,null,null,null,null,null,null,0,null,"児童生徒数",{"$f":"AY45","v":4},null,"終了日"]
[null,null,null,null,null,null,null,null,null,null,null,null,null,null,null,null,null,null,null,null,null,null,null,null,null,null,null,null,null,null,null,null,null,null,null,null,null,null,null,null,null,null,null,null,null,null,null,null,null,null,{"$f":"IF(設定!B27=\"\",\"\",設定!B27)","v":""},{"$f":"IF(設定!C27=\"\",\"\",設定!C27)","v":""},23,null,null,null,null,null,null,null,0,null,"授業日数",{"$f":"IF(AY46=\"\",\"\",AY46)","v":""},null,"◆長期休業Ⅲ"]
[null,null,null,null,null,null,null,1,2,3,4,5,6,7,8,9,10,11,12,13,14,15,16,17,18,19,20,21,22,23,24,25,26,27,28,29,30,31,null,null,null,null,null,null,null,null,null,null,null,null,{"$f":"IF(設定!B28=\"\",\"\",設定!B28)","v":""},{"$f":"IF(設定!C28=\"\",\"\",設定!C28)","v":""},24,null,null,null,null,null,null,null,0,null,"出席者数",0,null,"名称"]
["その他教育上特に必要と認めた日タ",21,{"$f":"IF(VLOOKUP(B28,設定!$K$4:$P$43,$BL$16+2,0)=0,\"\",VLOOKUP(B28,設定!$K$4:$P$43,$BL$16+2,0))","v":""},null,null,null,null,null,null,null,null,null,null,null,null,null,null,null,null,null,null,null,null,null,null,null,null,null,null,null,null,null,null,null,null,null,null,null,null,null,null,null,null,null,null,null,null,null,null,null,{"$f":"IF(設定!B29=\"\",\"\",設定!B29)","v":""},{"$f":"IF(設定!C29=\"\",\"\",設定!C29)","v":""},25,null,null,null,null,null,null,null,0,null,"全欠席者数",0,null,"開始日"]
[null,22,{"$f":"IF(VLOOKUP(B29,設定!$K$4:$P$43,$BL$16+2,0)=0,\"\",VLOOKUP(B29,設定!$K$4:$P$43,$BL$16+2,0))","v":""},null,null,null,null,null,null,null,null,null,null,null,null,null,null,null,null,null,null,null,null,null,null,null,null,null,null,null,null,null,null,null,null,null,null,null,null,null,null,null,null,null,null,null,null,null,null,null,{"$f":"IF(設定!B30=\"\",\"\",設定!B30)","v":""},{"$f":"IF(設定!C30=\"\",\"\",設定!C30)","v":""},26,null,null,null,null,null,null,null,0,null,"転入学者数",0,null,"終了日"]
[null,23,{"$f":"IF(VLOOKUP(B30,設定!$K$4:$P$43,$BL$16+2,0)=0,\"\",VLOOKUP(B30,設定!$K$4:$P$43,$BL$16+2,0))","v":""},null,null,null,null,null,null,null,null,null,null,null,null,null,null,null,null,null,null,null,null,null,null,null,null,null,null,null,null,null,null,null,null,null,null,null,null,null,null,null,null,null,null,null,null,null,null,null,{"$f":"IF(設定!B31=\"\",\"\",設定!B31)","v":""},{"$f":"IF(設定!C31=\"\",\"\",設定!C31)","v":""},27,null,null,null,null,null,null,null,0,null,"転学退学者数",0]
[null,24,{"$f":"IF(VLOOKUP(B31,設定!$K$4:$P$43,$BL$16+2,0)=0,\"\",VLOOKUP(B31,設定!$K$4:$P$43,$BL$16+2,0))","v":""},null,null,null,null,null,null,null,null,null,null,null,null,null,null,null,null,null,null,null,null,null,null,null,null,null,null,null,null,null,null,null,null,null,null,null,null,null,null,null,null,null,null,null,null,null,null,null,{"$f":"IF(設定!B32=\"\",\"\",設定!B32)","v":""},{"$f":"IF(設定!C32=\"\",\"\",設定!C32)","v":""},28,null,null,null,null,null,null,null,0]
[null,25,{"$f":"IF(VLOOKUP(B32,設定!$K$4:$P$43,$BL$16+2,0)=0,\"\",VLOOKUP(B32,設定!$K$4:$P$43,$BL$16+2,0))","v":""},null,null,null,null,null,null,null,null,null,null,null,null,null,null,null,null,null,null,null,null,null,null,null,null,null,null,null,null,null,null,null,null,null,null,null,null,null,null,null,null,null,null,null,null,null,null,null,{"$f":"IF(設定!B33=\"\",\"\",設定!B33)","v":""},{"$f":"IF(設定!C33=\"\",\"\",設定!C33)","v":""},29,null,null,null,null,null,null,null,0,null,"◆入力記号"]
[null,26,{"$f":"IF(VLOOKUP(B33,設定!$K$4:$P$43,$BL$16+2,0)=0,\"\",VLOOKUP(B33,設定!$K$4:$P$43,$BL$16+2,0))","v":""},null,null,null,null,null,null,null,null,null,null,null,null,null,null,null,null,null,null,null,null,null,null,null,null,null,null,null,null,null,null,null,null,null,null,null,null,null,null,null,null,null,null,null,null,null,null,null,{"$f":"IF(設定!B34=\"\",\"\",設定!B34)","v":""},{"$f":"IF(設定!C34=\"\",\"\",設定!C34)","v":""},30,null,null,null,null,null,null,null,0,null,"病欠","／"]
[null,27,{"$f":"IF(VLOOKUP(B34,設定!$K$4:$P$43,$BL$16+2,0)=0,\"\",VLOOKUP(B34,設定!$K$4:$P$43,$BL$16+2,0))","v":""},null,null,null,null,null,null,null,null,null,null,null,null,null,null,null,null,null,null,null,null,null,null,null,null,null,null,null,null,null,null,null,null,null,null,null,null,null,null,null,null,null,null,null,null,null,null,null,{"$f":"IF(設定!B35=\"\",\"\",設定!B35)","v":""},{"$f":"IF(設定!C35=\"\",\"\",設定!C35)","v":""},31,null,null,null,null,null,null,null,0,null,"事故欠","〃"]
[null,28,{"$f":"IF(VLOOKUP(B35,設定!$K$4:$P$43,$BL$16+2,0)=0,\"\",VLOOKUP(B35,設定!$K$4:$P$43,$BL$16+2,0))","v":""},null,null,null,null,null,null,null,null,null,null,null,null,null,null,null,null,null,null,null,null,null,null,null,null,null,null,null,null,null,null,null,null,null,null,null,null,null,null,null,null,null,null,null,null,null,null,null,{"$f":"IF(設定!B36=\"\",\"\",設定!B36)","v":""},{"$f":"IF(設定!C36=\"\",\"\",設定!C36)","v":""},null,null,null,null,null,null,null,null,null,null,"遅刻","×"]
[null,29,{"$f":"IF(VLOOKUP(B36,設定!$K$4:$P$43,$BL$16+2,0)=0,\"\",VLOOKUP(B36,設定!$K$4:$P$43,$BL$16+2,0))","v":""},null,null,null,null,null,null,null,null,null,null,null,null,null,null,null,null,null,null,null,null,null,null,null,null,null,null,null,null,null,null,null,null,null,null,null,null,null,null,null,null,null,null,null,null,null,null,null,{"$f":"IF(設定!B37=\"\",\"\",設定!B37)","v":""},{"$f":"IF(設定!C37=\"\",\"\",設定!C37)","v":""},null,30,"data(tu)　その月の日数",null,null,null,null,null,null,null,"早退","○"]
[null,30,{"$f":"IF(VLOOKUP(B37,設定!$K$4:$P$43,$BL$16+2,0)=0,\"\",VLOOKUP(B37,設定!$K$4:$P$43,$BL$16+2,0))","v":""},null,null,null,null,null,null,null,null,null,null,null,null,null,null,null,null,null,null,null,null,null,null,null,null,null,null,null,null,null,null,null,null,null,null,null,null,null,null,null,null,null,null,null,null,null,null,null,{"$f":"IF(設定!B38=\"\",\"\",設定!B38)","v":""},{"$f":"IF(設定!C38=\"\",\"\",設定!C38)","v":""},null,30,"hi　月の長期休業の日数",null,null,null,null,null,null,null,"遅刻・早退","×○"]
[null,31,{"$f":"IF(VLOOKUP(B38,設定!$K$4:$P$43,$BL$16+2,0)=0,\"\",VLOOKUP(B38,設定!$K$4:$P$43,$BL$16+2,0))","v":""},null,null,null,null,null,null,null,null,null,null,null,null,null,null,null,null,null,null,null,null,null,null,null,null,null,null,null,null,null,null,null,null,null,null,null,null,null,null,null,null,null,null,null,null,null,null,null,{"$f":"IF(設定!B39=\"\",\"\",設定!B39)","v":""},{"$f":"IF(設定!C39=\"\",\"\",設定!C39)","v":""},null,1,"hj　月の祝日の日数",null,null,null,null,null,null,null,"忌引","キ"]
[null,32,{"$f":"IF(VLOOKUP(B39,設定!$K$4:$P$43,$BL$16+2,0)=0,\"\",VLOOKUP(B39,設定!$K$4:$P$43,$BL$16+2,0))","v":""},null,null,null,null,null,null,null,null,null,null,null,null,null,null,null,null,null,null,null,null,null,null,null,null,null,null,null,null,null,null,null,null,null,null,null,null,null,null,null,null,null,null,null,null,null,null,null,{"$f":"IF(設定!B40=\"\",\"\",設定!B40)","v":""},{"$f":"IF(設定!C40=\"\",\"\",設定!C40)","v":""},null,0,"hk　月の祝日ではない土日の数",null,null,null,null,null,null,null,"出席停止","テ"]
[null,33,{"$f":"IF(VLOOKUP(B40,設定!$K$4:$P$43,$BL$16+2,0)=0,\"\",VLOOKUP(B40,設定!$K$4:$P$43,$BL$16+2,0))","v":""},null,null,null,null,null,null,null,null,null,null,null,null,null,null,null,null,null,null,null,null,null,null,null,null,null,null,null,null,null,null,null,null,null,null,null,null,null,null,null,null,null,null,null,null,null,null,null,{"$f":"IF(設定!B41=\"\",\"\",設定!B41)","v":""},{"$f":"IF(設定!C41=\"\",\"\",設定!C41)","v":""},null,1,"hl　長期休業で祝日と重複する数",null,null,null,null,null,null,null,"その他","タ"]
[null,34,{"$f":"IF(VLOOKUP(B41,設定!$K$4:$P$43,$BL$16+2,0)=0,\"\",VLOOKUP(B41,設定!$K$4:$P$43,$BL$16+2,0))","v":""},null,null,null,null,null,null,null,null,null,null,null,null,null,null,null,null,null,null,null,null,null,null,null,null,null,null,null,null,null,null,null,null,null,null,null,null,null,null,null,null,null,null,null,null,null,null,null,{"$f":"IF(設定!B42=\"\",\"\",設定!B42)","v":""},{"$f":"IF(設定!C42=\"\",\"\",設定!C42)","v":""},null,0,"so　卒業式後の日数",null,null,null,null,null,null,null,"転手転確転入","◎"]
[null,35,{"$f":"IF(VLOOKUP(B42,設定!$K$4:$P$43,$BL$16+2,0)=0,\"\",VLOOKUP(B42,設定!$K$4:$P$43,$BL$16+2,0))","v":""},null,null,null,null,null,null,null,null,null,null,null,null,null,null,null,null,null,null,null,null,null,null,null,null,null,null,null,null,null,null,null,null,null,null,null,null,null,null,null,null,null,null,null,null,null,null,null,{"$f":"IF(設定!B43=\"\",\"\",設定!B43)","v":""},{"$f":"IF(設定!C43=\"\",\"\",設定!C43)","v":""},null,0,"gh　学級閉鎖の日数"]
[null,36,{"$f":"IF(VLOOKUP(B43,設定!$K$4:$P$43,$BL$16+2,0)=0,\"\",VLOOKUP(B43,設定!$K$4:$P$43,$BL$16+2,0))","v":""},null,null,null,null,null,null,null,null,null,null,null,null,null,null,null,null,null,null,null,null,null,null,null,null,null,null,null,null,null,null,null,null,null,null,null,null,null,null,null,null,null,null,null,null,null,null,null,{"$f":"IF(設定!B44=\"\",\"\",設定!B44)","v":""},{"$f":"IF(設定!C44=\"\",\"\",設定!C44)","v":""},null,null,null,null,null,null,null,null,null,null,"※転出入については、集計欄の自動計算には対応していません。「月末処理」の後、手動にて修正をしてください。"]
[null,37,{"$f":"IF(VLOOKUP(B44,設定!$K$4:$P$43,$BL$16+2,0)=0,\"\",VLOOKUP(B44,設定!$K$4:$P$43,$BL$16+2,0))","v":""}]
[null,38,{"$f":"IF(VLOOKUP(B45,設定!$K$4:$P$43,$BL$16+2,0)=0,\"\",VLOOKUP(B45,設定!$K$4:$P$43,$BL$16+2,0))","v":""},null,null,null,null,null,null,null,null,null,null,null,null,null,null,null,null,null,null,null,null,null,null,null,null,null,null,null,null,null,null,null,null,null,null,null,null,null,null,null,null,null,null,null,null,null,null,"児童生徒数",{"$f":"40-BB45-BC45","v":4},null,null,{"$f":"COUNTIF(C6:C25,\"\")","v":16},{"$f":"COUNTIF(C28:C47,\"\")","v":20},"児童生徒欄の空白セル"]
[null,39,{"$f":"IF(VLOOKUP(B46,設定!$K$4:$P$43,$BL$16+2,0)=0,\"\",VLOOKUP(B46,設定!$K$4:$P$43,$BL$16+2,0))","v":""},null,null,null,null,null,null,null,null,null,null,null,null,null,null,null,null,null,null,null,null,null,null,null,null,null,null,null,null,null,null,null,null,null,null,null,null,null,null,null,null,null,null,null,null,null,null,"授業日数",null,"←月始め処理で授業日数が入力される"]
[null,40,{"$f":"IF(VLOOKUP(B47,設定!$K$4:$P$43,$BL$16+2,0)=0,\"\",VLOOKUP(B47,設定!$K$4:$P$43,$BL$16+2,0))","v":""},null,null,null,null,null,null,null,null,null,null,null,null,null,null,null,null,null,null,null,null,null,null,null,null,null,null,null,null,null,null,null,null,null,null,null,null,null,null,null,null,null,null,null,null,null,null,"出席者数",0,"←月末処理で入力される",null,"出席日数0のカウント"]
[null,"計","出  席  者  数",null,null,null,null,null,null,null,null,null,null,null,null,null,null,null,null,null,null,null,null,null,null,null,null,null,null,null,null,null,null,null,null,null,null,null,null,null,null,null,null,null,null,null,null,null,null,"全欠席者数",0,"←月末処理で入力される",null,{"$f":"COUNTIF(AV6:AV25,0)","v":0},{"$f":"COUNTIF(AV28:AV47,0)","v":0},{"$f":"BB48+BC48","v":0}]
[null,null,"欠  席  者  数",null,null,null,null,null,null,null,null,null,null,null,null,null,null,null,null,null,null,null,null,null,null,null,null,null,null,null,null,null,null,null,null,null,null,null,null,null,null,null,null,null,null,null,null,null,null,"転入学者数",0,"←月末処理で入力される"]
[null,"授業","日数",null,null,null,null,"在籍","者数",null,null,null,null,null,null,"出席","者数",null,null,null,null,null,null,"全欠席","者　数",null,null,null,null,null,null,null,"転入学","者　数",null,null,null,null,null,"転学退",null,"学者数",null,null,null,null,null,null,null,"転学退学者数",0,"←月末処理で入力される"]
[]
[null,null,null,null,null,null,null,null,null,null,null,null,null,null,null,null,null,null,null,null,null,null,null,null,null,null,null,null,null,null,null,null,null,null,null,null,null,null,null,null,null,null,null,null,null,null,null,null,null,"長期休業間隔",{"$f":"IF(BK19=\"狭く\",9,IF(BK19=\"やや狭く\",8,IF(BK19=\"やや広く\",6,IF(BK19=\"広く\",5,7))))","v":6},null,"長期休業間隔",null,"標準",null,null,null,"全欠処理"]
[null,null,null,null,null,null,null,null,null,null,null,null,null,null,null,null,null,null,null,null,null,null,null,null,null,null,null,null,null,null,null,null,null,null,null,null,null,null,null,null,null,null,null,null,null,null,null,null,null,"長期休業処理",null,null,null,null,"狭く",null,null,null,1,{"$f":"IF(AV6<>\"\",IF(AM6-AR6-AS6=0,1,0),0)","v":0}]
[null,null,null,null,null,null,null,null,null,null,null,null,null,null,null,null,null,null,null,null,null,null,null,null,null,null,null,null,null,null,null,null,null,null,null,null,null,null,null,null,null,null,null,null,null,null,null,null,null,"長期休業Ⅰ",{"$f":"BO19","v":"学年始休業"},null,null,null,"やや狭く",null,null,null,2,{"$f":"IF(AV7<>\"\",IF(AM7-AR7-AS7=0,1,0),0)","v":0}]
[null,null,null,null,null,null,null,null,null,null,null,null,null,null,null,null,null,null,null,null,null,null,null,null,null,null,null,null,null,null,null,null,null,null,null,null,null,null,null,null,null,null,null,null,null,null,null,null,null,null,{"$f":"BO20","v":1},null,null,null,"やや広く",null,null,null,3,0]
[null,null,null,null,null,null,null,null,null,null,null,null,null,null,null,null,null,null,null,null,null,null,null,null,null,null,null,null,null,null,null,null,null,null,null,null,null,null,null,null,null,null,null,null,null,null,null,null,null,null,{"$f":"BO21","v":7},null,null,null,{"$f":"IF(F3=4,\"\",IF(F3=3,\"\",\"広く\"))","v":""},null,null,null,4,0]
[null,null,null,null,null,null,null,null,null,null,null,null,null,null,null,null,null,null,null,null,null,null,null,null,null,null,null,null,null,null,null,null,null,null,null,null,null,null,null,null,null,null,null,null,null,null,null,null,null,"長期休業Ⅱ",{"$f":"BO23","v":0},null,null,null,null,null,null,null,5,0]
[null,null,null,null,null,null,null,null,null,null,null,null,null,null,null,null,null,null,null,null,null,null,null,null,null,null,null,null,null,null,null,null,null,null,null,null,null,null,null,null,null,null,null,null,null,null,null,null,null,null,{"$f":"BO24","v":0},null,null,null,null,null,null,null,6,0]
[null,null,null,null,null,null,null,null,null,null,null,null,null,null,null,null,null,null,null,null,null,null,null,null,null,null,null,null,null,null,null,null,null,null,null,null,null,null,null,null,null,null,null,null,null,null,null,null,null,null,{"$f":"BO25","v":0},null,null,null,null,null,null,null,7,0]
[null,null,null,null,null,null,null,null,null,null,null,null,null,null,null,null,null,null,null,null,null,null,null,null,null,null,null,null,null,null,null,null,null,null,null,null,null,null,null,null,null,null,null,null,null,null,null,null,null,"長期休業Ⅲ",{"$f":"BO27","v":0},null,null,null,null,null,null,null,8,0]
[null,null,null,null,null,null,null,null,null,null,null,null,null,null,null,null,null,null,null,null,null,null,null,null,null,null,null,null,null,null,null,null,null,null,null,null,null,null,null,null,null,null,null,null,null,null,null,null,null,null,{"$f":"BO28","v":0},null,null,null,null,null,null,null,9,0]
[null,null,null,null,null,null,null,null,null,null,null,null,null,null,null,null,null,null,null,null,null,null,null,null,null,null,null,null,null,null,null,null,null,null,null,null,null,null,null,null,null,null,null,null,null,null,null,null,null,null,{"$f":"BO29","v":0},null,null,null,null,null,null,null,10,0]
[null,null,null,null,null,null,null,null,null,null,null,null,null,null,null,null,null,null,null,null,null,null,null,null,null,null,null,null,null,null,null,null,null,null,null,null,null,null,null,null,null,null,null,null,null,null,null,null,null,null,{"$f":"MAX(AY55,AY58,AY61)","v":1},null,null,null,null,null,null,null,11,0]
[null,null,null,null,null,null,null,null,null,null,null,null,null,null,null,null,null,null,null,null,null,null,null,null,null,null,null,null,null,null,null,null,null,null,null,null,null,null,null,null,null,null,null,null,null,null,null,null,null,null,null,null,null,null,null,null,null,null,12,0]
[null,null,null,null,null,null,null,null,null,null,null,null,null,null,null,null,null,null,null,null,null,null,null,null,null,null,null,null,null,null,null,null,null,null,null,null,null,null,null,null,null,null,null,null,null,null,null,null,null,null,null,null,null,null,null,null,null,null,13,0]
[null,null,null,null,null,null,null,null,null,null,null,null,null,null,null,null,null,null,null,null,null,null,null,null,null,null,null,null,null,null,null,null,null,null,null,null,null,null,null,null,null,null,null,null,null,null,null,null,null,null,null,null,null,null,null,null,null,null,14,0]
[null,null,null,null,null,null,null,null,null,null,null,null,null,null,null,null,null,null,null,null,null,null,null,null,null,null,null,null,null,null,null,null,null,null,null,null,null,null,null,null,null,null,null,null,null,null,null,null,null,null,null,null,null,null,null,null,null,null,15,0]
[null,null,null,null,null,null,null,null,null,null,null,null,null,null,null,null,null,null,null,null,null,null,null,null,null,null,null,null,null,null,null,null,null,null,null,null,null,null,null,null,null,null,null,null,null,null,null,null,null,null,null,null,null,null,null,null,null,null,16,0]
[null,null,null,null,null,null,null,null,null,null,null,null,null,null,null,null,null,null,null,null,null,null,null,null,null,null,null,null,null,null,null,null,null,null,null,null,null,null,null,null,null,null,null,null,null,null,null,null,null,"入力規則","／",null,null,null,null,null,null,null,17,0]
[null,null,null,null,null,null,null,null,null,null,null,null,null,null,null,null,null,null,null,null,null,null,null,null,null,null,null,null,null,null,null,null,null,null,null,null,null,null,null,null,null,null,null,null,null,null,null,null,null,null,"〃",null,null,null,null,null,null,null,18,0]
[null,null,null,null,null,null,null,null,null,null,null,null,null,null,null,null,null,null,null,null,null,null,null,null,null,null,null,null,null,null,null,null,null,null,null,null,null,null,null,null,null,null,null,null,null,null,null,null,null,null,"×",null,null,null,null,null,null,null,19,0]
[null,null,null,null,null,null,null,null,null,null,null,null,null,null,null,null,null,null,null,null,null,null,null,null,null,null,null,null,null,null,null,null,null,null,null,null,null,null,null,null,null,null,null,null,null,null,null,null,null,null,"○",null,null,null,null,null,null,null,20,0]
[null,null,null,null,null,null,null,null,null,null,null,null,null,null,null,null,null,null,null,null,null,null,null,null,null,null,null,null,null,null,null,null,null,null,null,null,null,null,null,null,null,null,null,null,null,null,null,null,null,null,"×○",null,null,null,null,null,null,null,21,{"$f":"IF(AV28<>\"\",IF(AM28-AR28-AS28=0,1,0),0)","v":0}]
[null,null,null,null,null,null,null,null,null,null,null,null,null,null,null,null,null,null,null,null,null,null,null,null,null,null,null,null,null,null,null,null,null,null,null,null,null,null,null,null,null,null,null,null,null,null,null,null,null,null,"キ",null,null,null,null,null,null,null,22,{"$f":"IF(AV29<>\"\",IF(AM29-AR29-AS29=0,1,0),0)","v":0}]
[null,null,null,null,null,null,null,null,null,null,null,null,null,null,null,null,null,null,null,null,null,null,null,null,null,null,null,null,null,null,null,null,null,null,null,null,null,null,null,null,null,null,null,null,null,null,null,null,null,null,"テ",null,null,null,null,null,null,null,23,0]
[null,null,null,null,null,null,null,null,null,null,null,null,null,null,null,null,null,null,null,null,null,null,null,null,null,null,null,null,null,null,null,null,null,null,null,null,null,null,null,null,null,null,null,null,null,null,null,null,null,null,"タ",null,null,null,null,null,null,null,24,0]
[null,null,null,null,null,null,null,null,null,null,null,null,null,null,null,null,null,null,null,null,null,null,null,null,null,null,null,null,null,null,null,null,null,null,null,null,null,null,null,null,null,null,null,null,null,null,null,null,null,null,"◎",null,null,null,null,null,null,null,25,0]
[null,null,null,null,null,null,null,null,null,null,null,null,null,null,null,null,null,null,null,null,null,null,null,null,null,null,null,null,null,null,null,null,null,null,null,null,null,null,null,null,null,null,null,null,null,null,null,null,null,null,null,null,null,null,null,null,null,null,26,0]
[null,null,null,null,null,null,null,null,null,null,null,null,null,null,null,null,null,null,null,null,null,null,null,null,null,null,null,null,null,null,null,null,null,null,null,null,null,null,null,null,null,null,null,null,null,null,null,null,null,null,null,null,null,null,null,null,null,null,27,0]
[null,null,null,null,null,null,null,null,null,null,null,null,null,null,null,null,null,null,null,null,null,null,null,null,null,null,null,null,null,null,null,null,null,null,null,null,null,null,null,null,null,null,null,null,null,null,null,null,null,null,null,null,null,null,null,null,null,null,28,0]
[null,null,null,null,null,null,null,null,null,null,null,null,null,null,null,null,null,null,null,null,null,null,null,null,null,null,null,null,null,null,null,null,null,null,null,null,null,null,null,null,null,null,null,null,null,null,null,null,null,null,null,null,null,null,null,null,null,null,29,0]
[null,null,null,null,null,null,null,null,null,null,null,null,null,null,null,null,null,null,null,null,null,null,null,null,null,null,null,null,null,null,null,null,null,null,null,null,null,null,null,null,null,null,null,null,null,null,null,null,null,null,null,null,null,null,null,null,null,null,30,0]
[null,null,null,null,null,null,null,null,null,null,null,null,null,null,null,null,null,null,null,null,null,null,null,null,null,null,null,null,null,null,null,null,null,null,null,null,null,null,null,null,null,null,null,null,null,null,null,null,null,null,null,null,null,null,null,null,null,null,31,0]
[null,null,null,null,null,null,null,null,null,null,null,null,null,null,null,null,null,null,null,null,null,null,null,null,null,null,null,null,null,null,null,null,null,null,null,null,null,null,null,null,null,null,null,null,null,null,null,null,null,"追加休業","臨時休業",null,null,null,null,null,null,null,32,0]
[null,null,null,null,null,null,null,null,null,null,null,null,null,null,null,null,null,null,null,null,null,null,null,null,null,null,null,null,null,null,null,null,null,null,null,null,null,null,null,null,null,null,null,null,null,null,null,null,null,null,"学年閉鎖",null,null,null,null,null,null,null,33,0]
[null,null,null,null,null,null,null,null,null,null,null,null,null,null,null,null,null,null,null,null,null,null,null,null,null,null,null,null,null,null,null,null,null,null,null,null,null,null,null,null,null,null,null,null,null,null,null,null,null,null,"学級閉鎖",null,null,null,null,null,null,null,34,0]
[null,null,null,null,null,null,null,null,null,null,null,null,null,null,null,null,null,null,null,null,null,null,null,null,null,null,null,null,null,null,null,null,null,null,null,null,null,null,null,null,null,null,null,null,null,null,null,null,null,null,null,null,null,null,null,null,null,null,35,0]
[null,null,null,null,null,null,null,null,null,null,null,null,null,null,null,null,null,null,null,null,null,null,null,null,null,null,null,null,null,null,null,null,null,null,null,null,null,null,null,null,null,null,null,null,null,null,null,null,null,null,null,null,null,null,null,null,null,null,36,0]
[null,null,null,null,null,null,null,null,null,null,null,null,null,null,null,null,null,null,null,null,null,null,null,null,null,null,null,null,null,null,null,null,null,null,null,null,null,null,null,null,null,null,null,null,null,null,null,null,null,null,null,null,null,null,null,null,null,null,37,0]
[null,null,null,null,null,null,null,null,null,null,null,null,null,null,null,null,null,null,null,null,null,null,null,null,null,null,null,null,null,null,null,null,null,null,null,null,null,null,null,null,null,null,null,null,null,null,null,null,null,"長期休業","学年始休業",null,null,null,null,null,null,null,38,0]
[null,null,null,null,null,null,null,null,null,null,null,null,null,null,null,null,null,null,null,null,null,null,null,null,null,null,null,null,null,null,null,null,null,null,null,null,null,null,null,null,null,null,null,null,null,null,null,null,null,null,"夏季休業",null,null,null,null,null,null,null,39,0]
[null,null,null,null,null,null,null,null,null,null,null,null,null,null,null,null,null,null,null,null,null,null,null,null,null,null,null,null,null,null,null,null,null,null,null,null,null,null,null,null,null,null,null,null,null,null,null,null,null,null,"秋季休業",null,null,null,null,null,null,null,40,{"$f":"IF(AV47<>\"\",IF(AM47-AR47-AS47=0,1,0),0)","v":0}]
[null,null,null,null,null,null,null,null,null,null,null,null,null,null,null,null,null,null,null,null,null,null,null,null,null,null,null,null,null,null,null,null,null,null,null,null,null,null,null,null,null,null,null,null,null,null,null,null,null,null,"冬季休業"]
[null,null,null,null,null,null,null,null,null,null,null,null,null,null,null,null,null,null,null,null,null,null,null,null,null,null,null,null,null,null,null,null,null,null,null,null,null,null,null,null,null,null,null,null,null,null,null,null,null,null,"学年末休業"]
[null,null,null,null,null,null,null,null,null,null,null,null,null,null,null,null,null,null,null,null,null,null,null,null,null,null,null,null,null,null,null,null,null,null,null,null,null,null,null,null,null,null,null,null,null,null,null,null,null,null,"臨時休業"]
[null,null,null,null,null,null,null,null,null,null,null,null,null,null,null,null,null,null,null,null,null,null,null,null,null,null,null,null,null,null,null,null,null,null,null,null,null,null,null,null,null,null,null,null,null,null,null,null,null,null,"学年閉鎖"]

{"sheet":"5月","index":3,"n_rows":96,"n_cols":67,"rows_kept":96,"cut":false,"hidden":false,"merged":[[49,41,49,42],[49,44,49,46],[51,52,51,53],[49,4,49,5],[49,10,49,13],[49,18,49,21],[49,26,49,30],[49,35,49,37],[49,39,49,40],[46,2,46,6],[46,39,46,40],[46,41,46,42],[47,1,48,1],[47,2,47,6],[47,39,47,40],[47,41,47,42],[48,2,48,6],[48,39,48,40],[48,41,48,42],[42,62,45,63],[43,2,43,6],[43,39,43,40],[43,41,43,42],[44,2,44,6],[44,39,44,40],[44,41,44,42],[45,2,45,6],[45,39,45,40],[45,41,45,42],[41,2,41,6],[41,39,41,40],[41,41,41,42],[42,2,42,6],[42,39,42,40],[42,41,42,42],[39,2,39,6],[39,39,39,40],[39,41,39,42],[40,2,40,6],[40,39,40,40],[40,41,40,42],[37,2,37,6],[37,39,37,40],[37,41,37,42],[38,2,38,6],[38,39,38,40],[38,41,38,42],[35,2,35,6],[35,39,35,40],[35,41,35,42],[36,2,36,6],[36,39,36,40],[36,41,36,42],[33,2,33,6],[33,39,33,40],[33,41,33,42],[34,2,34,6],[34,39,34,40],[34,41,34,42],[31,2,31,6],[31,39,31,40],[31,41,31,42],[32,2,32,6],[32,39,32,40],[32,41,32,42],[28,41,28,42],[29,2,29,6],[29,39,29,40],[29,41,29,42],[30,2,30,6],[30,39,30,40],[30,41,30,42],[25,39,25,40],[25,41,25,42],[26,39,26,40],[26,41,26,42],[22,2,22,6],[22,39,22,40],[22,41,22,42],[18,2,18,6],[18,39,18,40],[18,41,18,42],[27,0,37,0],[27,2,27,6],[27,39,27,40],[27,41,27,42],[28,2,28,6],[28,39,28,40],[23,2,23,6],[23,39,23,40],[23,41,23,42],[24,2,24,6],[24,39,24,40],[24,41,24,42],[5,0,24,0],[5,2,5,6],[5,39,5,40],[5,41,5,42],[6,2,6,6],[6,39,6,40],[10,2,10,6],[10,39,10,40],[10,41,10,42],[11,2,11,6],[11,39,11,40],[11,41,11,42],[8,2,8,6],[18,62,18,63],[19,2,19,6],[19,39,19,40],[19,41,19,42],[19,62,21,63],[20,2,20,6],[20,39,20,40],[16,2,16,6],[16,39,16,40],[16,41,16,42],[17,2,17,6],[17,39,17,40],[17,41,17,42],[20,41,20,42],[21,2,21,6],[21,39,21,40],[21,41,21,42],[14,2,14,6],[14,39,14,40],[14,41,14,42],[15,2,15,6],[15,39,15,40],[15,41,15,42],[12,2,12,6],[12,39,12,40],[12,41,12,42],[13,2,13,6],[13,39,13,40],[13,41,13,42],[8,39,8,40],[8,41,8,42],[9,2,9,6],[9,39,9,40],[9,41,9,42],[3,1,4,1],[3,38,4,38],[3,39,4,39],[3,40,4,40],[3,41,4,41],[6,41,6,42],[7,2,7,6],[7,39,7,40],[7,41,7,42],[0,49,0,60],[1,39,1,44],[1,53,1,54],[1,55,1,56],[1,57,1,58],[2,1,2,2],[3,42,4,42],[3,43,4,43],[3,44,4,44],[3,45,4,45],[3,46,4,46],[3,47,4,47],[2,19,2,27],[2,31,2,36],[2,38,2,40],[2,41,2,46],[2,9,2,14]]}
[null,null,null,null,null,null,null,null,null,null,null,null,null,null,null,null,null,null,null,null,null,null,null,null,null,null,null,null,null,null,null,null,null,null,null,null,null,null,null,null,null,null,null,null,null,null,null,null,null,"【注意】 この範囲は、処理のために使用しています。"]
[null,null,null,null,null,null,null,null,null,null,null,null,null,null,null,null,null,null,null,null,null,null,null,null,null,null,null,null,null,null,null,null,null,null,null,null,null,null,null,"校 長 検 印",null,null,null,null,null,null,null,null,null,"処理用セル",null,null,null,"土日",null,"祝日",null,"長期休業",null,"学級閉鎖","赤線"]
[null,{"$f":"設定!C47","v":"令和"},null,{"$f":"IF(F3>3,設定!B49,設定!C49)","v":3},"年",5,"月",null,null,{"$f":"IF(設定!H3=\"\",\"\",設定!H3)","v":"みどり学級"},null,null,null,null,null,null,null,null,null,"出　　席　　簿",null,null,null,null,null,null,null,null,null,null,null,{"$f":"設定!C2&\"学校\"","v":"松岡小学校"},null,null,null,null,null,null,"担任名",null,null,{"$f":"設定!H6","v":"永平寺 太郎"},null,null,null,null,null,null,null,"日にちの合成",{"$f":"IF(D3=\"元\",設定!C48,D3+設定!C48-1)&\"/\"&F3&\"/\"&H4","v":"2021/5/1"},{"$f":"WEEKDAY(AY3)","v":7},"日","(1,?)","(2,?)","(3,?)","(4,?)","(5,?)","(6,?)","(7,?)"]
[null,"番号",null,null,null,null,"日",1,2,3,4,5,6,7,8,9,10,11,12,13,14,15,16,17,18,19,20,21,22,23,24,25,26,27,28,29,30,31,"授業日数","出席停止忌引","等の日数","出席しなければ","ならない日数","病気欠席","事故欠席","遅刻回数","早退回数","出席日数",null,"西暦に変換",{"$f":"DATE(YEAR(AY3),MONTH(AY3),DAY(AY3))","v":"2021-05-01"},{"$f":"YEAR(AY3)","v":2021},1,null,null,null,null,null,null,null,{"$f":"BB4-BC4+BD4-BE4+BF4-BG4","v":0}]
[null,null,null,"氏    名",null,null,"曜日",null,null,null,null,null,null,null,null,null,null,null,null,null,null,null,null,null,null,null,null,null,null,null,null,null,null,null,null,null,null,null,null,null,null,null,null,null,null,null,null,null,null,"曜日決定",{"$f":"TEXT(AY4,\"aaa\")","v":"土"},{"$f":"TEXT(AZ3,\"aaa\")","v":"土"},2,null,null,null,null,null,null,null,{"$f":"BB5-BC5+BD5-BE5+BF5-BG5","v":0}]
["〈記号〉出席空欄　病欠／ 事故欠〃 遅刻× 早退○ 忌引キ 出席停止テ",1,{"$f":"IF(VLOOKUP(B6,設定!$K$4:$P$43,$BL$16+2,0)=0,\"\",VLOOKUP(B6,設定!$K$4:$P$43,$BL$16+2,0))","v":"西郷隆盛　１年"},null,null,null,null,null,null,null,null,null,null,null,null,null,null,null,null,null,null,null,null,null,null,null,null,null,null,null,null,null,null,null,null,null,null,null,null,null,null,null,null,null,null,null,null,null,null,"今月の日数",31,null,3,null,null,null,null,null,null,null,0]
[null,2,{"$f":"IF(VLOOKUP(B7,設定!$K$4:$P$43,$BL$16+2,0)=0,\"\",VLOOKUP(B7,設定!$K$4:$P$43,$BL$16+2,0))","v":"伊達政宗　３年"},null,null,null,null,null,null,null,null,null,null,null,null,null,null,null,null,null,null,null,null,null,null,null,null,null,null,null,null,null,null,null,null,null,null,null,null,null,null,null,null,null,null,null,null,null,null,null,null,null,4,null,null,null,null,null,null,null,0,null,null,null,null,"◆休業追加"]
[null,3,{"$f":"IF(VLOOKUP(B8,設定!$K$4:$P$43,$BL$16+2,0)=0,\"\",VLOOKUP(B8,設定!$K$4:$P$43,$BL$16+2,0))","v":"井伊直弼　５年"},null,null,null,null,null,null,null,null,null,null,null,null,null,null,null,null,null,null,null,null,null,null,null,null,null,null,null,null,null,null,null,null,null,null,null,null,null,null,null,null,null,null,null,null,null,null,null,null,null,5,null,null,null,null,null,null,null,0,null,null,null,null,"名称","日"]
[null,4,{"$f":"IF(VLOOKUP(B9,設定!$K$4:$P$43,$BL$16+2,0)=0,\"\",VLOOKUP(B9,設定!$K$4:$P$43,$BL$16+2,0))","v":"桓武天皇　５年"},null,null,null,null,null,null,null,null,null,null,null,null,null,null,null,null,null,null,null,null,null,null,null,null,null,null,null,null,null,null,null,null,null,null,null,null,null,null,null,null,null,null,null,null,null,null,"祝日",{"$f":"IF(設定!B10=\"\",\"\",設定!B10)","v":"2021-04-29"},{"$f":"IF(設定!C10=\"\",\"\",設定!C10)","v":"昭和の日"},6,null,null,null,null,null,null,null,0,null,null,null,null,"学年閉鎖",20]
[null,5,{"$f":"IF(VLOOKUP(B10,設定!$K$4:$P$43,$BL$16+2,0)=0,\"\",VLOOKUP(B10,設定!$K$4:$P$43,$BL$16+2,0))","v":""},null,null,null,null,null,null,null,null,null,null,null,null,null,null,null,null,null,null,null,null,null,null,null,null,null,null,null,null,null,null,null,null,null,null,null,null,null,null,null,null,null,null,null,null,null,null,null,{"$f":"IF(設定!B11=\"\",\"\",設定!B11)","v":"2021-05-03"},{"$f":"IF(設定!C11=\"\",\"\",設定!C11)","v":"憲法記念日"},7,null,null,null,null,null,null,null,0]
[null,6,{"$f":"IF(VLOOKUP(B11,設定!$K$4:$P$43,$BL$16+2,0)=0,\"\",VLOOKUP(B11,設定!$K$4:$P$43,$BL$16+2,0))","v":""},null,null,null,null,null,null,null,null,null,null,null,null,null,null,null,null,null,null,null,null,null,null,null,null,null,null,null,null,null,null,null,null,null,null,null,null,null,null,null,null,null,null,null,null,null,null,null,{"$f":"IF(設定!B12=\"\",\"\",設定!B12)","v":"2021-05-04"},{"$f":"IF(設定!C12=\"\",\"\",設定!C12)","v":"みどりの日"},8,null,null,null,null,null,null,null,0]
[null,7,{"$f":"IF(VLOOKUP(B12,設定!$K$4:$P$43,$BL$16+2,0)=0,\"\",VLOOKUP(B12,設定!$K$4:$P$43,$BL$16+2,0))","v":""},null,null,null,null,null,null,null,null,null,null,null,null,null,null,null,null,null,null,null,null,null,null,null,null,null,null,null,null,null,null,null,null,null,null,null,null,null,null,null,null,null,null,null,null,null,null,null,{"$f":"IF(設定!B13=\"\",\"\",設定!B13)","v":"2021-05-05"},{"$f":"IF(設定!C13=\"\",\"\",設定!C13)","v":"こどもの日"},9,null,null,null,null,null,null,null,0]
[null,8,{"$f":"IF(VLOOKUP(B13,設定!$K$4:$P$43,$BL$16+2,0)=0,\"\",VLOOKUP(B13,設定!$K$4:$P$43,$BL$16+2,0))","v":""},null,null,null,null,null,null,null,null,null,null,null,null,null,null,null,null,null,null,null,null,null,null,null,null,null,null,null,null,null,null,null,null,null,null,null,null,null,null,null,null,null,null,null,null,null,null,null,{"$f":"IF(設定!B14=\"\",\"\",設定!B14)","v":"2021-07-22"},{"$f":"IF(設定!C14=\"\",\"\",設定!C14)","v":"海の日"},10,null,null,null,null,null,null,null,0]
[null,9,{"$f":"IF(VLOOKUP(B14,設定!$K$4:$P$43,$BL$16+2,0)=0,\"\",VLOOKUP(B14,設定!$K$4:$P$43,$BL$16+2,0))","v":""},null,null,null,null,null,null,null,null,null,null,null,null,null,null,null,null,null,null,null,null,null,null,null,null,null,null,null,null,null,null,null,null,null,null,null,null,null,null,null,null,null,null,null,null,null,null,null,{"$f":"IF(設定!B15=\"\",\"\",設定!B15)","v":"2021-07-23"},{"$f":"IF(設定!C15=\"\",\"\",設定!C15)","v":"スポーツの日"},11,null,null,null,null,null,null,null,0]
[null,10,{"$f":"IF(VLOOKUP(B15,設定!$K$4:$P$43,$BL$16+2,0)=0,\"\",VLOOKUP(B15,設定!$K$4:$P$43,$BL$16+2,0))","v":""},null,null,null,null,null,null,null,null,null,null,null,null,null,null,null,null,null,null,null,null,null,null,null,null,null,null,null,null,null,null,null,null,null,null,null,null,null,null,null,null,null,null,null,null,null,null,null,{"$f":"IF(設定!B16=\"\",\"\",設定!B16)","v":"2021-08-08"},{"$f":"IF(設定!C16=\"\",\"\",設定!C16)","v":"山の日"},12,null,null,null,null,null,null,null,0]
[null,11,{"$f":"IF(VLOOKUP(B16,設定!$K$4:$P$43,$BL$16+2,0)=0,\"\",VLOOKUP(B16,設定!$K$4:$P$43,$BL$16+2,0))","v":""},null,null,null,null,null,null,null,null,null,null,null,null,null,null,null,null,null,null,null,null,null,null,null,null,null,null,null,null,null,null,null,null,null,null,null,null,null,null,null,null,null,null,null,null,null,null,null,{"$f":"IF(設定!B17=\"\",\"\",設定!B17)","v":"2021-08-09"},{"$f":"IF(設定!C17=\"\",\"\",設定!C17)","v":"休　　日"},13,null,null,null,null,null,null,null,0,null,"使用名列",0]
[null,12,{"$f":"IF(VLOOKUP(B17,設定!$K$4:$P$43,$BL$16+2,0)=0,\"\",VLOOKUP(B17,設定!$K$4:$P$43,$BL$16+2,0))","v":""},null,null,null,null,null,null,null,null,null,null,null,null,null,null,null,null,null,null,null,null,null,null,null,null,null,null,null,null,null,null,null,null,null,null,null,null,null,null,null,null,null,null,null,null,null,null,null,{"$f":"IF(設定!B18=\"\",\"\",設定!B18)","v":"2021-09-20"},{"$f":"IF(設定!C18=\"\",\"\",設定!C18)","v":"敬老の日"},14,null,null,null,null,null,null,null,0,null,null,null,null,"※「月始め処理」の前に入力"]
[null,13,{"$f":"IF(VLOOKUP(B18,設定!$K$4:$P$43,$BL$16+2,0)=0,\"\",VLOOKUP(B18,設定!$K$4:$P$43,$BL$16+2,0))","v":""},null,null,null,null,null,null,null,null,null,null,null,null,null,null,null,null,null,null,null,null,null,null,null,null,null,null,null,null,null,null,null,null,null,null,null,null,null,null,null,null,null,null,null,null,null,null,null,{"$f":"IF(設定!B19=\"\",\"\",設定!B19)","v":"2021-09-23"},{"$f":"IF(設定!C19=\"\",\"\",設定!C19)","v":"秋分の日"},15,null,null,null,null,null,null,null,0,null,"◆長期休業の文字間隔",null,null,"◆長期休業Ⅰ"]
[null,14,{"$f":"IF(VLOOKUP(B19,設定!$K$4:$P$43,$BL$16+2,0)=0,\"\",VLOOKUP(B19,設定!$K$4:$P$43,$BL$16+2,0))","v":""},null,null,null,null,null,null,null,null,null,null,null,null,null,null,null,null,null,null,null,null,null,null,null,null,null,null,null,null,null,null,null,null,null,null,null,null,null,null,null,null,null,null,null,null,null,null,null,{"$f":"IF(設定!B20=\"\",\"\",設定!B20)","v":"2021-11-03"},{"$f":"IF(設定!C20=\"\",\"\",設定!C20)","v":"文化の日"},16,null,null,null,null,null,null,null,0,null,"やや広く",null,null,"名称"]
[null,15,{"$f":"IF(VLOOKUP(B20,設定!$K$4:$P$43,$BL$16+2,0)=0,\"\",VLOOKUP(B20,設定!$K$4:$P$43,$BL$16+2,0))","v":""},null,null,null,null,null,null,null,null,null,null,null,null,null,null,null,null,null,null,null,null,null,null,null,null,null,null,null,null,null,null,null,null,null,null,null,null,null,null,null,null,null,null,null,null,null,null,null,{"$f":"IF(設定!B21=\"\",\"\",設定!B21)","v":"2021-11-23"},{"$f":"IF(設定!C21=\"\",\"\",設定!C21)","v":"勤労感謝の日"},17,null,null,null,null,null,null,null,0,null,"※長期休業の文字間隔を調節します。祝日との文字の重なりを回避することができます。",null,null,"開始日"]
[null,16,{"$f":"IF(VLOOKUP(B21,設定!$K$4:$P$43,$BL$16+2,0)=0,\"\",VLOOKUP(B21,設定!$K$4:$P$43,$BL$16+2,0))","v":""},null,null,null,null,null,null,null,null,null,null,null,null,null,null,null,null,null,null,null,null,null,null,null,null,null,null,null,null,null,null,null,null,null,null,null,null,null,null,null,null,null,null,null,null,null,null,null,{"$f":"IF(設定!B22=\"\",\"\",設定!B22)","v":"2022-01-01"},{"$f":"IF(設定!C22=\"\",\"\",設定!C22)","v":"元　　日"},18,null,null,null,null,null,null,null,0,null,null,null,null,"終了日"]
[null,17,{"$f":"IF(VLOOKUP(B22,設定!$K$4:$P$43,$BL$16+2,0)=0,\"\",VLOOKUP(B22,設定!$K$4:$P$43,$BL$16+2,0))","v":""},null,null,null,null,null,null,null,null,null,null,null,null,null,null,null,null,null,null,null,null,null,null,null,null,null,null,null,null,null,null,null,null,null,null,null,null,null,null,null,null,null,null,null,null,null,null,null,{"$f":"IF(設定!B23=\"\",\"\",設定!B23)","v":"2022-01-10"},{"$f":"IF(設定!C23=\"\",\"\",設定!C23)","v":"成人の日"},19,null,null,null,null,null,null,null,0,null,null,null,null,"◆長期休業Ⅱ"]
[null,18,{"$f":"IF(VLOOKUP(B23,設定!$K$4:$P$43,$BL$16+2,0)=0,\"\",VLOOKUP(B23,設定!$K$4:$P$43,$BL$16+2,0))","v":""},null,null,null,null,null,null,null,null,null,null,null,null,null,null,null,null,null,null,null,null,null,null,null,null,null,null,null,null,null,null,null,null,null,null,null,null,null,null,null,null,null,null,null,null,null,null,null,{"$f":"IF(設定!B24=\"\",\"\",設定!B24)","v":"2022-02-11"},{"$f":"IF(設定!C24=\"\",\"\",設定!C24)","v":"建国記念の日"},20,null,null,null,null,null,null,null,0,null,null,null,null,"名称"]
[null,19,{"$f":"IF(VLOOKUP(B24,設定!$K$4:$P$43,$BL$16+2,0)=0,\"\",VLOOKUP(B24,設定!$K$4:$P$43,$BL$16+2,0))","v":""},null,null,null,null,null,null,null,null,null,null,null,null,null,null,null,null,null,null,null,null,null,null,null,null,null,null,null,null,null,null,null,null,null,null,null,null,null,null,null,null,null,null,null,null,null,null,null,{"$f":"IF(設定!B25=\"\",\"\",設定!B25)","v":"2022-02-23"},{"$f":"IF(設定!C25=\"\",\"\",設定!C25)","v":"天皇誕生日"},21,null,null,null,null,null,null,null,0,null,"◆各処理にて再計算",null,null,"開始日"]
[null,20,{"$f":"IF(VLOOKUP(B25,設定!$K$4:$P$43,$BL$16+2,0)=0,\"\",VLOOKUP(B25,設定!$K$4:$P$43,$BL$16+2,0))","v":""},null,null,null,null,null,null,null,null,null,null,null,null,null,null,null,null,null,null,null,null,null,null,null,null,null,null,null,null,null,null,null,null,null,null,null,null,null,null,null,null,null,null,null,null,null,null,null,{"$f":"IF(設定!B26=\"\",\"\",設定!B26)","v":"2022-03-19"},{"$f":"IF(設定!C26=\"\",\"\",設定!C26)","v":"春分の日"},22,null,null,null,null,null,null,null,0,null,"児童生徒数",{"$f":"AY45","v":4},null,"終了日"]
[null,null,null,null,null,null,null,null,null,null,null,null,null,null,null,null,null,null,null,null,null,null,null,null,null,null,null,null,null,null,null,null,null,null,null,null,null,null,null,null,null,null,null,null,null,null,null,null,null,null,{"$f":"IF(設定!B27=\"\",\"\",設定!B27)","v":""},{"$f":"IF(設定!C27=\"\",\"\",設定!C27)","v":""},23,null,null,null,null,null,null,null,0,null,"授業日数",{"$f":"IF(AY46=\"\",\"\",AY46)","v":""},null,"◆長期休業Ⅲ"]
[null,null,null,null,null,null,null,1,2,3,4,5,6,7,8,9,10,11,12,13,14,15,16,17,18,19,20,21,22,23,24,25,26,27,28,29,30,31,null,null,null,null,null,null,null,null,null,null,null,null,{"$f":"IF(設定!B28=\"\",\"\",設定!B28)","v":""},{"$f":"IF(設定!C28=\"\",\"\",設定!C28)","v":""},24,null,null,null,null,null,null,null,0,null,"出席者数",22,null,"名称"]
["その他教育上特に必要と認めた日タ",21,{"$f":"IF(VLOOKUP(B28,設定!$K$4:$P$43,$BL$16+2,0)=0,\"\",VLOOKUP(B28,設定!$K$4:$P$43,$BL$16+2,0))","v":""},null,null,null,null,null,null,null,null,null,null,null,null,null,null,null,null,null,null,null,null,null,null,null,null,null,null,null,null,null,null,null,null,null,null,null,null,null,null,null,null,null,null,null,null,null,null,null,{"$f":"IF(設定!B29=\"\",\"\",設定!B29)","v":""},{"$f":"IF(設定!C29=\"\",\"\",設定!C29)","v":""},25,null,null,null,null,null,null,null,0,null,"全欠席者数",0,null,"開始日"]
[null,22,{"$f":"IF(VLOOKUP(B29,設定!$K$4:$P$43,$BL$16+2,0)=0,\"\",VLOOKUP(B29,設定!$K$4:$P$43,$BL$16+2,0))","v":""},null,null,null,null,null,null,null,null,null,null,null,null,null,null,null,null,null,null,null,null,null,null,null,null,null,null,null,null,null,null,null,null,null,null,null,null,null,null,null,null,null,null,null,null,null,null,null,{"$f":"IF(設定!B30=\"\",\"\",設定!B30)","v":""},{"$f":"IF(設定!C30=\"\",\"\",設定!C30)","v":""},26,null,null,null,null,null,null,null,0,null,"転入学者数",0,null,"終了日"]
[null,23,{"$f":"IF(VLOOKUP(B30,設定!$K$4:$P$43,$BL$16+2,0)=0,\"\",VLOOKUP(B30,設定!$K$4:$P$43,$BL$16+2,0))","v":""},null,null,null,null,null,null,null,null,null,null,null,null,null,null,null,null,null,null,null,null,null,null,null,null,null,null,null,null,null,null,null,null,null,null,null,null,null,null,null,null,null,null,null,null,null,null,null,{"$f":"IF(設定!B31=\"\",\"\",設定!B31)","v":""},{"$f":"IF(設定!C31=\"\",\"\",設定!C31)","v":""},27,null,null,null,null,null,null,null,0,null,"転学退学者数",0]
[null,24,{"$f":"IF(VLOOKUP(B31,設定!$K$4:$P$43,$BL$16+2,0)=0,\"\",VLOOKUP(B31,設定!$K$4:$P$43,$BL$16+2,0))","v":""},null,null,null,null,null,null,null,null,null,null,null,null,null,null,null,null,null,null,null,null,null,null,null,null,null,null,null,null,null,null,null,null,null,null,null,null,null,null,null,null,null,null,null,null,null,null,null,{"$f":"IF(設定!B32=\"\",\"\",設定!B32)","v":""},{"$f":"IF(設定!C32=\"\",\"\",設定!C32)","v":""},28,null,null,null,null,null,null,null,0]
[null,25,{"$f":"IF(VLOOKUP(B32,設定!$K$4:$P$43,$BL$16+2,0)=0,\"\",VLOOKUP(B32,設定!$K$4:$P$43,$BL$16+2,0))","v":""},null,null,null,null,null,null,null,null,null,null,null,null,null,null,null,null,null,null,null,null,null,null,null,null,null,null,null,null,null,null,null,null,null,null,null,null,null,null,null,null,null,null,null,null,null,null,null,{"$f":"IF(設定!B33=\"\",\"\",設定!B33)","v":""},{"$f":"IF(設定!C33=\"\",\"\",設定!C33)","v":""},29,null,null,null,null,null,null,null,0,null,"◆入力記号"]
[null,26,{"$f":"IF(VLOOKUP(B33,設定!$K$4:$P$43,$BL$16+2,0)=0,\"\",VLOOKUP(B33,設定!$K$4:$P$43,$BL$16+2,0))","v":""},null,null,null,null,null,null,null,null,null,null,null,null,null,null,null,null,null,null,null,null,null,null,null,null,null,null,null,null,null,null,null,null,null,null,null,null,null,null,null,null,null,null,null,null,null,null,null,{"$f":"IF(設定!B34=\"\",\"\",設定!B34)","v":""},{"$f":"IF(設定!C34=\"\",\"\",設定!C34)","v":""},30,null,null,null,null,null,null,null,0,null,"病欠","／"]
[null,27,{"$f":"IF(VLOOKUP(B34,設定!$K$4:$P$43,$BL$16+2,0)=0,\"\",VLOOKUP(B34,設定!$K$4:$P$43,$BL$16+2,0))","v":""},null,null,null,null,null,null,null,null,null,null,null,null,null,null,null,null,null,null,null,null,null,null,null,null,null,null,null,null,null,null,null,null,null,null,null,null,null,null,null,null,null,null,null,null,null,null,null,{"$f":"IF(設定!B35=\"\",\"\",設定!B35)","v":""},{"$f":"IF(設定!C35=\"\",\"\",設定!C35)","v":""},31,null,null,null,null,null,null,null,0,null,"事故欠","〃"]
[null,28,{"$f":"IF(VLOOKUP(B35,設定!$K$4:$P$43,$BL$16+2,0)=0,\"\",VLOOKUP(B35,設定!$K$4:$P$43,$BL$16+2,0))","v":""},null,null,null,null,null,null,null,null,null,null,null,null,null,null,null,null,null,null,null,null,null,null,null,null,null,null,null,null,null,null,null,null,null,null,null,null,null,null,null,null,null,null,null,null,null,null,null,{"$f":"IF(設定!B36=\"\",\"\",設定!B36)","v":""},{"$f":"IF(設定!C36=\"\",\"\",設定!C36)","v":""},null,null,null,null,null,null,null,null,null,null,"遅刻","×"]
[null,29,{"$f":"IF(VLOOKUP(B36,設定!$K$4:$P$43,$BL$16+2,0)=0,\"\",VLOOKUP(B36,設定!$K$4:$P$43,$BL$16+2,0))","v":""},null,null,null,null,null,null,null,null,null,null,null,null,null,null,null,null,null,null,null,null,null,null,null,null,null,null,null,null,null,null,null,null,null,null,null,null,null,null,null,null,null,null,null,null,null,null,null,{"$f":"IF(設定!B37=\"\",\"\",設定!B37)","v":""},{"$f":"IF(設定!C37=\"\",\"\",設定!C37)","v":""},null,31,"data(tu)　その月の日数",null,null,null,null,null,null,null,"早退","○"]
[null,30,{"$f":"IF(VLOOKUP(B37,設定!$K$4:$P$43,$BL$16+2,0)=0,\"\",VLOOKUP(B37,設定!$K$4:$P$43,$BL$16+2,0))","v":""},null,null,null,null,null,null,null,null,null,null,null,null,null,null,null,null,null,null,null,null,null,null,null,null,null,null,null,null,null,null,null,null,null,null,null,null,null,null,null,null,null,null,null,null,null,null,null,{"$f":"IF(設定!B38=\"\",\"\",設定!B38)","v":""},{"$f":"IF(設定!C38=\"\",\"\",設定!C38)","v":""},null,6,"hi　月の長期休業の日数",null,null,null,null,null,null,null,"遅刻・早退","×○"]
[null,31,{"$f":"IF(VLOOKUP(B38,設定!$K$4:$P$43,$BL$16+2,0)=0,\"\",VLOOKUP(B38,設定!$K$4:$P$43,$BL$16+2,0))","v":""},null,null,null,null,null,null,null,null,null,null,null,null,null,null,null,null,null,null,null,null,null,null,null,null,null,null,null,null,null,null,null,null,null,null,null,null,null,null,null,null,null,null,null,null,null,null,null,{"$f":"IF(設定!B39=\"\",\"\",設定!B39)","v":""},{"$f":"IF(設定!C39=\"\",\"\",設定!C39)","v":""},null,4,"hj　月の祝日の日数",null,null,null,null,null,null,null,"忌引","キ"]
[null,32,{"$f":"IF(VLOOKUP(B39,設定!$K$4:$P$43,$BL$16+2,0)=0,\"\",VLOOKUP(B39,設定!$K$4:$P$43,$BL$16+2,0))","v":""},null,null,null,null,null,null,null,null,null,null,null,null,null,null,null,null,null,null,null,null,null,null,null,null,null,null,null,null,null,null,null,null,null,null,null,null,null,null,null,null,null,null,null,null,null,null,null,{"$f":"IF(設定!B40=\"\",\"\",設定!B40)","v":""},{"$f":"IF(設定!C40=\"\",\"\",設定!C40)","v":""},null,8,"hk　月の祝日ではない土日の数",null,null,null,null,null,null,null,"出席停止","テ"]
[null,33,{"$f":"IF(VLOOKUP(B40,設定!$K$4:$P$43,$BL$16+2,0)=0,\"\",VLOOKUP(B40,設定!$K$4:$P$43,$BL$16+2,0))","v":""},null,null,null,null,null,null,null,null,null,null,null,null,null,null,null,null,null,null,null,null,null,null,null,null,null,null,null,null,null,null,null,null,null,null,null,null,null,null,null,null,null,null,null,null,null,null,null,{"$f":"IF(設定!B41=\"\",\"\",設定!B41)","v":""},{"$f":"IF(設定!C41=\"\",\"\",設定!C41)","v":""},null,4,"hl　長期休業で祝日と重複する数",null,null,null,null,null,null,null,"その他","タ"]
[null,34,{"$f":"IF(VLOOKUP(B41,設定!$K$4:$P$43,$BL$16+2,0)=0,\"\",VLOOKUP(B41,設定!$K$4:$P$43,$BL$16+2,0))","v":""},null,null,null,null,null,null,null,null,null,null,null,null,null,null,null,null,null,null,null,null,null,null,null,null,null,null,null,null,null,null,null,null,null,null,null,null,null,null,null,null,null,null,null,null,null,null,null,{"$f":"IF(設定!B42=\"\",\"\",設定!B42)","v":""},{"$f":"IF(設定!C42=\"\",\"\",設定!C42)","v":""},null,0,"so　卒業式後の日数",null,null,null,null,null,null,null,"転手転確転入","◎"]
[null,35,{"$f":"IF(VLOOKUP(B42,設定!$K$4:$P$43,$BL$16+2,0)=0,\"\",VLOOKUP(B42,設定!$K$4:$P$43,$BL$16+2,0))","v":""},null,null,null,null,null,null,null,null,null,null,null,null,null,null,null,null,null,null,null,null,null,null,null,null,null,null,null,null,null,null,null,null,null,null,null,null,null,null,null,null,null,null,null,null,null,null,null,{"$f":"IF(設定!B43=\"\",\"\",設定!B43)","v":""},{"$f":"IF(設定!C43=\"\",\"\",設定!C43)","v":""},null,0,"gh　学級閉鎖の日数"]
[null,36,{"$f":"IF(VLOOKUP(B43,設定!$K$4:$P$43,$BL$16+2,0)=0,\"\",VLOOKUP(B43,設定!$K$4:$P$43,$BL$16+2,0))","v":""},null,null,null,null,null,null,null,null,null,null,null,null,null,null,null,null,null,null,null,null,null,null,null,null,null,null,null,null,null,null,null,null,null,null,null,null,null,null,null,null,null,null,null,null,null,null,null,{"$f":"IF(設定!B44=\"\",\"\",設定!B44)","v":""},{"$f":"IF(設定!C44=\"\",\"\",設定!C44)","v":""},null,null,null,null,null,null,null,null,null,null,"※転出入については、集計欄の自動計算には対応していません。「月末処理」の後、手動にて修正をしてください。"]
[null,37,{"$f":"IF(VLOOKUP(B44,設定!$K$4:$P$43,$BL$16+2,0)=0,\"\",VLOOKUP(B44,設定!$K$4:$P$43,$BL$16+2,0))","v":""}]
[null,38,{"$f":"IF(VLOOKUP(B45,設定!$K$4:$P$43,$BL$16+2,0)=0,\"\",VLOOKUP(B45,設定!$K$4:$P$43,$BL$16+2,0))","v":""},null,null,null,null,null,null,null,null,null,null,null,null,null,null,null,null,null,null,null,null,null,null,null,null,null,null,null,null,null,null,null,null,null,null,null,null,null,null,null,null,null,null,null,null,null,null,"児童生徒数",{"$f":"40-BB45-BC45","v":4},null,null,{"$f":"COUNTIF(C6:C25,\"\")","v":16},{"$f":"COUNTIF(C28:C47,\"\")","v":20},"児童生徒欄の空白セル"]
[null,39,{"$f":"IF(VLOOKUP(B46,設定!$K$4:$P$43,$BL$16+2,0)=0,\"\",VLOOKUP(B46,設定!$K$4:$P$43,$BL$16+2,0))","v":""},null,null,null,null,null,null,null,null,null,null,null,null,null,null,null,null,null,null,null,null,null,null,null,null,null,null,null,null,null,null,null,null,null,null,null,null,null,null,null,null,null,null,null,null,null,null,"授業日数",null,"←月始め処理で授業日数が入力される"]
[null,40,{"$f":"IF(VLOOKUP(B47,設定!$K$4:$P$43,$BL$16+2,0)=0,\"\",VLOOKUP(B47,設定!$K$4:$P$43,$BL$16+2,0))","v":""},null,null,null,null,null,null,null,null,null,null,null,null,null,null,null,null,null,null,null,null,null,null,null,null,null,null,null,null,null,null,null,null,null,null,null,null,null,null,null,null,null,null,null,null,null,null,"出席者数",22,"←月末処理で入力される",null,"出席日数0のカウント"]
[null,"計","出  席  者  数",null,null,null,null,null,null,null,null,null,null,null,null,null,null,null,null,null,null,null,null,null,null,null,null,null,null,null,null,null,null,null,null,null,null,null,null,null,null,null,null,null,null,null,null,null,null,"全欠席者数",{"$f":"SUM(BH53:BH92)","v":0},"←月末処理で入力される",null,{"$f":"COUNTIF(AV6:AV25,0)","v":0},{"$f":"COUNTIF(AV28:AV47,0)","v":0},{"$f":"BB48+BC48","v":0}]
[null,null,"欠  席  者  数",null,null,null,null,null,null,null,null,null,null,null,null,null,null,null,null,null,null,null,null,null,null,null,null,null,null,null,null,null,null,null,null,null,null,null,null,null,null,null,null,null,null,null,null,null,null,"転入学者数",0,"←月末処理で入力される"]
[null,"授業","日数",null,null,null,null,"在籍","者数",null,null,null,null,null,null,"出席","者数",null,null,null,null,null,null,"全欠席","者　数",null,null,null,null,null,null,null,"転入学","者　数",null,null,null,null,null,"転学退",null,"学者数",null,null,null,null,null,null,null,"転学退学者数",0,"←月末処理で入力される"]
[]
[null,null,null,null,null,null,null,null,null,null,null,null,null,null,null,null,null,null,null,null,null,null,null,null,null,null,null,null,null,null,null,null,null,null,null,null,null,null,null,null,null,null,null,null,null,null,null,null,null,"長期休業間隔",{"$f":"IF(BK19=\"狭く\",9,IF(BK19=\"やや狭く\",8,IF(BK19=\"やや広く\",6,IF(BK19=\"広く\",5,7))))","v":6},null,"長期休業間隔",null,"標準",null,null,null,"全欠処理"]
[null,null,null,null,null,null,null,null,null,null,null,null,null,null,null,null,null,null,null,null,null,null,null,null,null,null,null,null,null,null,null,null,null,null,null,null,null,null,null,null,null,null,null,null,null,null,null,null,null,"長期休業処理",null,null,null,null,"狭く",null,null,null,1,{"$f":"IF(AV6<>\"\",IF(AM6-AR6-AS6=0,1,0),0)","v":0}]
[null,null,null,null,null,null,null,null,null,null,null,null,null,null,null,null,null,null,null,null,null,null,null,null,null,null,null,null,null,null,null,null,null,null,null,null,null,null,null,null,null,null,null,null,null,null,null,null,null,"長期休業Ⅰ",{"$f":"BO19","v":0},null,null,null,"やや狭く",null,null,null,2,{"$f":"IF(AV7<>\"\",IF(AM7-AR7-AS7=0,1,0),0)","v":0}]
[null,null,null,null,null,null,null,null,null,null,null,null,null,null,null,null,null,null,null,null,null,null,null,null,null,null,null,null,null,null,null,null,null,null,null,null,null,null,null,null,null,null,null,null,null,null,null,null,null,null,{"$f":"BO20","v":0},null,null,null,"やや広く",null,null,null,3,0]
[null,null,null,null,null,null,null,null,null,null,null,null,null,null,null,null,null,null,null,null,null,null,null,null,null,null,null,null,null,null,null,null,null,null,null,null,null,null,null,null,null,null,null,null,null,null,null,null,null,null,{"$f":"BO21","v":0},null,null,null,{"$f":"IF(F3=4,\"\",IF(F3=3,\"\",\"広く\"))","v":"広く"},null,null,null,4,0]
[null,null,null,null,null,null,null,null,null,null,null,null,null,null,null,null,null,null,null,null,null,null,null,null,null,null,null,null,null,null,null,null,null,null,null,null,null,null,null,null,null,null,null,null,null,null,null,null,null,"長期休業Ⅱ",{"$f":"BO23","v":0},null,null,null,null,null,null,null,5,0]
[null,null,null,null,null,null,null,null,null,null,null,null,null,null,null,null,null,null,null,null,null,null,null,null,null,null,null,null,null,null,null,null,null,null,null,null,null,null,null,null,null,null,null,null,null,null,null,null,null,null,{"$f":"BO24","v":0},null,null,null,null,null,null,null,6,0]
[null,null,null,null,null,null,null,null,null,null,null,null,null,null,null,null,null,null,null,null,null,null,null,null,null,null,null,null,null,null,null,null,null,null,null,null,null,null,null,null,null,null,null,null,null,null,null,null,null,null,{"$f":"BO25","v":0},null,null,null,null,null,null,null,7,0]
[null,null,null,null,null,null,null,null,null,null,null,null,null,null,null,null,null,null,null,null,null,null,null,null,null,null,null,null,null,null,null,null,null,null,null,null,null,null,null,null,null,null,null,null,null,null,null,null,null,"長期休業Ⅲ",{"$f":"BO27","v":0},null,null,null,null,null,null,null,8,0]
[null,null,null,null,null,null,null,null,null,null,null,null,null,null,null,null,null,null,null,null,null,null,null,null,null,null,null,null,null,null,null,null,null,null,null,null,null,null,null,null,null,null,null,null,null,null,null,null,null,null,{"$f":"BO28","v":0},null,null,null,null,null,null,null,9,0]
[null,null,null,null,null,null,null,null,null,null,null,null,null,null,null,null,null,null,null,null,null,null,null,null,null,null,null,null,null,null,null,null,null,null,null,null,null,null,null,null,null,null,null,null,null,null,null,null,null,null,{"$f":"BO29","v":0},null,null,null,null,null,null,null,10,0]
[null,null,null,null,null,null,null,null,null,null,null,null,null,null,null,null,null,null,null,null,null,null,null,null,null,null,null,null,null,null,null,null,null,null,null,null,null,null,null,null,null,null,null,null,null,null,null,null,null,null,{"$f":"MAX(AY55,AY58,AY61)","v":0},null,null,null,null,null,null,null,11,0]
[null,null,null,null,null,null,null,null,null,null,null,null,null,null,null,null,null,null,null,null,null,null,null,null,null,null,null,null,null,null,null,null,null,null,null,null,null,null,null,null,null,null,null,null,null,null,null,null,null,null,null,null,null,null,null,null,null,null,12,0]
[null,null,null,null,null,null,null,null,null,null,null,null,null,null,null,null,null,null,null,null,null,null,null,null,null,null,null,null,null,null,null,null,null,null,null,null,null,null,null,null,null,null,null,null,null,null,null,null,null,null,null,null,null,null,null,null,null,null,13,0]
[null,null,null,null,null,null,null,null,null,null,null,null,null,null,null,null,null,null,null,null,null,null,null,null,null,null,null,null,null,null,null,null,null,null,null,null,null,null,null,null,null,null,null,null,null,null,null,null,null,null,null,null,null,null,null,null,null,null,14,0]
[null,null,null,null,null,null,null,null,null,null,null,null,null,null,null,null,null,null,null,null,null,null,null,null,null,null,null,null,null,null,null,null,null,null,null,null,null,null,null,null,null,null,null,null,null,null,null,null,null,null,null,null,null,null,null,null,null,null,15,0]
[null,null,null,null,null,null,null,null,null,null,null,null,null,null,null,null,null,null,null,null,null,null,null,null,null,null,null,null,null,null,null,null,null,null,null,null,null,null,null,null,null,null,null,null,null,null,null,null,null,null,null,null,null,null,null,null,null,null,16,0]
[null,null,null,null,null,null,null,null,null,null,null,null,null,null,null,null,null,null,null,null,null,null,null,null,null,null,null,null,null,null,null,null,null,null,null,null,null,null,null,null,null,null,null,null,null,null,null,null,null,"入力規則","／",null,null,null,null,null,null,null,17,0]
[null,null,null,null,null,null,null,null,null,null,null,null,null,null,null,null,null,null,null,null,null,null,null,null,null,null,null,null,null,null,null,null,null,null,null,null,null,null,null,null,null,null,null,null,null,null,null,null,null,null,"〃",null,null,null,null,null,null,null,18,0]
[null,null,null,null,null,null,null,null,null,null,null,null,null,null,null,null,null,null,null,null,null,null,null,null,null,null,null,null,null,null,null,null,null,null,null,null,null,null,null,null,null,null,null,null,null,null,null,null,null,null,"×",null,null,null,null,null,null,null,19,0]
[null,null,null,null,null,null,null,null,null,null,null,null,null,null,null,null,null,null,null,null,null,null,null,null,null,null,null,null,null,null,null,null,null,null,null,null,null,null,null,null,null,null,null,null,null,null,null,null,null,null,"○",null,null,null,null,null,null,null,20,0]
[null,null,null,null,null,null,null,null,null,null,null,null,null,null,null,null,null,null,null,null,null,null,null,null,null,null,null,null,null,null,null,null,null,null,null,null,null,null,null,null,null,null,null,null,null,null,null,null,null,null,"×○",null,null,null,null,null,null,null,21,{"$f":"IF(AV28<>\"\",IF(AM28-AR28-AS28=0,1,0),0)","v":0}]
[null,null,null,null,null,null,null,null,null,null,null,null,null,null,null,null,null,null,null,null,null,null,null,null,null,null,null,null,null,null,null,null,null,null,null,null,null,null,null,null,null,null,null,null,null,null,null,null,null,null,"キ",null,null,null,null,null,null,null,22,{"$f":"IF(AV29<>\"\",IF(AM29-AR29-AS29=0,1,0),0)","v":0}]
[null,null,null,null,null,null,null,null,null,null,null,null,null,null,null,null,null,null,null,null,null,null,null,null,null,null,null,null,null,null,null,null,null,null,null,null,null,null,null,null,null,null,null,null,null,null,null,null,null,null,"テ",null,null,null,null,null,null,null,23,0]
[null,null,null,null,null,null,null,null,null,null,null,null,null,null,null,null,null,null,null,null,null,null,null,null,null,null,null,null,null,null,null,null,null,null,null,null,null,null,null,null,null,null,null,null,null,null,null,null,null,null,"タ",null,null,null,null,null,null,null,24,0]
[null,null,null,null,null,null,null,null,null,null,null,null,null,null,null,null,null,null,null,null,null,null,null,null,null,null,null,null,null,null,null,null,null,null,null,null,null,null,null,null,null,null,null,null,null,null,null,null,null,null,"◎",null,null,null,null,null,null,null,25,0]
[null,null,null,null,null,null,null,null,null,null,null,null,null,null,null,null,null,null,null,null,null,null,null,null,null,null,null,null,null,null,null,null,null,null,null,null,null,null,null,null,null,null,null,null,null,null,null,null,null,null,null,null,null,null,null,null,null,null,26,0]
[null,null,null,null,null,null,null,null,null,null,null,null,null,null,null,null,null,null,null,null,null,null,null,null,null,null,null,null,null,null,null,null,null,null,null,null,null,null,null,null,null,null,null,null,null,null,null,null,null,null,null,null,null,null,null,null,null,null,27,0]
[null,null,null,null,null,null,null,null,null,null,null,null,null,null,null,null,null,null,null,null,null,null,null,null,null,null,null,null,null,null,null,null,null,null,null,null,null,null,null,null,null,null,null,null,null,null,null,null,null,null,null,null,null,null,null,null,null,null,28,0]
[null,null,null,null,null,null,null,null,null,null,null,null,null,null,null,null,null,null,null,null,null,null,null,null,null,null,null,null,null,null,null,null,null,null,null,null,null,null,null,null,null,null,null,null,null,null,null,null,null,null,null,null,null,null,null,null,null,null,29,0]
[null,null,null,null,null,null,null,null,null,null,null,null,null,null,null,null,null,null,null,null,null,null,null,null,null,null,null,null,null,null,null,null,null,null,null,null,null,null,null,null,null,null,null,null,null,null,null,null,null,null,null,null,null,null,null,null,null,null,30,0]
[null,null,null,null,null,null,null,null,null,null,null,null,null,null,null,null,null,null,null,null,null,null,null,null,null,null,null,null,null,null,null,null,null,null,null,null,null,null,null,null,null,null,null,null,null,null,null,null,null,null,null,null,null,null,null,null,null,null,31,0]
[null,null,null,null,null,null,null,null,null,null,null,null,null,null,null,null,null,null,null,null,null,null,null,null,null,null,null,null,null,null,null,null,null,null,null,null,null,null,null,null,null,null,null,null,null,null,null,null,null,"追加休業","臨時休業",null,null,null,null,null,null,null,32,0]
[null,null,null,null,null,null,null,null,null,null,null,null,null,null,null,null,null,null,null,null,null,null,null,null,null,null,null,null,null,null,null,null,null,null,null,null,null,null,null,null,null,null,null,null,null,null,null,null,null,null,"学年閉鎖",null,null,null,null,null,null,null,33,0]
[null,null,null,null,null,null,null,null,null,null,null,null,null,null,null,null,null,null,null,null,null,null,null,null,null,null,null,null,null,null,null,null,null,null,null,null,null,null,null,null,null,null,null,null,null,null,null,null,null,null,"学級閉鎖",null,null,null,null,null,null,null,34,0]
[null,null,null,null,null,null,null,null,null,null,null,null,null,null,null,null,null,null,null,null,null,null,null,null,null,null,null,null,null,null,null,null,null,null,null,null,null,null,null,null,null,null,null,null,null,null,null,null,null,null,null,null,null,null,null,null,null,null,35,0]
[null,null,null,null,null,null,null,null,null,null,null,null,null,null,null,null,null,null,null,null,null,null,null,null,null,null,null,null,null,null,null,null,null,null,null,null,null,null,null,null,null,null,null,null,null,null,null,null,null,null,null,null,null,null,null,null,null,null,36,0]
[null,null,null,null,null,null,null,null,null,null,null,null,null,null,null,null,null,null,null,null,null,null,null,null,null,null,null,null,null,null,null,null,null,null,null,null,null,null,null,null,null,null,null,null,null,null,null,null,null,null,null,null,null,null,null,null,null,null,37,0]
[null,null,null,null,null,null,null,null,null,null,null,null,null,null,null,null,null,null,null,null,null,null,null,null,null,null,null,null,null,null,null,null,null,null,null,null,null,null,null,null,null,null,null,null,null,null,null,null,null,"長期休業","学年始休業",null,null,null,null,null,null,null,38,0]
[null,null,null,null,null,null,null,null,null,null,null,null,null,null,null,null,null,null,null,null,null,null,null,null,null,null,null,null,null,null,null,null,null,null,null,null,null,null,null,null,null,null,null,null,null,null,null,null,null,null,"夏季休業",null,null,null,null,null,null,null,39,0]
[null,null,null,null,null,null,null,null,null,null,null,null,null,null,null,null,null,null,null,null,null,null,null,null,null,null,null,null,null,null,null,null,null,null,null,null,null,null,null,null,null,null,null,null,null,null,null,null,null,null,"秋季休業",null,null,null,null,null,null,null,40,{"$f":"IF(AV47<>\"\",IF(AM47-AR47-AS47=0,1,0),0)","v":0}]
[null,null,null,null,null,null,null,null,null,null,null,null,null,null,null,null,null,null,null,null,null,null,null,null,null,null,null,null,null,null,null,null,null,null,null,null,null,null,null,null,null,null,null,null,null,null,null,null,null,null,"冬季休業"]
[null,null,null,null,null,null,null,null,null,null,null,null,null,null,null,null,null,null,null,null,null,null,null,null,null,null,null,null,null,null,null,null,null,null,null,null,null,null,null,null,null,null,null,null,null,null,null,null,null,null,"学年末休業"]
[null,null,null,null,null,null,null,null,null,null,null,null,null,null,null,null,null,null,null,null,null,null,null,null,null,null,null,null,null,null,null,null,null,null,null,null,null,null,null,null,null,null,null,null,null,null,null,null,null,null,"臨時休業"]
[null,null,null,null,null,null,null,null,null,null,null,null,null,null,null,null,null,null,null,null,null,null,null,null,null,null,null,null,null,null,null,null,null,null,null,null,null,null,null,null,null,null,null,null,null,null,null,null,null,null,"学年閉鎖"]

{"sheet":"6月","index":4,"n_rows":96,"n_cols":67,"rows_kept":96,"cut":false,"hidden":false,"merged":[[49,41,49,42],[49,44,49,46],[51,52,51,53],[49,4,49,5],[49,10,49,13],[49,18,49,21],[49,26,49,30],[49,35,49,37],[49,39,49,40],[46,2,46,6],[46,39,46,40],[46,41,46,42],[47,1,48,1],[47,2,47,6],[47,39,47,40],[47,41,47,42],[48,2,48,6],[48,39,48,40],[48,41,48,42],[42,62,45,63],[43,2,43,6],[43,39,43,40],[43,41,43,42],[44,2,44,6],[44,39,44,40],[44,41,44,42],[45,2,45,6],[45,39,45,40],[45,41,45,42],[41,2,41,6],[41,39,41,40],[41,41,41,42],[42,2,42,6],[42,39,42,40],[42,41,42,42],[39,2,39,6],[39,39,39,40],[39,41,39,42],[40,2,40,6],[40,39,40,40],[40,41,40,42],[37,2,37,6],[37,39,37,40],[37,41,37,42],[38,2,38,6],[38,39,38,40],[38,41,38,42],[35,2,35,6],[35,39,35,40],[35,41,35,42],[36,2,36,6],[36,39,36,40],[36,41,36,42],[33,2,33,6],[33,39,33,40],[33,41,33,42],[34,2,34,6],[34,39,34,40],[34,41,34,42],[31,2,31,6],[31,39,31,40],[31,41,31,42],[32,2,32,6],[32,39,32,40],[32,41,32,42],[28,41,28,42],[29,2,29,6],[29,39,29,40],[29,41,29,42],[30,2,30,6],[30,39,30,40],[30,41,30,42],[25,39,25,40],[25,41,25,42],[26,39,26,40],[26,41,26,42],[22,2,22,6],[22,39,22,40],[22,41,22,42],[18,2,18,6],[18,39,18,40],[18,41,18,42],[27,0,37,0],[27,2,27,6],[27,39,27,40],[27,41,27,42],[28,2,28,6],[28,39,28,40],[23,2,23,6],[23,39,23,40],[23,41,23,42],[24,2,24,6],[24,39,24,40],[24,41,24,42],[5,0,24,0],[5,2,5,6],[5,39,5,40],[5,41,5,42],[6,2,6,6],[6,39,6,40],[10,2,10,6],[10,39,10,40],[10,41,10,42],[11,2,11,6],[11,39,11,40],[11,41,11,42],[8,2,8,6],[18,62,18,63],[19,2,19,6],[19,39,19,40],[19,41,19,42],[19,62,21,63],[20,2,20,6],[20,39,20,40],[16,2,16,6],[16,39,16,40],[16,41,16,42],[17,2,17,6],[17,39,17,40],[17,41,17,42],[20,41,20,42],[21,2,21,6],[21,39,21,40],[21,41,21,42],[14,2,14,6],[14,39,14,40],[14,41,14,42],[15,2,15,6],[15,39,15,40],[15,41,15,42],[12,2,12,6],[12,39,12,40],[12,41,12,42],[13,2,13,6],[13,39,13,40],[13,41,13,42],[8,39,8,40],[8,41,8,42],[9,2,9,6],[9,39,9,40],[9,41,9,42],[3,1,4,1],[3,38,4,38],[3,39,4,39],[3,40,4,40],[3,41,4,41],[6,41,6,42],[7,2,7,6],[7,39,7,40],[7,41,7,42],[0,49,0,60],[1,39,1,44],[1,53,1,54],[1,55,1,56],[1,57,1,58],[2,1,2,2],[3,42,4,42],[3,43,4,43],[3,44,4,44],[3,45,4,45],[3,46,4,46],[3,47,4,47],[2,19,2,27],[2,31,2,36],[2,38,2,40],[2,41,2,46],[2,9,2,14]]}
[null,null,null,null,null,null,null,null,null,null,null,null,null,null,null,null,null,null,null,null,null,null,null,null,null,null,null,null,null,null,null,null,null,null,null,null,null,null,null,null,null,null,null,null,null,null,null,null,null,"【注意】 この範囲は、処理のために使用しています。"]
[null,null,null,null,null,null,null,null,null,null,null,null,null,null,null,null,null,null,null,null,null,null,null,null,null,null,null,null,null,null,null,null,null,null,null,null,null,null,null,"校 長 検 印",null,null,null,null,null,null,null,null,null,"処理用セル",null,null,null,"土日",null,"祝日",null,"長期休業",null,"学級閉鎖","赤線"]
[null,{"$f":"設定!C47","v":"令和"},null,{"$f":"IF(F3>3,設定!B49,設定!C49)","v":3},"年",6,"月",null,null,{"$f":"IF(設定!H3=\"\",\"\",設定!H3)","v":"みどり学級"},null,null,null,null,null,null,null,null,null,"出　　席　　簿",null,null,null,null,null,null,null,null,null,null,null,{"$f":"設定!C2&\"学校\"","v":"松岡小学校"},null,null,null,null,null,null,"担任名",null,null,{"$f":"設定!H6","v":"永平寺 太郎"},null,null,null,null,null,null,null,"日にちの合成",{"$f":"IF(D3=\"元\",設定!C48,D3+設定!C48-1)&\"/\"&F3&\"/\"&H4","v":"2021/6/1"},{"$f":"WEEKDAY(AY3)","v":3},"日","(1,?)","(2,?)","(3,?)","(4,?)","(5,?)","(6,?)","(7,?)"]
[null,"番号",null,null,null,null,"日",1,2,3,4,5,6,7,8,9,10,11,12,13,14,15,16,17,18,19,20,21,22,23,24,25,26,27,28,29,30,31,"授業日数","出席停止忌引","等の日数","出席しなければ","ならない日数","病気欠席","事故欠席","遅刻回数","早退回数","出席日数",null,"西暦に変換",{"$f":"DATE(YEAR(AY3),MONTH(AY3),DAY(AY3))","v":"2021-06-01"},{"$f":"YEAR(AY3)","v":2021},1,null,null,null,null,null,null,null,{"$f":"BB4-BC4+BD4-BE4+BF4-BG4","v":0}]
[null,null,null,"氏    名",null,null,"曜日",null,null,null,null,null,null,null,null,null,null,null,null,null,null,null,null,null,null,null,null,null,null,null,null,null,null,null,null,null,null,null,null,null,null,null,null,null,null,null,null,null,null,"曜日決定",{"$f":"TEXT(AY4,\"aaa\")","v":"火"},{"$f":"TEXT(AZ3,\"aaa\")","v":"火"},2,null,null,null,null,null,null,null,{"$f":"BB5-BC5+BD5-BE5+BF5-BG5","v":0}]
["〈記号〉出席空欄　病欠／ 事故欠〃 遅刻× 早退○ 忌引キ 出席停止テ",1,{"$f":"IF(VLOOKUP(B6,設定!$K$4:$P$43,$BL$16+2,0)=0,\"\",VLOOKUP(B6,設定!$K$4:$P$43,$BL$16+2,0))","v":"西郷隆盛　１年"},null,null,null,null,null,null,null,null,null,null,null,null,null,null,null,null,null,null,null,null,null,null,null,null,null,null,null,null,null,null,null,null,null,null,null,null,null,null,null,null,null,null,null,null,null,null,"今月の日数",30,null,3,null,null,null,null,null,null,null,0]
[null,2,{"$f":"IF(VLOOKUP(B7,設定!$K$4:$P$43,$BL$16+2,0)=0,\"\",VLOOKUP(B7,設定!$K$4:$P$43,$BL$16+2,0))","v":"伊達政宗　３年"},null,null,null,null,null,null,null,null,null,null,null,null,null,null,null,null,null,null,null,null,null,null,null,null,null,null,null,null,null,null,null,null,null,null,null,null,null,null,null,null,null,null,null,null,null,null,null,null,null,4,null,null,null,null,null,null,null,0,null,null,null,null,"◆休業追加"]
[null,3,{"$f":"IF(VLOOKUP(B8,設定!$K$4:$P$43,$BL$16+2,0)=0,\"\",VLOOKUP(B8,設定!$K$4:$P$43,$BL$16+2,0))","v":"井伊直弼　５年"},null,null,null,null,null,null,null,null,null,null,null,null,null,null,null,null,null,null,null,null,null,null,null,null,null,null,null,null,null,null,null,null,null,null,null,null,null,null,null,null,null,null,null,null,null,null,null,null,null,5,null,null,null,null,null,null,null,0,null,null,null,null,"名称","日"]
[null,4,{"$f":"IF(VLOOKUP(B9,設定!$K$4:$P$43,$BL$16+2,0)=0,\"\",VLOOKUP(B9,設定!$K$4:$P$43,$BL$16+2,0))","v":"桓武天皇　５年"},null,null,null,null,null,null,null,null,null,null,null,null,null,null,null,null,null,null,null,null,null,null,null,null,null,null,null,null,null,null,null,null,null,null,null,null,null,null,null,null,null,null,null,null,null,null,"祝日",{"$f":"IF(設定!B10=\"\",\"\",設定!B10)","v":"2021-04-29"},{"$f":"IF(設定!C10=\"\",\"\",設定!C10)","v":"昭和の日"},6,null,null,null,null,null,null,null,0,null,null,null,null,"学年閉鎖",20]
[null,5,{"$f":"IF(VLOOKUP(B10,設定!$K$4:$P$43,$BL$16+2,0)=0,\"\",VLOOKUP(B10,設定!$K$4:$P$43,$BL$16+2,0))","v":""},null,null,null,null,null,null,null,null,null,null,null,null,null,null,null,null,null,null,null,null,null,null,null,null,null,null,null,null,null,null,null,null,null,null,null,null,null,null,null,null,null,null,null,null,null,null,null,{"$f":"IF(設定!B11=\"\",\"\",設定!B11)","v":"2021-05-03"},{"$f":"IF(設定!C11=\"\",\"\",設定!C11)","v":"憲法記念日"},7,null,null,null,null,null,null,null,0]
[null,6,{"$f":"IF(VLOOKUP(B11,設定!$K$4:$P$43,$BL$16+2,0)=0,\"\",VLOOKUP(B11,設定!$K$4:$P$43,$BL$16+2,0))","v":""},null,null,null,null,null,null,null,null,null,null,null,null,null,null,null,null,null,null,null,null,null,null,null,null,null,null,null,null,null,null,null,null,null,null,null,null,null,null,null,null,null,null,null,null,null,null,null,{"$f":"IF(設定!B12=\"\",\"\",設定!B12)","v":"2021-05-04"},{"$f":"IF(設定!C12=\"\",\"\",設定!C12)","v":"みどりの日"},8,null,null,null,null,null,null,null,0]
[null,7,{"$f":"IF(VLOOKUP(B12,設定!$K$4:$P$43,$BL$16+2,0)=0,\"\",VLOOKUP(B12,設定!$K$4:$P$43,$BL$16+2,0))","v":""},null,null,null,null,null,null,null,null,null,null,null,null,null,null,null,null,null,null,null,null,null,null,null,null,null,null,null,null,null,null,null,null,null,null,null,null,null,null,null,null,null,null,null,null,null,null,null,{"$f":"IF(設定!B13=\"\",\"\",設定!B13)","v":"2021-05-05"},{"$f":"IF(設定!C13=\"\",\"\",設定!C13)","v":"こどもの日"},9,null,null,null,null,null,null,null,0]
[null,8,{"$f":"IF(VLOOKUP(B13,設定!$K$4:$P$43,$BL$16+2,0)=0,\"\",VLOOKUP(B13,設定!$K$4:$P$43,$BL$16+2,0))","v":""},null,null,null,null,null,null,null,null,null,null,null,null,null,null,null,null,null,null,null,null,null,null,null,null,null,null,null,null,null,null,null,null,null,null,null,null,null,null,null,null,null,null,null,null,null,null,null,{"$f":"IF(設定!B14=\"\",\"\",設定!B14)","v":"2021-07-22"},{"$f":"IF(設定!C14=\"\",\"\",設定!C14)","v":"海の日"},10,null,null,null,null,null,null,null,0]
[null,9,{"$f":"IF(VLOOKUP(B14,設定!$K$4:$P$43,$BL$16+2,0)=0,\"\",VLOOKUP(B14,設定!$K$4:$P$43,$BL$16+2,0))","v":""},null,null,null,null,null,null,null,null,null,null,null,null,null,null,null,null,null,null,null,null,null,null,null,null,null,null,null,null,null,null,null,null,null,null,null,null,null,null,null,null,null,null,null,null,null,null,null,{"$f":"IF(設定!B15=\"\",\"\",設定!B15)","v":"2021-07-23"},{"$f":"IF(設定!C15=\"\",\"\",設定!C15)","v":"スポーツの日"},11,null,null,null,null,null,null,null,0]
[null,10,{"$f":"IF(VLOOKUP(B15,設定!$K$4:$P$43,$BL$16+2,0)=0,\"\",VLOOKUP(B15,設定!$K$4:$P$43,$BL$16+2,0))","v":""},null,null,null,null,null,null,null,null,null,null,null,null,null,null,null,null,null,null,null,null,null,null,null,null,null,null,null,null,null,null,null,null,null,null,null,null,null,null,null,null,null,null,null,null,null,null,null,{"$f":"IF(設定!B16=\"\",\"\",設定!B16)","v":"2021-08-08"},{"$f":"IF(設定!C16=\"\",\"\",設定!C16)","v":"山の日"},12,null,null,null,null,null,null,null,0]
[null,11,{"$f":"IF(VLOOKUP(B16,設定!$K$4:$P$43,$BL$16+2,0)=0,\"\",VLOOKUP(B16,設定!$K$4:$P$43,$BL$16+2,0))","v":""},null,null,null,null,null,null,null,null,null,null,null,null,null,null,null,null,null,null,null,null,null,null,null,null,null,null,null,null,null,null,null,null,null,null,null,null,null,null,null,null,null,null,null,null,null,null,null,{"$f":"IF(設定!B17=\"\",\"\",設定!B17)","v":"2021-08-09"},{"$f":"IF(設定!C17=\"\",\"\",設定!C17)","v":"休　　日"},13,null,null,null,null,null,null,null,0,null,"使用名列",0]
[null,12,{"$f":"IF(VLOOKUP(B17,設定!$K$4:$P$43,$BL$16+2,0)=0,\"\",VLOOKUP(B17,設定!$K$4:$P$43,$BL$16+2,0))","v":""},null,null,null,null,null,null,null,null,null,null,null,null,null,null,null,null,null,null,null,null,null,null,null,null,null,null,null,null,null,null,null,null,null,null,null,null,null,null,null,null,null,null,null,null,null,null,null,{"$f":"IF(設定!B18=\"\",\"\",設定!B18)","v":"2021-09-20"},{"$f":"IF(設定!C18=\"\",\"\",設定!C18)","v":"敬老の日"},14,null,null,null,null,null,null,null,0,null,null,null,null,"※「月始め処理」の前に入力"]
[null,13,{"$f":"IF(VLOOKUP(B18,設定!$K$4:$P$43,$BL$16+2,0)=0,\"\",VLOOKUP(B18,設定!$K$4:$P$43,$BL$16+2,0))","v":""},null,null,null,null,null,null,null,null,null,null,null,null,null,null,null,null,null,null,null,null,null,null,null,null,null,null,null,null,null,null,null,null,null,null,null,null,null,null,null,null,null,null,null,null,null,null,null,{"$f":"IF(設定!B19=\"\",\"\",設定!B19)","v":"2021-09-23"},{"$f":"IF(設定!C19=\"\",\"\",設定!C19)","v":"秋分の日"},15,null,null,null,null,null,null,null,0,null,"◆長期休業の文字間隔",null,null,"◆長期休業Ⅰ"]
[null,14,{"$f":"IF(VLOOKUP(B19,設定!$K$4:$P$43,$BL$16+2,0)=0,\"\",VLOOKUP(B19,設定!$K$4:$P$43,$BL$16+2,0))","v":""},null,null,null,null,null,null,null,null,null,null,null,null,null,null,null,null,null,null,null,null,null,null,null,null,null,null,null,null,null,null,null,null,null,null,null,null,null,null,null,null,null,null,null,null,null,null,null,{"$f":"IF(設定!B20=\"\",\"\",設定!B20)","v":"2021-11-03"},{"$f":"IF(設定!C20=\"\",\"\",設定!C20)","v":"文化の日"},16,null,null,null,null,null,null,null,0,null,"やや広く",null,null,"名称"]
[null,15,{"$f":"IF(VLOOKUP(B20,設定!$K$4:$P$43,$BL$16+2,0)=0,\"\",VLOOKUP(B20,設定!$K$4:$P$43,$BL$16+2,0))","v":""},null,null,null,null,null,null,null,null,null,null,null,null,null,null,null,null,null,null,null,null,null,null,null,null,null,null,null,null,null,null,null,null,null,null,null,null,null,null,null,null,null,null,null,null,null,null,null,{"$f":"IF(設定!B21=\"\",\"\",設定!B21)","v":"2021-11-23"},{"$f":"IF(設定!C21=\"\",\"\",設定!C21)","v":"勤労感謝の日"},17,null,null,null,null,null,null,null,0,null,"※長期休業の文字間隔を調節します。祝日との文字の重なりを回避することができます。",null,null,"開始日"]
[null,16,{"$f":"IF(VLOOKUP(B21,設定!$K$4:$P$43,$BL$16+2,0)=0,\"\",VLOOKUP(B21,設定!$K$4:$P$43,$BL$16+2,0))","v":""},null,null,null,null,null,null,null,null,null,null,null,null,null,null,null,null,null,null,null,null,null,null,null,null,null,null,null,null,null,null,null,null,null,null,null,null,null,null,null,null,null,null,null,null,null,null,null,{"$f":"IF(設定!B22=\"\",\"\",設定!B22)","v":"2022-01-01"},{"$f":"IF(設定!C22=\"\",\"\",設定!C22)","v":"元　　日"},18,null,null,null,null,null,null,null,0,null,null,null,null,"終了日"]
[null,17,{"$f":"IF(VLOOKUP(B22,設定!$K$4:$P$43,$BL$16+2,0)=0,\"\",VLOOKUP(B22,設定!$K$4:$P$43,$BL$16+2,0))","v":""},null,null,null,null,null,null,null,null,null,null,null,null,null,null,null,null,null,null,null,null,null,null,null,null,null,null,null,null,null,null,null,null,null,null,null,null,null,null,null,null,null,null,null,null,null,null,null,{"$f":"IF(設定!B23=\"\",\"\",設定!B23)","v":"2022-01-10"},{"$f":"IF(設定!C23=\"\",\"\",設定!C23)","v":"成人の日"},19,null,null,null,null,null,null,null,0,null,null,null,null,"◆長期休業Ⅱ"]
[null,18,{"$f":"IF(VLOOKUP(B23,設定!$K$4:$P$43,$BL$16+2,0)=0,\"\",VLOOKUP(B23,設定!$K$4:$P$43,$BL$16+2,0))","v":""},null,null,null,null,null,null,null,null,null,null,null,null,null,null,null,null,null,null,null,null,null,null,null,null,null,null,null,null,null,null,null,null,null,null,null,null,null,null,null,null,null,null,null,null,null,null,null,{"$f":"IF(設定!B24=\"\",\"\",設定!B24)","v":"2022-02-11"},{"$f":"IF(設定!C24=\"\",\"\",設定!C24)","v":"建国記念の日"},20,null,null,null,null,null,null,null,0,null,null,null,null,"名称"]
[null,19,{"$f":"IF(VLOOKUP(B24,設定!$K$4:$P$43,$BL$16+2,0)=0,\"\",VLOOKUP(B24,設定!$K$4:$P$43,$BL$16+2,0))","v":""},null,null,null,null,null,null,null,null,null,null,null,null,null,null,null,null,null,null,null,null,null,null,null,null,null,null,null,null,null,null,null,null,null,null,null,null,null,null,null,null,null,null,null,null,null,null,null,{"$f":"IF(設定!B25=\"\",\"\",設定!B25)","v":"2022-02-23"},{"$f":"IF(設定!C25=\"\",\"\",設定!C25)","v":"天皇誕生日"},21,null,null,null,null,null,null,null,0,null,"◆各処理にて再計算",null,null,"開始日"]
[null,20,{"$f":"IF(VLOOKUP(B25,設定!$K$4:$P$43,$BL$16+2,0)=0,\"\",VLOOKUP(B25,設定!$K$4:$P$43,$BL$16+2,0))","v":""},null,null,null,null,null,null,null,null,null,null,null,null,null,null,null,null,null,null,null,null,null,null,null,null,null,null,null,null,null,null,null,null,null,null,null,null,null,null,null,null,null,null,null,null,null,null,null,{"$f":"IF(設定!B26=\"\",\"\",設定!B26)","v":"2022-03-19"},{"$f":"IF(設定!C26=\"\",\"\",設定!C26)","v":"春分の日"},22,null,null,null,null,null,null,null,0,null,"児童生徒数",{"$f":"AY45","v":4},null,"終了日"]
[null,null,null,null,null,null,null,null,null,null,null,null,null,null,null,null,null,null,null,null,null,null,null,null,null,null,null,null,null,null,null,null,null,null,null,null,null,null,null,null,null,null,null,null,null,null,null,null,null,null,{"$f":"IF(設定!B27=\"\",\"\",設定!B27)","v":""},{"$f":"IF(設定!C27=\"\",\"\",設定!C27)","v":""},23,null,null,null,null,null,null,null,0,null,"授業日数",{"$f":"IF(AY46=\"\",\"\",AY46)","v":""},null,"◆長期休業Ⅲ"]
[null,null,null,null,null,null,null,1,2,3,4,5,6,7,8,9,10,11,12,13,14,15,16,17,18,19,20,21,22,23,24,25,26,27,28,29,30,31,null,null,null,null,null,null,null,null,null,null,null,null,{"$f":"IF(設定!B28=\"\",\"\",設定!B28)","v":""},{"$f":"IF(設定!C28=\"\",\"\",設定!C28)","v":""},24,null,null,null,null,null,null,null,0,null,"出席者数",22,null,"名称"]
["その他教育上特に必要と認めた日タ",21,{"$f":"IF(VLOOKUP(B28,設定!$K$4:$P$43,$BL$16+2,0)=0,\"\",VLOOKUP(B28,設定!$K$4:$P$43,$BL$16+2,0))","v":""},null,null,null,null,null,null,null,null,null,null,null,null,null,null,null,null,null,null,null,null,null,null,null,null,null,null,null,null,null,null,null,null,null,null,null,null,null,null,null,null,null,null,null,null,null,null,null,{"$f":"IF(設定!B29=\"\",\"\",設定!B29)","v":""},{"$f":"IF(設定!C29=\"\",\"\",設定!C29)","v":""},25,null,null,null,null,null,null,null,0,null,"全欠席者数",0,null,"開始日"]
[null,22,{"$f":"IF(VLOOKUP(B29,設定!$K$4:$P$43,$BL$16+2,0)=0,\"\",VLOOKUP(B29,設定!$K$4:$P$43,$BL$16+2,0))","v":""},null,null,null,null,null,null,null,null,null,null,null,null,null,null,null,null,null,null,null,null,null,null,null,null,null,null,null,null,null,null,null,null,null,null,null,null,null,null,null,null,null,null,null,null,null,null,null,{"$f":"IF(設定!B30=\"\",\"\",設定!B30)","v":""},{"$f":"IF(設定!C30=\"\",\"\",設定!C30)","v":""},26,null,null,null,null,null,null,null,0,null,"転入学者数",0,null,"終了日"]
[null,23,{"$f":"IF(VLOOKUP(B30,設定!$K$4:$P$43,$BL$16+2,0)=0,\"\",VLOOKUP(B30,設定!$K$4:$P$43,$BL$16+2,0))","v":""},null,null,null,null,null,null,null,null,null,null,null,null,null,null,null,null,null,null,null,null,null,null,null,null,null,null,null,null,null,null,null,null,null,null,null,null,null,null,null,null,null,null,null,null,null,null,null,{"$f":"IF(設定!B31=\"\",\"\",設定!B31)","v":""},{"$f":"IF(設定!C31=\"\",\"\",設定!C31)","v":""},27,null,null,null,null,null,null,null,0,null,"転学退学者数",0]
[null,24,{"$f":"IF(VLOOKUP(B31,設定!$K$4:$P$43,$BL$16+2,0)=0,\"\",VLOOKUP(B31,設定!$K$4:$P$43,$BL$16+2,0))","v":""},null,null,null,null,null,null,null,null,null,null,null,null,null,null,null,null,null,null,null,null,null,null,null,null,null,null,null,null,null,null,null,null,null,null,null,null,null,null,null,null,null,null,null,null,null,null,null,{"$f":"IF(設定!B32=\"\",\"\",設定!B32)","v":""},{"$f":"IF(設定!C32=\"\",\"\",設定!C32)","v":""},28,null,null,null,null,null,null,null,0]
[null,25,{"$f":"IF(VLOOKUP(B32,設定!$K$4:$P$43,$BL$16+2,0)=0,\"\",VLOOKUP(B32,設定!$K$4:$P$43,$BL$16+2,0))","v":""},null,null,null,null,null,null,null,null,null,null,null,null,null,null,null,null,null,null,null,null,null,null,null,null,null,null,null,null,null,null,null,null,null,null,null,null,null,null,null,null,null,null,null,null,null,null,null,{"$f":"IF(設定!B33=\"\",\"\",設定!B33)","v":""},{"$f":"IF(設定!C33=\"\",\"\",設定!C33)","v":""},29,null,null,null,null,null,null,null,0,null,"◆入力記号"]
[null,26,{"$f":"IF(VLOOKUP(B33,設定!$K$4:$P$43,$BL$16+2,0)=0,\"\",VLOOKUP(B33,設定!$K$4:$P$43,$BL$16+2,0))","v":""},null,null,null,null,null,null,null,null,null,null,null,null,null,null,null,null,null,null,null,null,null,null,null,null,null,null,null,null,null,null,null,null,null,null,null,null,null,null,null,null,null,null,null,null,null,null,null,{"$f":"IF(設定!B34=\"\",\"\",設定!B34)","v":""},{"$f":"IF(設定!C34=\"\",\"\",設定!C34)","v":""},30,null,null,null,null,null,null,null,0,null,"病欠","／"]
[null,27,{"$f":"IF(VLOOKUP(B34,設定!$K$4:$P$43,$BL$16+2,0)=0,\"\",VLOOKUP(B34,設定!$K$4:$P$43,$BL$16+2,0))","v":""},null,null,null,null,null,null,null,null,null,null,null,null,null,null,null,null,null,null,null,null,null,null,null,null,null,null,null,null,null,null,null,null,null,null,null,null,null,null,null,null,null,null,null,null,null,null,null,{"$f":"IF(設定!B35=\"\",\"\",設定!B35)","v":""},{"$f":"IF(設定!C35=\"\",\"\",設定!C35)","v":""},31,null,null,null,null,null,null,null,0,null,"事故欠","〃"]
[null,28,{"$f":"IF(VLOOKUP(B35,設定!$K$4:$P$43,$BL$16+2,0)=0,\"\",VLOOKUP(B35,設定!$K$4:$P$43,$BL$16+2,0))","v":""},null,null,null,null,null,null,null,null,null,null,null,null,null,null,null,null,null,null,null,null,null,null,null,null,null,null,null,null,null,null,null,null,null,null,null,null,null,null,null,null,null,null,null,null,null,null,null,{"$f":"IF(設定!B36=\"\",\"\",設定!B36)","v":""},{"$f":"IF(設定!C36=\"\",\"\",設定!C36)","v":""},null,null,null,null,null,null,null,null,null,null,"遅刻","×"]
[null,29,{"$f":"IF(VLOOKUP(B36,設定!$K$4:$P$43,$BL$16+2,0)=0,\"\",VLOOKUP(B36,設定!$K$4:$P$43,$BL$16+2,0))","v":""},null,null,null,null,null,null,null,null,null,null,null,null,null,null,null,null,null,null,null,null,null,null,null,null,null,null,null,null,null,null,null,null,null,null,null,null,null,null,null,null,null,null,null,null,null,null,null,{"$f":"IF(設定!B37=\"\",\"\",設定!B37)","v":""},{"$f":"IF(設定!C37=\"\",\"\",設定!C37)","v":""},null,30,"data(tu)　その月の日数",null,null,null,null,null,null,null,"早退","○"]
[null,30,{"$f":"IF(VLOOKUP(B37,設定!$K$4:$P$43,$BL$16+2,0)=0,\"\",VLOOKUP(B37,設定!$K$4:$P$43,$BL$16+2,0))","v":""},null,null,null,null,null,null,null,null,null,null,null,null,null,null,null,null,null,null,null,null,null,null,null,null,null,null,null,null,null,null,null,null,null,null,null,null,null,null,null,null,null,null,null,null,null,null,null,{"$f":"IF(設定!B38=\"\",\"\",設定!B38)","v":""},{"$f":"IF(設定!C38=\"\",\"\",設定!C38)","v":""},null,0,"hi　月の長期休業の日数",null,null,null,null,null,null,null,"遅刻・早退","×○"]
[null,31,{"$f":"IF(VLOOKUP(B38,設定!$K$4:$P$43,$BL$16+2,0)=0,\"\",VLOOKUP(B38,設定!$K$4:$P$43,$BL$16+2,0))","v":""},null,null,null,null,null,null,null,null,null,null,null,null,null,null,null,null,null,null,null,null,null,null,null,null,null,null,null,null,null,null,null,null,null,null,null,null,null,null,null,null,null,null,null,null,null,null,null,{"$f":"IF(設定!B39=\"\",\"\",設定!B39)","v":""},{"$f":"IF(設定!C39=\"\",\"\",設定!C39)","v":""},null,0,"hj　月の祝日の日数",null,null,null,null,null,null,null,"忌引","キ"]
[null,32,{"$f":"IF(VLOOKUP(B39,設定!$K$4:$P$43,$BL$16+2,0)=0,\"\",VLOOKUP(B39,設定!$K$4:$P$43,$BL$16+2,0))","v":""},null,null,null,null,null,null,null,null,null,null,null,null,null,null,null,null,null,null,null,null,null,null,null,null,null,null,null,null,null,null,null,null,null,null,null,null,null,null,null,null,null,null,null,null,null,null,null,{"$f":"IF(設定!B40=\"\",\"\",設定!B40)","v":""},{"$f":"IF(設定!C40=\"\",\"\",設定!C40)","v":""},null,8,"hk　月の祝日ではない土日の数",null,null,null,null,null,null,null,"出席停止","テ"]
[null,33,{"$f":"IF(VLOOKUP(B40,設定!$K$4:$P$43,$BL$16+2,0)=0,\"\",VLOOKUP(B40,設定!$K$4:$P$43,$BL$16+2,0))","v":""},null,null,null,null,null,null,null,null,null,null,null,null,null,null,null,null,null,null,null,null,null,null,null,null,null,null,null,null,null,null,null,null,null,null,null,null,null,null,null,null,null,null,null,null,null,null,null,{"$f":"IF(設定!B41=\"\",\"\",設定!B41)","v":""},{"$f":"IF(設定!C41=\"\",\"\",設定!C41)","v":""},null,0,"hl　長期休業で祝日と重複する数",null,null,null,null,null,null,null,"その他","タ"]
[null,34,{"$f":"IF(VLOOKUP(B41,設定!$K$4:$P$43,$BL$16+2,0)=0,\"\",VLOOKUP(B41,設定!$K$4:$P$43,$BL$16+2,0))","v":""},null,null,null,null,null,null,null,null,null,null,null,null,null,null,null,null,null,null,null,null,null,null,null,null,null,null,null,null,null,null,null,null,null,null,null,null,null,null,null,null,null,null,null,null,null,null,null,{"$f":"IF(設定!B42=\"\",\"\",設定!B42)","v":""},{"$f":"IF(設定!C42=\"\",\"\",設定!C42)","v":""},null,0,"so　卒業式後の日数",null,null,null,null,null,null,null,"転手転確転入","◎"]
[null,35,{"$f":"IF(VLOOKUP(B42,設定!$K$4:$P$43,$BL$16+2,0)=0,\"\",VLOOKUP(B42,設定!$K$4:$P$43,$BL$16+2,0))","v":""},null,null,null,null,null,null,null,null,null,null,null,null,null,null,null,null,null,null,null,null,null,null,null,null,null,null,null,null,null,null,null,null,null,null,null,null,null,null,null,null,null,null,null,null,null,null,null,{"$f":"IF(設定!B43=\"\",\"\",設定!B43)","v":""},{"$f":"IF(設定!C43=\"\",\"\",設定!C43)","v":""},null,0,"gh　学級閉鎖の日数"]
[null,36,{"$f":"IF(VLOOKUP(B43,設定!$K$4:$P$43,$BL$16+2,0)=0,\"\",VLOOKUP(B43,設定!$K$4:$P$43,$BL$16+2,0))","v":""},null,null,null,null,null,null,null,null,null,null,null,null,null,null,null,null,null,null,null,null,null,null,null,null,null,null,null,null,null,null,null,null,null,null,null,null,null,null,null,null,null,null,null,null,null,null,null,{"$f":"IF(設定!B44=\"\",\"\",設定!B44)","v":""},{"$f":"IF(設定!C44=\"\",\"\",設定!C44)","v":""},null,null,null,null,null,null,null,null,null,null,"※転出入については、集計欄の自動計算には対応していません。「月末処理」の後、手動にて修正をしてください。"]
[null,37,{"$f":"IF(VLOOKUP(B44,設定!$K$4:$P$43,$BL$16+2,0)=0,\"\",VLOOKUP(B44,設定!$K$4:$P$43,$BL$16+2,0))","v":""}]
[null,38,{"$f":"IF(VLOOKUP(B45,設定!$K$4:$P$43,$BL$16+2,0)=0,\"\",VLOOKUP(B45,設定!$K$4:$P$43,$BL$16+2,0))","v":""},null,null,null,null,null,null,null,null,null,null,null,null,null,null,null,null,null,null,null,null,null,null,null,null,null,null,null,null,null,null,null,null,null,null,null,null,null,null,null,null,null,null,null,null,null,null,"児童生徒数",{"$f":"40-BB45-BC45","v":4},null,null,{"$f":"COUNTIF(C6:C25,\"\")","v":16},{"$f":"COUNTIF(C28:C47,\"\")","v":20},"児童生徒欄の空白セル"]
[null,39,{"$f":"IF(VLOOKUP(B46,設定!$K$4:$P$43,$BL$16+2,0)=0,\"\",VLOOKUP(B46,設定!$K$4:$P$43,$BL$16+2,0))","v":""},null,null,null,null,null,null,null,null,null,null,null,null,null,null,null,null,null,null,null,null,null,null,null,null,null,null,null,null,null,null,null,null,null,null,null,null,null,null,null,null,null,null,null,null,null,null,"授業日数",null,"←月始め処理で授業日数が入力される"]
[null,40,{"$f":"IF(VLOOKUP(B47,設定!$K$4:$P$43,$BL$16+2,0)=0,\"\",VLOOKUP(B47,設定!$K$4:$P$43,$BL$16+2,0))","v":""},null,null,null,null,null,null,null,null,null,null,null,null,null,null,null,null,null,null,null,null,null,null,null,null,null,null,null,null,null,null,null,null,null,null,null,null,null,null,null,null,null,null,null,null,null,null,"出席者数",22,"←月末処理で入力される",null,"出席日数0のカウント"]
[null,"計","出  席  者  数",null,null,null,null,null,null,null,null,null,null,null,null,null,null,null,null,null,null,null,null,null,null,null,null,null,null,null,null,null,null,null,null,null,null,null,null,null,null,null,null,null,null,null,null,null,null,"全欠席者数",{"$f":"SUM(BH53:BH92)","v":0},"←月末処理で入力される",null,{"$f":"COUNTIF(AV6:AV25,0)","v":0},{"$f":"COUNTIF(AV28:AV47,0)","v":0},{"$f":"BB48+BC48","v":0}]
[null,null,"欠  席  者  数",null,null,null,null,null,null,null,null,null,null,null,null,null,null,null,null,null,null,null,null,null,null,null,null,null,null,null,null,null,null,null,null,null,null,null,null,null,null,null,null,null,null,null,null,null,null,"転入学者数",0,"←月末処理で入力される"]
[null,"授業","日数",null,null,null,null,"在籍","者数",null,null,null,null,null,null,"出席","者数",null,null,null,null,null,null,"全欠席","者　数",null,null,null,null,null,null,null,"転入学","者　数",null,null,null,null,null,"転学退",null,"学者数",null,null,null,null,null,null,null,"転学退学者数",0,"←月末処理で入力される"]
[]
[null,null,null,null,null,null,null,null,null,null,null,null,null,null,null,null,null,null,null,null,null,null,null,null,null,null,null,null,null,null,null,null,null,null,null,null,null,null,null,null,null,null,null,null,null,null,null,null,null,"長期休業間隔",{"$f":"IF(BK19=\"狭く\",9,IF(BK19=\"やや狭く\",8,IF(BK19=\"やや広く\",6,IF(BK19=\"広く\",5,7))))","v":6},null,"長期休業間隔",null,"標準",null,null,null,"全欠処理"]
[null,null,null,null,null,null,null,null,null,null,null,null,null,null,null,null,null,null,null,null,null,null,null,null,null,null,null,null,null,null,null,null,null,null,null,null,null,null,null,null,null,null,null,null,null,null,null,null,null,"長期休業処理",null,null,null,null,"狭く",null,null,null,1,{"$f":"IF(AV6<>\"\",IF(AM6-AR6-AS6=0,1,0),0)","v":0}]
[null,null,null,null,null,null,null,null,null,null,null,null,null,null,null,null,null,null,null,null,null,null,null,null,null,null,null,null,null,null,null,null,null,null,null,null,null,null,null,null,null,null,null,null,null,null,null,null,null,"長期休業Ⅰ",{"$f":"BO19","v":0},null,null,null,"やや狭く",null,null,null,2,{"$f":"IF(AV7<>\"\",IF(AM7-AR7-AS7=0,1,0),0)","v":0}]
[null,null,null,null,null,null,null,null,null,null,null,null,null,null,null,null,null,null,null,null,null,null,null,null,null,null,null,null,null,null,null,null,null,null,null,null,null,null,null,null,null,null,null,null,null,null,null,null,null,null,{"$f":"BO20","v":0},null,null,null,"やや広く",null,null,null,3,0]
[null,null,null,null,null,null,null,null,null,null,null,null,null,null,null,null,null,null,null,null,null,null,null,null,null,null,null,null,null,null,null,null,null,null,null,null,null,null,null,null,null,null,null,null,null,null,null,null,null,null,{"$f":"BO21","v":0},null,null,null,{"$f":"IF(F3=4,\"\",IF(F3=3,\"\",\"広く\"))","v":"広く"},null,null,null,4,0]
[null,null,null,null,null,null,null,null,null,null,null,null,null,null,null,null,null,null,null,null,null,null,null,null,null,null,null,null,null,null,null,null,null,null,null,null,null,null,null,null,null,null,null,null,null,null,null,null,null,"長期休業Ⅱ",{"$f":"BO23","v":0},null,null,null,null,null,null,null,5,0]
[null,null,null,null,null,null,null,null,null,null,null,null,null,null,null,null,null,null,null,null,null,null,null,null,null,null,null,null,null,null,null,null,null,null,null,null,null,null,null,null,null,null,null,null,null,null,null,null,null,null,{"$f":"BO24","v":0},null,null,null,null,null,null,null,6,0]
[null,null,null,null,null,null,null,null,null,null,null,null,null,null,null,null,null,null,null,null,null,null,null,null,null,null,null,null,null,null,null,null,null,null,null,null,null,null,null,null,null,null,null,null,null,null,null,null,null,null,{"$f":"BO25","v":0},null,null,null,null,null,null,null,7,0]
[null,null,null,null,null,null,null,null,null,null,null,null,null,null,null,null,null,null,null,null,null,null,null,null,null,null,null,null,null,null,null,null,null,null,null,null,null,null,null,null,null,null,null,null,null,null,null,null,null,"長期休業Ⅲ",{"$f":"BO27","v":0},null,null,null,null,null,null,null,8,0]
[null,null,null,null,null,null,null,null,null,null,null,null,null,null,null,null,null,null,null,null,null,null,null,null,null,null,null,null,null,null,null,null,null,null,null,null,null,null,null,null,null,null,null,null,null,null,null,null,null,null,{"$f":"BO28","v":0},null,null,null,null,null,null,null,9,0]
[null,null,null,null,null,null,null,null,null,null,null,null,null,null,null,null,null,null,null,null,null,null,null,null,null,null,null,null,null,null,null,null,null,null,null,null,null,null,null,null,null,null,null,null,null,null,null,null,null,null,{"$f":"BO29","v":0},null,null,null,null,null,null,null,10,0]
[null,null,null,null,null,null,null,null,null,null,null,null,null,null,null,null,null,null,null,null,null,null,null,null,null,null,null,null,null,null,null,null,null,null,null,null,null,null,null,null,null,null,null,null,null,null,null,null,null,null,{"$f":"MAX(AY55,AY58,AY61)","v":0},null,null,null,null,null,null,null,11,0]
[null,null,null,null,null,null,null,null,null,null,null,null,null,null,null,null,null,null,null,null,null,null,null,null,null,null,null,null,null,null,null,null,null,null,null,null,null,null,null,null,null,null,null,null,null,null,null,null,null,null,null,null,null,null,null,null,null,null,12,0]
[null,null,null,null,null,null,null,null,null,null,null,null,null,null,null,null,null,null,null,null,null,null,null,null,null,null,null,null,null,null,null,null,null,null,null,null,null,null,null,null,null,null,null,null,null,null,null,null,null,null,null,null,null,null,null,null,null,null,13,0]
[null,null,null,null,null,null,null,null,null,null,null,null,null,null,null,null,null,null,null,null,null,null,null,null,null,null,null,null,null,null,null,null,null,null,null,null,null,null,null,null,null,null,null,null,null,null,null,null,null,null,null,null,null,null,null,null,null,null,14,0]
[null,null,null,null,null,null,null,null,null,null,null,null,null,null,null,null,null,null,null,null,null,null,null,null,null,null,null,null,null,null,null,null,null,null,null,null,null,null,null,null,null,null,null,null,null,null,null,null,null,null,null,null,null,null,null,null,null,null,15,0]
[null,null,null,null,null,null,null,null,null,null,null,null,null,null,null,null,null,null,null,null,null,null,null,null,null,null,null,null,null,null,null,null,null,null,null,null,null,null,null,null,null,null,null,null,null,null,null,null,null,null,null,null,null,null,null,null,null,null,16,0]
[null,null,null,null,null,null,null,null,null,null,null,null,null,null,null,null,null,null,null,null,null,null,null,null,null,null,null,null,null,null,null,null,null,null,null,null,null,null,null,null,null,null,null,null,null,null,null,null,null,"入力規則","／",null,null,null,null,null,null,null,17,0]
[null,null,null,null,null,null,null,null,null,null,null,null,null,null,null,null,null,null,null,null,null,null,null,null,null,null,null,null,null,null,null,null,null,null,null,null,null,null,null,null,null,null,null,null,null,null,null,null,null,null,"〃",null,null,null,null,null,null,null,18,0]
[null,null,null,null,null,null,null,null,null,null,null,null,null,null,null,null,null,null,null,null,null,null,null,null,null,null,null,null,null,null,null,null,null,null,null,null,null,null,null,null,null,null,null,null,null,null,null,null,null,null,"×",null,null,null,null,null,null,null,19,0]
[null,null,null,null,null,null,null,null,null,null,null,null,null,null,null,null,null,null,null,null,null,null,null,null,null,null,null,null,null,null,null,null,null,null,null,null,null,null,null,null,null,null,null,null,null,null,null,null,null,null,"○",null,null,null,null,null,null,null,20,0]
[null,null,null,null,null,null,null,null,null,null,null,null,null,null,null,null,null,null,null,null,null,null,null,null,null,null,null,null,null,null,null,null,null,null,null,null,null,null,null,null,null,null,null,null,null,null,null,null,null,null,"×○",null,null,null,null,null,null,null,21,{"$f":"IF(AV28<>\"\",IF(AM28-AR28-AS28=0,1,0),0)","v":0}]
[null,null,null,null,null,null,null,null,null,null,null,null,null,null,null,null,null,null,null,null,null,null,null,null,null,null,null,null,null,null,null,null,null,null,null,null,null,null,null,null,null,null,null,null,null,null,null,null,null,null,"キ",null,null,null,null,null,null,null,22,{"$f":"IF(AV29<>\"\",IF(AM29-AR29-AS29=0,1,0),0)","v":0}]
[null,null,null,null,null,null,null,null,null,null,null,null,null,null,null,null,null,null,null,null,null,null,null,null,null,null,null,null,null,null,null,null,null,null,null,null,null,null,null,null,null,null,null,null,null,null,null,null,null,null,"テ",null,null,null,null,null,null,null,23,0]
[null,null,null,null,null,null,null,null,null,null,null,null,null,null,null,null,null,null,null,null,null,null,null,null,null,null,null,null,null,null,null,null,null,null,null,null,null,null,null,null,null,null,null,null,null,null,null,null,null,null,"タ",null,null,null,null,null,null,null,24,0]
[null,null,null,null,null,null,null,null,null,null,null,null,null,null,null,null,null,null,null,null,null,null,null,null,null,null,null,null,null,null,null,null,null,null,null,null,null,null,null,null,null,null,null,null,null,null,null,null,null,null,"◎",null,null,null,null,null,null,null,25,0]
[null,null,null,null,null,null,null,null,null,null,null,null,null,null,null,null,null,null,null,null,null,null,null,null,null,null,null,null,null,null,null,null,null,null,null,null,null,null,null,null,null,null,null,null,null,null,null,null,null,null,null,null,null,null,null,null,null,null,26,0]
[null,null,null,null,null,null,null,null,null,null,null,null,null,null,null,null,null,null,null,null,null,null,null,null,null,null,null,null,null,null,null,null,null,null,null,null,null,null,null,null,null,null,null,null,null,null,null,null,null,null,null,null,null,null,null,null,null,null,27,0]
[null,null,null,null,null,null,null,null,null,null,null,null,null,null,null,null,null,null,null,null,null,null,null,null,null,null,null,null,null,null,null,null,null,null,null,null,null,null,null,null,null,null,null,null,null,null,null,null,null,null,null,null,null,null,null,null,null,null,28,0]
[null,null,null,null,null,null,null,null,null,null,null,null,null,null,null,null,null,null,null,null,null,null,null,null,null,null,null,null,null,null,null,null,null,null,null,null,null,null,null,null,null,null,null,null,null,null,null,null,null,null,null,null,null,null,null,null,null,null,29,0]
[null,null,null,null,null,null,null,null,null,null,null,null,null,null,null,null,null,null,null,null,null,null,null,null,null,null,null,null,null,null,null,null,null,null,null,null,null,null,null,null,null,null,null,null,null,null,null,null,null,null,null,null,null,null,null,null,null,null,30,0]
[null,null,null,null,null,null,null,null,null,null,null,null,null,null,null,null,null,null,null,null,null,null,null,null,null,null,null,null,null,null,null,null,null,null,null,null,null,null,null,null,null,null,null,null,null,null,null,null,null,null,null,null,null,null,null,null,null,null,31,0]
[null,null,null,null,null,null,null,null,null,null,null,null,null,null,null,null,null,null,null,null,null,null,null,null,null,null,null,null,null,null,null,null,null,null,null,null,null,null,null,null,null,null,null,null,null,null,null,null,null,"追加休業","臨時休業",null,null,null,null,null,null,null,32,0]
[null,null,null,null,null,null,null,null,null,null,null,null,null,null,null,null,null,null,null,null,null,null,null,null,null,null,null,null,null,null,null,null,null,null,null,null,null,null,null,null,null,null,null,null,null,null,null,null,null,null,"学年閉鎖",null,null,null,null,null,null,null,33,0]
[null,null,null,null,null,null,null,null,null,null,null,null,null,null,null,null,null,null,null,null,null,null,null,null,null,null,null,null,null,null,null,null,null,null,null,null,null,null,null,null,null,null,null,null,null,null,null,null,null,null,"学級閉鎖",null,null,null,null,null,null,null,34,0]
[null,null,null,null,null,null,null,null,null,null,null,null,null,null,null,null,null,null,null,null,null,null,null,null,null,null,null,null,null,null,null,null,null,null,null,null,null,null,null,null,null,null,null,null,null,null,null,null,null,null,null,null,null,null,null,null,null,null,35,0]
[null,null,null,null,null,null,null,null,null,null,null,null,null,null,null,null,null,null,null,null,null,null,null,null,null,null,null,null,null,null,null,null,null,null,null,null,null,null,null,null,null,null,null,null,null,null,null,null,null,null,null,null,null,null,null,null,null,null,36,0]
[null,null,null,null,null,null,null,null,null,null,null,null,null,null,null,null,null,null,null,null,null,null,null,null,null,null,null,null,null,null,null,null,null,null,null,null,null,null,null,null,null,null,null,null,null,null,null,null,null,null,null,null,null,null,null,null,null,null,37,0]
[null,null,null,null,null,null,null,null,null,null,null,null,null,null,null,null,null,null,null,null,null,null,null,null,null,null,null,null,null,null,null,null,null,null,null,null,null,null,null,null,null,null,null,null,null,null,null,null,null,"長期休業","学年始休業",null,null,null,null,null,null,null,38,0]
[null,null,null,null,null,null,null,null,null,null,null,null,null,null,null,null,null,null,null,null,null,null,null,null,null,null,null,null,null,null,null,null,null,null,null,null,null,null,null,null,null,null,null,null,null,null,null,null,null,null,"夏季休業",null,null,null,null,null,null,null,39,0]
[null,null,null,null,null,null,null,null,null,null,null,null,null,null,null,null,null,null,null,null,null,null,null,null,null,null,null,null,null,null,null,null,null,null,null,null,null,null,null,null,null,null,null,null,null,null,null,null,null,null,"秋季休業",null,null,null,null,null,null,null,40,{"$f":"IF(AV47<>\"\",IF(AM47-AR47-AS47=0,1,0),0)","v":0}]
[null,null,null,null,null,null,null,null,null,null,null,null,null,null,null,null,null,null,null,null,null,null,null,null,null,null,null,null,null,null,null,null,null,null,null,null,null,null,null,null,null,null,null,null,null,null,null,null,null,null,"冬季休業"]
[null,null,null,null,null,null,null,null,null,null,null,null,null,null,null,null,null,null,null,null,null,null,null,null,null,null,null,null,null,null,null,null,null,null,null,null,null,null,null,null,null,null,null,null,null,null,null,null,null,null,"学年末休業"]
[null,null,null,null,null,null,null,null,null,null,null,null,null,null,null,null,null,null,null,null,null,null,null,null,null,null,null,null,null,null,null,null,null,null,null,null,null,null,null,null,null,null,null,null,null,null,null,null,null,null,"臨時休業"]
[null,null,null,null,null,null,null,null,null,null,null,null,null,null,null,null,null,null,null,null,null,null,null,null,null,null,null,null,null,null,null,null,null,null,null,null,null,null,null,null,null,null,null,null,null,null,null,null,null,null,"学年閉鎖"]

{"sheet":"7月","index":5,"n_rows":96,"n_cols":67,"rows_kept":96,"cut":false,"hidden":false,"merged":[[49,41,49,42],[49,44,49,46],[51,52,51,53],[49,4,49,5],[49,10,49,13],[49,18,49,21],[49,26,49,30],[49,35,49,37],[49,39,49,40],[46,2,46,6],[46,39,46,40],[46,41,46,42],[47,1,48,1],[47,2,47,6],[47,39,47,40],[47,41,47,42],[48,2,48,6],[48,39,48,40],[48,41,48,42],[42,62,45,63],[43,2,43,6],[43,39,43,40],[43,41,43,42],[44,2,44,6],[44,39,44,40],[44,41,44,42],[45,2,45,6],[45,39,45,40],[45,41,45,42],[41,2,41,6],[41,39,41,40],[41,41,41,42],[42,2,42,6],[42,39,42,40],[42,41,42,42],[39,2,39,6],[39,39,39,40],[39,41,39,42],[40,2,40,6],[40,39,40,40],[40,41,40,42],[37,2,37,6],[37,39,37,40],[37,41,37,42],[38,2,38,6],[38,39,38,40],[38,41,38,42],[35,2,35,6],[35,39,35,40],[35,41,35,42],[36,2,36,6],[36,39,36,40],[36,41,36,42],[33,2,33,6],[33,39,33,40],[33,41,33,42],[34,2,34,6],[34,39,34,40],[34,41,34,42],[31,2,31,6],[31,39,31,40],[31,41,31,42],[32,2,32,6],[32,39,32,40],[32,41,32,42],[28,41,28,42],[29,2,29,6],[29,39,29,40],[29,41,29,42],[30,2,30,6],[30,39,30,40],[30,41,30,42],[25,39,25,40],[25,41,25,42],[26,39,26,40],[26,41,26,42],[22,2,22,6],[22,39,22,40],[22,41,22,42],[18,2,18,6],[18,39,18,40],[18,41,18,42],[27,0,37,0],[27,2,27,6],[27,39,27,40],[27,41,27,42],[28,2,28,6],[28,39,28,40],[23,2,23,6],[23,39,23,40],[23,41,23,42],[24,2,24,6],[24,39,24,40],[24,41,24,42],[5,0,24,0],[5,2,5,6],[5,39,5,40],[5,41,5,42],[6,2,6,6],[6,39,6,40],[10,2,10,6],[10,39,10,40],[10,41,10,42],[11,2,11,6],[11,39,11,40],[11,41,11,42],[8,2,8,6],[18,62,18,63],[19,2,19,6],[19,39,19,40],[19,41,19,42],[19,62,21,63],[20,2,20,6],[20,39,20,40],[16,2,16,6],[16,39,16,40],[16,41,16,42],[17,2,17,6],[17,39,17,40],[17,41,17,42],[20,41,20,42],[21,2,21,6],[21,39,21,40],[21,41,21,42],[14,2,14,6],[14,39,14,40],[14,41,14,42],[15,2,15,6],[15,39,15,40],[15,41,15,42],[12,2,12,6],[12,39,12,40],[12,41,12,42],[13,2,13,6],[13,39,13,40],[13,41,13,42],[8,39,8,40],[8,41,8,42],[9,2,9,6],[9,39,9,40],[9,41,9,42],[3,1,4,1],[3,38,4,38],[3,39,4,39],[3,40,4,40],[3,41,4,41],[6,41,6,42],[7,2,7,6],[7,39,7,40],[7,41,7,42],[0,49,0,60],[1,39,1,44],[1,53,1,54],[1,55,1,56],[1,57,1,58],[2,1,2,2],[3,42,4,42],[3,43,4,43],[3,44,4,44],[3,45,4,45],[3,46,4,46],[3,47,4,47],[2,19,2,27],[2,31,2,36],[2,38,2,40],[2,41,2,46],[2,9,2,14]]}
[null,null,null,null,null,null,null,null,null,null,null,null,null,null,null,null,null,null,null,null,null,null,null,null,null,null,null,null,null,null,null,null,null,null,null,null,null,null,null,null,null,null,null,null,null,null,null,null,null,"【注意】 この範囲は、処理のために使用しています。"]
[null,null,null,null,null,null,null,null,null,null,null,null,null,null,null,null,null,null,null,null,null,null,null,null,null,null,null,null,null,null,null,null,null,null,null,null,null,null,null,"校 長 検 印",null,null,null,null,null,null,null,null,null,"処理用セル",null,null,null,"土日",null,"祝日",null,"長期休業",null,"学級閉鎖","赤線"]
[null,{"$f":"設定!C47","v":"令和"},null,{"$f":"IF(F3>3,設定!B49,設定!C49)","v":3},"年",7,"月",null,null,{"$f":"IF(設定!H3=\"\",\"\",設定!H3)","v":"みどり学級"},null,null,null,null,null,null,null,null,null,"出　　席　　簿",null,null,null,null,null,null,null,null,null,null,null,{"$f":"設定!C2&\"学校\"","v":"松岡小学校"},null,null,null,null,null,null,"担任名",null,null,{"$f":"設定!H6","v":"永平寺 太郎"},null,null,null,null,null,null,null,"日にちの合成",{"$f":"IF(D3=\"元\",設定!C48,D3+設定!C48-1)&\"/\"&F3&\"/\"&H4","v":"2021/7/1"},{"$f":"WEEKDAY(AY3)","v":5},"日","(1,?)","(2,?)","(3,?)","(4,?)","(5,?)","(6,?)","(7,?)"]
[null,"番号",null,null,null,null,"日",1,2,3,4,5,6,7,8,9,10,11,12,13,14,15,16,17,18,19,20,21,22,23,24,25,26,27,28,29,30,31,"授業日数","出席停止忌引","等の日数","出席しなければ","ならない日数","病気欠席","事故欠席","遅刻回数","早退回数","出席日数",null,"西暦に変換",{"$f":"DATE(YEAR(AY3),MONTH(AY3),DAY(AY3))","v":"2021-07-01"},{"$f":"YEAR(AY3)","v":2021},1,null,null,null,null,null,null,null,{"$f":"BB4-BC4+BD4-BE4+BF4-BG4","v":0}]
[null,null,null,"氏    名",null,null,"曜日",null,null,null,null,null,null,null,null,null,null,null,null,null,null,null,null,null,null,null,null,null,null,null,null,null,null,null,null,null,null,null,null,null,null,null,null,null,null,null,null,null,null,"曜日決定",{"$f":"TEXT(AY4,\"aaa\")","v":"木"},{"$f":"TEXT(AZ3,\"aaa\")","v":"木"},2,null,null,null,null,null,null,null,{"$f":"BB5-BC5+BD5-BE5+BF5-BG5","v":0}]
["〈記号〉出席空欄　病欠／ 事故欠〃 遅刻× 早退○ 忌引キ 出席停止テ",1,{"$f":"IF(VLOOKUP(B6,設定!$K$4:$P$43,$BL$16+2,0)=0,\"\",VLOOKUP(B6,設定!$K$4:$P$43,$BL$16+2,0))","v":"西郷隆盛　１年"},null,null,null,null,null,null,null,null,null,null,null,null,null,null,null,null,null,null,null,null,null,null,null,null,null,null,null,null,null,null,null,null,null,null,null,null,null,null,null,null,null,null,null,null,null,null,"今月の日数",31,null,3,null,null,null,null,null,null,null,0]
[null,2,{"$f":"IF(VLOOKUP(B7,設定!$K$4:$P$43,$BL$16+2,0)=0,\"\",VLOOKUP(B7,設定!$K$4:$P$43,$BL$16+2,0))","v":"伊達政宗　３年"},null,null,null,null,null,null,null,null,null,null,null,null,null,null,null,null,null,null,null,null,null,null,null,null,null,null,null,null,null,null,null,null,null,null,null,null,null,null,null,null,null,null,null,null,null,null,null,null,null,4,null,null,null,null,null,null,null,0,null,null,null,null,"◆休業追加"]
[null,3,{"$f":"IF(VLOOKUP(B8,設定!$K$4:$P$43,$BL$16+2,0)=0,\"\",VLOOKUP(B8,設定!$K$4:$P$43,$BL$16+2,0))","v":"井伊直弼　５年"},null,null,null,null,null,null,null,null,null,null,null,null,null,null,null,null,null,null,null,null,null,null,null,null,null,null,null,null,null,null,null,null,null,null,null,null,null,null,null,null,null,null,null,null,null,null,null,null,null,5,null,null,null,null,null,null,null,0,null,null,null,null,"名称","日"]
[null,4,{"$f":"IF(VLOOKUP(B9,設定!$K$4:$P$43,$BL$16+2,0)=0,\"\",VLOOKUP(B9,設定!$K$4:$P$43,$BL$16+2,0))","v":"桓武天皇　５年"},null,null,null,null,null,null,null,null,null,null,null,null,null,null,null,null,null,null,null,null,null,null,null,null,null,null,null,null,null,null,null,null,null,null,null,null,null,null,null,null,null,null,null,null,null,null,"祝日",{"$f":"IF(設定!B10=\"\",\"\",設定!B10)","v":"2021-04-29"},{"$f":"IF(設定!C10=\"\",\"\",設定!C10)","v":"昭和の日"},6,null,null,null,null,null,null,null,0,null,null,null,null,"学年閉鎖",20]
[null,5,{"$f":"IF(VLOOKUP(B10,設定!$K$4:$P$43,$BL$16+2,0)=0,\"\",VLOOKUP(B10,設定!$K$4:$P$43,$BL$16+2,0))","v":""},null,null,null,null,null,null,null,null,null,null,null,null,null,null,null,null,null,null,null,null,null,null,null,null,null,null,null,null,null,null,null,null,null,null,null,null,null,null,null,null,null,null,null,null,null,null,null,{"$f":"IF(設定!B11=\"\",\"\",設定!B11)","v":"2021-05-03"},{"$f":"IF(設定!C11=\"\",\"\",設定!C11)","v":"憲法記念日"},7,null,null,null,null,null,null,null,0]
[null,6,{"$f":"IF(VLOOKUP(B11,設定!$K$4:$P$43,$BL$16+2,0)=0,\"\",VLOOKUP(B11,設定!$K$4:$P$43,$BL$16+2,0))","v":""},null,null,null,null,null,null,null,null,null,null,null,null,null,null,null,null,null,null,null,null,null,null,null,null,null,null,null,null,null,null,null,null,null,null,null,null,null,null,null,null,null,null,null,null,null,null,null,{"$f":"IF(設定!B12=\"\",\"\",設定!B12)","v":"2021-05-04"},{"$f":"IF(設定!C12=\"\",\"\",設定!C12)","v":"みどりの日"},8,null,null,null,null,null,null,null,0]
[null,7,{"$f":"IF(VLOOKUP(B12,設定!$K$4:$P$43,$BL$16+2,0)=0,\"\",VLOOKUP(B12,設定!$K$4:$P$43,$BL$16+2,0))","v":""},null,null,null,null,null,null,null,null,null,null,null,null,null,null,null,null,null,null,null,null,null,null,null,null,null,null,null,null,null,null,null,null,null,null,null,null,null,null,null,null,null,null,null,null,null,null,null,{"$f":"IF(設定!B13=\"\",\"\",設定!B13)","v":"2021-05-05"},{"$f":"IF(設定!C13=\"\",\"\",設定!C13)","v":"こどもの日"},9,null,null,null,null,null,null,null,0]
[null,8,{"$f":"IF(VLOOKUP(B13,設定!$K$4:$P$43,$BL$16+2,0)=0,\"\",VLOOKUP(B13,設定!$K$4:$P$43,$BL$16+2,0))","v":""},null,null,null,null,null,null,null,null,null,null,null,null,null,null,null,null,null,null,null,null,null,null,null,null,null,null,null,null,null,null,null,null,null,null,null,null,null,null,null,null,null,null,null,null,null,null,null,{"$f":"IF(設定!B14=\"\",\"\",設定!B14)","v":"2021-07-22"},{"$f":"IF(設定!C14=\"\",\"\",設定!C14)","v":"海の日"},10,null,null,null,null,null,null,null,0]
[null,9,{"$f":"IF(VLOOKUP(B14,設定!$K$4:$P$43,$BL$16+2,0)=0,\"\",VLOOKUP(B14,設定!$K$4:$P$43,$BL$16+2,0))","v":""},null,null,null,null,null,null,null,null,null,null,null,null,null,null,null,null,null,null,null,null,null,null,null,null,null,null,null,null,null,null,null,null,null,null,null,null,null,null,null,null,null,null,null,null,null,null,null,{"$f":"IF(設定!B15=\"\",\"\",設定!B15)","v":"2021-07-23"},{"$f":"IF(設定!C15=\"\",\"\",設定!C15)","v":"スポーツの日"},11,null,null,null,null,null,null,null,0]
[null,10,{"$f":"IF(VLOOKUP(B15,設定!$K$4:$P$43,$BL$16+2,0)=0,\"\",VLOOKUP(B15,設定!$K$4:$P$43,$BL$16+2,0))","v":""},null,null,null,null,null,null,null,null,null,null,null,null,null,null,null,null,null,null,null,null,null,null,null,null,null,null,null,null,null,null,null,null,null,null,null,null,null,null,null,null,null,null,null,null,null,null,null,{"$f":"IF(設定!B16=\"\",\"\",設定!B16)","v":"2021-08-08"},{"$f":"IF(設定!C16=\"\",\"\",設定!C16)","v":"山の日"},12,null,null,null,null,null,null,null,0]
[null,11,{"$f":"IF(VLOOKUP(B16,設定!$K$4:$P$43,$BL$16+2,0)=0,\"\",VLOOKUP(B16,設定!$K$4:$P$43,$BL$16+2,0))","v":""},null,null,null,null,null,null,null,null,null,null,null,null,null,null,null,null,null,null,null,null,null,null,null,null,null,null,null,null,null,null,null,null,null,null,null,null,null,null,null,null,null,null,null,null,null,null,null,{"$f":"IF(設定!B17=\"\",\"\",設定!B17)","v":"2021-08-09"},{"$f":"IF(設定!C17=\"\",\"\",設定!C17)","v":"休　　日"},13,null,null,null,null,null,null,null,0,null,"使用名列",0]
[null,12,{"$f":"IF(VLOOKUP(B17,設定!$K$4:$P$43,$BL$16+2,0)=0,\"\",VLOOKUP(B17,設定!$K$4:$P$43,$BL$16+2,0))","v":""},null,null,null,null,null,null,null,null,null,null,null,null,null,null,null,null,null,null,null,null,null,null,null,null,null,null,null,null,null,null,null,null,null,null,null,null,null,null,null,null,null,null,null,null,null,null,null,{"$f":"IF(設定!B18=\"\",\"\",設定!B18)","v":"2021-09-20"},{"$f":"IF(設定!C18=\"\",\"\",設定!C18)","v":"敬老の日"},14,null,null,null,null,null,null,null,0,null,null,null,null,"※「月始め処理」の前に入力"]
[null,13,{"$f":"IF(VLOOKUP(B18,設定!$K$4:$P$43,$BL$16+2,0)=0,\"\",VLOOKUP(B18,設定!$K$4:$P$43,$BL$16+2,0))","v":""},null,null,null,null,null,null,null,null,null,null,null,null,null,null,null,null,null,null,null,null,null,null,null,null,null,null,null,null,null,null,null,null,null,null,null,null,null,null,null,null,null,null,null,null,null,null,null,{"$f":"IF(設定!B19=\"\",\"\",設定!B19)","v":"2021-09-23"},{"$f":"IF(設定!C19=\"\",\"\",設定!C19)","v":"秋分の日"},15,null,null,null,null,null,null,null,0,null,"◆長期休業の文字間隔",null,null,"◆長期休業Ⅰ"]
[null,14,{"$f":"IF(VLOOKUP(B19,設定!$K$4:$P$43,$BL$16+2,0)=0,\"\",VLOOKUP(B19,設定!$K$4:$P$43,$BL$16+2,0))","v":""},null,null,null,null,null,null,null,null,null,null,null,null,null,null,null,null,null,null,null,null,null,null,null,null,null,null,null,null,null,null,null,null,null,null,null,null,null,null,null,null,null,null,null,null,null,null,null,{"$f":"IF(設定!B20=\"\",\"\",設定!B20)","v":"2021-11-03"},{"$f":"IF(設定!C20=\"\",\"\",設定!C20)","v":"文化の日"},16,null,null,null,null,null,null,null,0,null,"やや広く",null,null,"名称","夏季休業"]
[null,15,{"$f":"IF(VLOOKUP(B20,設定!$K$4:$P$43,$BL$16+2,0)=0,\"\",VLOOKUP(B20,設定!$K$4:$P$43,$BL$16+2,0))","v":""},null,null,null,null,null,null,null,null,null,null,null,null,null,null,null,null,null,null,null,null,null,null,null,null,null,null,null,null,null,null,null,null,null,null,null,null,null,null,null,null,null,null,null,null,null,null,null,{"$f":"IF(設定!B21=\"\",\"\",設定!B21)","v":"2021-11-23"},{"$f":"IF(設定!C21=\"\",\"\",設定!C21)","v":"勤労感謝の日"},17,null,null,null,null,null,null,null,0,null,"※長期休業の文字間隔を調節します。祝日との文字の重なりを回避することができます。",null,null,"開始日",21]
[null,16,{"$f":"IF(VLOOKUP(B21,設定!$K$4:$P$43,$BL$16+2,0)=0,\"\",VLOOKUP(B21,設定!$K$4:$P$43,$BL$16+2,0))","v":""},null,null,null,null,null,null,null,null,null,null,null,null,null,null,null,null,null,null,null,null,null,null,null,null,null,null,null,null,null,null,null,null,null,null,null,null,null,null,null,null,null,null,null,null,null,null,null,{"$f":"IF(設定!B22=\"\",\"\",設定!B22)","v":"2022-01-01"},{"$f":"IF(設定!C22=\"\",\"\",設定!C22)","v":"元　　日"},18,null,null,null,null,null,null,null,0,null,null,null,null,"終了日",31]
[null,17,{"$f":"IF(VLOOKUP(B22,設定!$K$4:$P$43,$BL$16+2,0)=0,\"\",VLOOKUP(B22,設定!$K$4:$P$43,$BL$16+2,0))","v":""},null,null,null,null,null,null,null,null,null,null,null,null,null,null,null,null,null,null,null,null,null,null,null,null,null,null,null,null,null,null,null,null,null,null,null,null,null,null,null,null,null,null,null,null,null,null,null,{"$f":"IF(設定!B23=\"\",\"\",設定!B23)","v":"2022-01-10"},{"$f":"IF(設定!C23=\"\",\"\",設定!C23)","v":"成人の日"},19,null,null,null,null,null,null,null,0,null,null,null,null,"◆長期休業Ⅱ"]
[null,18,{"$f":"IF(VLOOKUP(B23,設定!$K$4:$P$43,$BL$16+2,0)=0,\"\",VLOOKUP(B23,設定!$K$4:$P$43,$BL$16+2,0))","v":""},null,null,null,null,null,null,null,null,null,null,null,null,null,null,null,null,null,null,null,null,null,null,null,null,null,null,null,null,null,null,null,null,null,null,null,null,null,null,null,null,null,null,null,null,null,null,null,{"$f":"IF(設定!B24=\"\",\"\",設定!B24)","v":"2022-02-11"},{"$f":"IF(設定!C24=\"\",\"\",設定!C24)","v":"建国記念の日"},20,null,null,null,null,null,null,null,0,null,null,null,null,"名称"]
[null,19,{"$f":"IF(VLOOKUP(B24,設定!$K$4:$P$43,$BL$16+2,0)=0,\"\",VLOOKUP(B24,設定!$K$4:$P$43,$BL$16+2,0))","v":""},null,null,null,null,null,null,null,null,null,null,null,null,null,null,null,null,null,null,null,null,null,null,null,null,null,null,null,null,null,null,null,null,null,null,null,null,null,null,null,null,null,null,null,null,null,null,null,{"$f":"IF(設定!B25=\"\",\"\",設定!B25)","v":"2022-02-23"},{"$f":"IF(設定!C25=\"\",\"\",設定!C25)","v":"天皇誕生日"},21,null,null,null,null,null,null,null,0,null,"◆各処理にて再計算",null,null,"開始日"]
[null,20,{"$f":"IF(VLOOKUP(B25,設定!$K$4:$P$43,$BL$16+2,0)=0,\"\",VLOOKUP(B25,設定!$K$4:$P$43,$BL$16+2,0))","v":""},null,null,null,null,null,null,null,null,null,null,null,null,null,null,null,null,null,null,null,null,null,null,null,null,null,null,null,null,null,null,null,null,null,null,null,null,null,null,null,null,null,null,null,null,null,null,null,{"$f":"IF(設定!B26=\"\",\"\",設定!B26)","v":"2022-03-19"},{"$f":"IF(設定!C26=\"\",\"\",設定!C26)","v":"春分の日"},22,null,null,null,null,null,null,null,0,null,"児童生徒数",{"$f":"AY45","v":4},null,"終了日"]
[null,null,null,null,null,null,null,null,null,null,null,null,null,null,null,null,null,null,null,null,null,null,null,null,null,null,null,null,null,null,null,null,null,null,null,null,null,null,null,null,null,null,null,null,null,null,null,null,null,null,{"$f":"IF(設定!B27=\"\",\"\",設定!B27)","v":""},{"$f":"IF(設定!C27=\"\",\"\",設定!C27)","v":""},23,null,null,null,null,null,null,null,0,null,"授業日数",{"$f":"IF(AY46=\"\",\"\",AY46)","v":""},null,"◆長期休業Ⅲ"]
[null,null,null,null,null,null,null,1,2,3,4,5,6,7,8,9,10,11,12,13,14,15,16,17,18,19,20,21,22,23,24,25,26,27,28,29,30,31,null,null,null,null,null,null,null,null,null,null,null,null,{"$f":"IF(設定!B28=\"\",\"\",設定!B28)","v":""},{"$f":"IF(設定!C28=\"\",\"\",設定!C28)","v":""},24,null,null,null,null,null,null,null,0,null,"出席者数",22,null,"名称"]
["その他教育上特に必要と認めた日タ",21,{"$f":"IF(VLOOKUP(B28,設定!$K$4:$P$43,$BL$16+2,0)=0,\"\",VLOOKUP(B28,設定!$K$4:$P$43,$BL$16+2,0))","v":""},null,null,null,null,null,null,null,null,null,null,null,null,null,null,null,null,null,null,null,null,null,null,null,null,null,null,null,null,null,null,null,null,null,null,null,null,null,null,null,null,null,null,null,null,null,null,null,{"$f":"IF(設定!B29=\"\",\"\",設定!B29)","v":""},{"$f":"IF(設定!C29=\"\",\"\",設定!C29)","v":""},25,null,null,null,null,null,null,null,0,null,"全欠席者数",0,null,"開始日"]
[null,22,{"$f":"IF(VLOOKUP(B29,設定!$K$4:$P$43,$BL$16+2,0)=0,\"\",VLOOKUP(B29,設定!$K$4:$P$43,$BL$16+2,0))","v":""},null,null,null,null,null,null,null,null,null,null,null,null,null,null,null,null,null,null,null,null,null,null,null,null,null,null,null,null,null,null,null,null,null,null,null,null,null,null,null,null,null,null,null,null,null,null,null,{"$f":"IF(設定!B30=\"\",\"\",設定!B30)","v":""},{"$f":"IF(設定!C30=\"\",\"\",設定!C30)","v":""},26,null,null,null,null,null,null,null,0,null,"転入学者数",0,null,"終了日"]
[null,23,{"$f":"IF(VLOOKUP(B30,設定!$K$4:$P$43,$BL$16+2,0)=0,\"\",VLOOKUP(B30,設定!$K$4:$P$43,$BL$16+2,0))","v":""},null,null,null,null,null,null,null,null,null,null,null,null,null,null,null,null,null,null,null,null,null,null,null,null,null,null,null,null,null,null,null,null,null,null,null,null,null,null,null,null,null,null,null,null,null,null,null,{"$f":"IF(設定!B31=\"\",\"\",設定!B31)","v":""},{"$f":"IF(設定!C31=\"\",\"\",設定!C31)","v":""},27,null,null,null,null,null,null,null,0,null,"転学退学者数",0]
[null,24,{"$f":"IF(VLOOKUP(B31,設定!$K$4:$P$43,$BL$16+2,0)=0,\"\",VLOOKUP(B31,設定!$K$4:$P$43,$BL$16+2,0))","v":""},null,null,null,null,null,null,null,null,null,null,null,null,null,null,null,null,null,null,null,null,null,null,null,null,null,null,null,null,null,null,null,null,null,null,null,null,null,null,null,null,null,null,null,null,null,null,null,{"$f":"IF(設定!B32=\"\",\"\",設定!B32)","v":""},{"$f":"IF(設定!C32=\"\",\"\",設定!C32)","v":""},28,null,null,null,null,null,null,null,0]
[null,25,{"$f":"IF(VLOOKUP(B32,設定!$K$4:$P$43,$BL$16+2,0)=0,\"\",VLOOKUP(B32,設定!$K$4:$P$43,$BL$16+2,0))","v":""},null,null,null,null,null,null,null,null,null,null,null,null,null,null,null,null,null,null,null,null,null,null,null,null,null,null,null,null,null,null,null,null,null,null,null,null,null,null,null,null,null,null,null,null,null,null,null,{"$f":"IF(設定!B33=\"\",\"\",設定!B33)","v":""},{"$f":"IF(設定!C33=\"\",\"\",設定!C33)","v":""},29,null,null,null,null,null,null,null,0,null,"◆入力記号"]
[null,26,{"$f":"IF(VLOOKUP(B33,設定!$K$4:$P$43,$BL$16+2,0)=0,\"\",VLOOKUP(B33,設定!$K$4:$P$43,$BL$16+2,0))","v":""},null,null,null,null,null,null,null,null,null,null,null,null,null,null,null,null,null,null,null,null,null,null,null,null,null,null,null,null,null,null,null,null,null,null,null,null,null,null,null,null,null,null,null,null,null,null,null,{"$f":"IF(設定!B34=\"\",\"\",設定!B34)","v":""},{"$f":"IF(設定!C34=\"\",\"\",設定!C34)","v":""},30,null,null,null,null,null,null,null,0,null,"病欠","／"]
[null,27,{"$f":"IF(VLOOKUP(B34,設定!$K$4:$P$43,$BL$16+2,0)=0,\"\",VLOOKUP(B34,設定!$K$4:$P$43,$BL$16+2,0))","v":""},null,null,null,null,null,null,null,null,null,null,null,null,null,null,null,null,null,null,null,null,null,null,null,null,null,null,null,null,null,null,null,null,null,null,null,null,null,null,null,null,null,null,null,null,null,null,null,{"$f":"IF(設定!B35=\"\",\"\",設定!B35)","v":""},{"$f":"IF(設定!C35=\"\",\"\",設定!C35)","v":""},31,null,null,null,null,null,null,null,0,null,"事故欠","〃"]
[null,28,{"$f":"IF(VLOOKUP(B35,設定!$K$4:$P$43,$BL$16+2,0)=0,\"\",VLOOKUP(B35,設定!$K$4:$P$43,$BL$16+2,0))","v":""},null,null,null,null,null,null,null,null,null,null,null,null,null,null,null,null,null,null,null,null,null,null,null,null,null,null,null,null,null,null,null,null,null,null,null,null,null,null,null,null,null,null,null,null,null,null,null,{"$f":"IF(設定!B36=\"\",\"\",設定!B36)","v":""},{"$f":"IF(設定!C36=\"\",\"\",設定!C36)","v":""},null,null,null,null,null,null,null,null,null,null,"遅刻","×"]
[null,29,{"$f":"IF(VLOOKUP(B36,設定!$K$4:$P$43,$BL$16+2,0)=0,\"\",VLOOKUP(B36,設定!$K$4:$P$43,$BL$16+2,0))","v":""},null,null,null,null,null,null,null,null,null,null,null,null,null,null,null,null,null,null,null,null,null,null,null,null,null,null,null,null,null,null,null,null,null,null,null,null,null,null,null,null,null,null,null,null,null,null,null,{"$f":"IF(設定!B37=\"\",\"\",設定!B37)","v":""},{"$f":"IF(設定!C37=\"\",\"\",設定!C37)","v":""},null,31,"data(tu)　その月の日数",null,null,null,null,null,null,null,"早退","○"]
[null,30,{"$f":"IF(VLOOKUP(B37,設定!$K$4:$P$43,$BL$16+2,0)=0,\"\",VLOOKUP(B37,設定!$K$4:$P$43,$BL$16+2,0))","v":""},null,null,null,null,null,null,null,null,null,null,null,null,null,null,null,null,null,null,null,null,null,null,null,null,null,null,null,null,null,null,null,null,null,null,null,null,null,null,null,null,null,null,null,null,null,null,null,{"$f":"IF(設定!B38=\"\",\"\",設定!B38)","v":""},{"$f":"IF(設定!C38=\"\",\"\",設定!C38)","v":""},null,11,"hi　月の長期休業の日数",null,null,null,null,null,null,null,"遅刻・早退","×○"]
[null,31,{"$f":"IF(VLOOKUP(B38,設定!$K$4:$P$43,$BL$16+2,0)=0,\"\",VLOOKUP(B38,設定!$K$4:$P$43,$BL$16+2,0))","v":""},null,null,null,null,null,null,null,null,null,null,null,null,null,null,null,null,null,null,null,null,null,null,null,null,null,null,null,null,null,null,null,null,null,null,null,null,null,null,null,null,null,null,null,null,null,null,null,{"$f":"IF(設定!B39=\"\",\"\",設定!B39)","v":""},{"$f":"IF(設定!C39=\"\",\"\",設定!C39)","v":""},null,2,"hj　月の祝日の日数",null,null,null,null,null,null,null,"忌引","キ"]
[null,32,{"$f":"IF(VLOOKUP(B39,設定!$K$4:$P$43,$BL$16+2,0)=0,\"\",VLOOKUP(B39,設定!$K$4:$P$43,$BL$16+2,0))","v":""},null,null,null,null,null,null,null,null,null,null,null,null,null,null,null,null,null,null,null,null,null,null,null,null,null,null,null,null,null,null,null,null,null,null,null,null,null,null,null,null,null,null,null,null,null,null,null,{"$f":"IF(設定!B40=\"\",\"\",設定!B40)","v":""},{"$f":"IF(設定!C40=\"\",\"\",設定!C40)","v":""},null,6,"hk　月の祝日ではない土日の数",null,null,null,null,null,null,null,"出席停止","テ"]
[null,33,{"$f":"IF(VLOOKUP(B40,設定!$K$4:$P$43,$BL$16+2,0)=0,\"\",VLOOKUP(B40,設定!$K$4:$P$43,$BL$16+2,0))","v":""},null,null,null,null,null,null,null,null,null,null,null,null,null,null,null,null,null,null,null,null,null,null,null,null,null,null,null,null,null,null,null,null,null,null,null,null,null,null,null,null,null,null,null,null,null,null,null,{"$f":"IF(設定!B41=\"\",\"\",設定!B41)","v":""},{"$f":"IF(設定!C41=\"\",\"\",設定!C41)","v":""},null,2,"hl　長期休業で祝日と重複する数",null,null,null,null,null,null,null,"その他","タ"]
[null,34,{"$f":"IF(VLOOKUP(B41,設定!$K$4:$P$43,$BL$16+2,0)=0,\"\",VLOOKUP(B41,設定!$K$4:$P$43,$BL$16+2,0))","v":""},null,null,null,null,null,null,null,null,null,null,null,null,null,null,null,null,null,null,null,null,null,null,null,null,null,null,null,null,null,null,null,null,null,null,null,null,null,null,null,null,null,null,null,null,null,null,null,{"$f":"IF(設定!B42=\"\",\"\",設定!B42)","v":""},{"$f":"IF(設定!C42=\"\",\"\",設定!C42)","v":""},null,0,"so　卒業式後の日数",null,null,null,null,null,null,null,"転手転確転入","◎"]
[null,35,{"$f":"IF(VLOOKUP(B42,設定!$K$4:$P$43,$BL$16+2,0)=0,\"\",VLOOKUP(B42,設定!$K$4:$P$43,$BL$16+2,0))","v":""},null,null,null,null,null,null,null,null,null,null,null,null,null,null,null,null,null,null,null,null,null,null,null,null,null,null,null,null,null,null,null,null,null,null,null,null,null,null,null,null,null,null,null,null,null,null,null,{"$f":"IF(設定!B43=\"\",\"\",設定!B43)","v":""},{"$f":"IF(設定!C43=\"\",\"\",設定!C43)","v":""},null,0,"gh　学級閉鎖の日数"]
[null,36,{"$f":"IF(VLOOKUP(B43,設定!$K$4:$P$43,$BL$16+2,0)=0,\"\",VLOOKUP(B43,設定!$K$4:$P$43,$BL$16+2,0))","v":""},null,null,null,null,null,null,null,null,null,null,null,null,null,null,null,null,null,null,null,null,null,null,null,null,null,null,null,null,null,null,null,null,null,null,null,null,null,null,null,null,null,null,null,null,null,null,null,{"$f":"IF(設定!B44=\"\",\"\",設定!B44)","v":""},{"$f":"IF(設定!C44=\"\",\"\",設定!C44)","v":""},null,null,null,null,null,null,null,null,null,null,"※転出入については、集計欄の自動計算には対応していません。「月末処理」の後、手動にて修正をしてください。"]
[null,37,{"$f":"IF(VLOOKUP(B44,設定!$K$4:$P$43,$BL$16+2,0)=0,\"\",VLOOKUP(B44,設定!$K$4:$P$43,$BL$16+2,0))","v":""}]
[null,38,{"$f":"IF(VLOOKUP(B45,設定!$K$4:$P$43,$BL$16+2,0)=0,\"\",VLOOKUP(B45,設定!$K$4:$P$43,$BL$16+2,0))","v":""},null,null,null,null,null,null,null,null,null,null,null,null,null,null,null,null,null,null,null,null,null,null,null,null,null,null,null,null,null,null,null,null,null,null,null,null,null,null,null,null,null,null,null,null,null,null,"児童生徒数",{"$f":"40-BB45-BC45","v":4},null,null,{"$f":"COUNTIF(C6:C25,\"\")","v":16},{"$f":"COUNTIF(C28:C47,\"\")","v":20},"児童生徒欄の空白セル"]
[null,39,{"$f":"IF(VLOOKUP(B46,設定!$K$4:$P$43,$BL$16+2,0)=0,\"\",VLOOKUP(B46,設定!$K$4:$P$43,$BL$16+2,0))","v":""},null,null,null,null,null,null,null,null,null,null,null,null,null,null,null,null,null,null,null,null,null,null,null,null,null,null,null,null,null,null,null,null,null,null,null,null,null,null,null,null,null,null,null,null,null,null,"授業日数",null,"←月始め処理で授業日数が入力される"]
[null,40,{"$f":"IF(VLOOKUP(B47,設定!$K$4:$P$43,$BL$16+2,0)=0,\"\",VLOOKUP(B47,設定!$K$4:$P$43,$BL$16+2,0))","v":""},null,null,null,null,null,null,null,null,null,null,null,null,null,null,null,null,null,null,null,null,null,null,null,null,null,null,null,null,null,null,null,null,null,null,null,null,null,null,null,null,null,null,null,null,null,null,"出席者数",22,"←月末処理で入力される",null,"出席日数0のカウント"]
[null,"計","出  席  者  数",null,null,null,null,null,null,null,null,null,null,null,null,null,null,null,null,null,null,null,null,null,null,null,null,null,null,null,null,null,null,null,null,null,null,null,null,null,null,null,null,null,null,null,null,null,null,"全欠席者数",{"$f":"SUM(BH53:BH92)","v":0},"←月末処理で入力される",null,{"$f":"COUNTIF(AV6:AV25,0)","v":0},{"$f":"COUNTIF(AV28:AV47,0)","v":0},{"$f":"BB48+BC48","v":0}]
[null,null,"欠  席  者  数",null,null,null,null,null,null,null,null,null,null,null,null,null,null,null,null,null,null,null,null,null,null,null,null,null,null,null,null,null,null,null,null,null,null,null,null,null,null,null,null,null,null,null,null,null,null,"転入学者数",0,"←月末処理で入力される"]
[null,"授業","日数",null,null,null,null,"在籍","者数",null,null,null,null,null,null,"出席","者数",null,null,null,null,null,null,"全欠席","者　数",null,null,null,null,null,null,null,"転入学","者　数",null,null,null,null,null,"転学退",null,"学者数",null,null,null,null,null,null,null,"転学退学者数",0,"←月末処理で入力される"]
[]
[null,null,null,null,null,null,null,null,null,null,null,null,null,null,null,null,null,null,null,null,null,null,null,null,null,null,null,null,null,null,null,null,null,null,null,null,null,null,null,null,null,null,null,null,null,null,null,null,null,"長期休業間隔",{"$f":"IF(BK19=\"狭く\",9,IF(BK19=\"やや狭く\",8,IF(BK19=\"やや広く\",6,IF(BK19=\"広く\",5,7))))","v":6},null,"長期休業間隔",null,"標準",null,null,null,"全欠処理"]
[null,null,null,null,null,null,null,null,null,null,null,null,null,null,null,null,null,null,null,null,null,null,null,null,null,null,null,null,null,null,null,null,null,null,null,null,null,null,null,null,null,null,null,null,null,null,null,null,null,"長期休業処理",null,null,null,null,"狭く",null,null,null,1,{"$f":"IF(AV6<>\"\",IF(AM6-AR6-AS6=0,1,0),0)","v":0}]
[null,null,null,null,null,null,null,null,null,null,null,null,null,null,null,null,null,null,null,null,null,null,null,null,null,null,null,null,null,null,null,null,null,null,null,null,null,null,null,null,null,null,null,null,null,null,null,null,null,"長期休業Ⅰ",{"$f":"BO19","v":"夏季休業"},null,null,null,"やや狭く",null,null,null,2,{"$f":"IF(AV7<>\"\",IF(AM7-AR7-AS7=0,1,0),0)","v":0}]
[null,null,null,null,null,null,null,null,null,null,null,null,null,null,null,null,null,null,null,null,null,null,null,null,null,null,null,null,null,null,null,null,null,null,null,null,null,null,null,null,null,null,null,null,null,null,null,null,null,null,{"$f":"BO20","v":21},null,null,null,"やや広く",null,null,null,3,0]
[null,null,null,null,null,null,null,null,null,null,null,null,null,null,null,null,null,null,null,null,null,null,null,null,null,null,null,null,null,null,null,null,null,null,null,null,null,null,null,null,null,null,null,null,null,null,null,null,null,null,{"$f":"BO21","v":31},null,null,null,{"$f":"IF(F3=4,\"\",IF(F3=3,\"\",\"広く\"))","v":"広く"},null,null,null,4,0]
[null,null,null,null,null,null,null,null,null,null,null,null,null,null,null,null,null,null,null,null,null,null,null,null,null,null,null,null,null,null,null,null,null,null,null,null,null,null,null,null,null,null,null,null,null,null,null,null,null,"長期休業Ⅱ",{"$f":"BO23","v":0},null,null,null,null,null,null,null,5,0]
[null,null,null,null,null,null,null,null,null,null,null,null,null,null,null,null,null,null,null,null,null,null,null,null,null,null,null,null,null,null,null,null,null,null,null,null,null,null,null,null,null,null,null,null,null,null,null,null,null,null,{"$f":"BO24","v":0},null,null,null,null,null,null,null,6,0]
[null,null,null,null,null,null,null,null,null,null,null,null,null,null,null,null,null,null,null,null,null,null,null,null,null,null,null,null,null,null,null,null,null,null,null,null,null,null,null,null,null,null,null,null,null,null,null,null,null,null,{"$f":"BO25","v":0},null,null,null,null,null,null,null,7,0]
[null,null,null,null,null,null,null,null,null,null,null,null,null,null,null,null,null,null,null,null,null,null,null,null,null,null,null,null,null,null,null,null,null,null,null,null,null,null,null,null,null,null,null,null,null,null,null,null,null,"長期休業Ⅲ",{"$f":"BO27","v":0},null,null,null,null,null,null,null,8,0]
[null,null,null,null,null,null,null,null,null,null,null,null,null,null,null,null,null,null,null,null,null,null,null,null,null,null,null,null,null,null,null,null,null,null,null,null,null,null,null,null,null,null,null,null,null,null,null,null,null,null,{"$f":"BO28","v":0},null,null,null,null,null,null,null,9,0]
[null,null,null,null,null,null,null,null,null,null,null,null,null,null,null,null,null,null,null,null,null,null,null,null,null,null,null,null,null,null,null,null,null,null,null,null,null,null,null,null,null,null,null,null,null,null,null,null,null,null,{"$f":"BO29","v":0},null,null,null,null,null,null,null,10,0]
[null,null,null,null,null,null,null,null,null,null,null,null,null,null,null,null,null,null,null,null,null,null,null,null,null,null,null,null,null,null,null,null,null,null,null,null,null,null,null,null,null,null,null,null,null,null,null,null,null,null,{"$f":"MAX(AY55,AY58,AY61)","v":21},null,null,null,null,null,null,null,11,0]
[null,null,null,null,null,null,null,null,null,null,null,null,null,null,null,null,null,null,null,null,null,null,null,null,null,null,null,null,null,null,null,null,null,null,null,null,null,null,null,null,null,null,null,null,null,null,null,null,null,null,null,null,null,null,null,null,null,null,12,0]
[null,null,null,null,null,null,null,null,null,null,null,null,null,null,null,null,null,null,null,null,null,null,null,null,null,null,null,null,null,null,null,null,null,null,null,null,null,null,null,null,null,null,null,null,null,null,null,null,null,null,null,null,null,null,null,null,null,null,13,0]
[null,null,null,null,null,null,null,null,null,null,null,null,null,null,null,null,null,null,null,null,null,null,null,null,null,null,null,null,null,null,null,null,null,null,null,null,null,null,null,null,null,null,null,null,null,null,null,null,null,null,null,null,null,null,null,null,null,null,14,0]
[null,null,null,null,null,null,null,null,null,null,null,null,null,null,null,null,null,null,null,null,null,null,null,null,null,null,null,null,null,null,null,null,null,null,null,null,null,null,null,null,null,null,null,null,null,null,null,null,null,null,null,null,null,null,null,null,null,null,15,0]
[null,null,null,null,null,null,null,null,null,null,null,null,null,null,null,null,null,null,null,null,null,null,null,null,null,null,null,null,null,null,null,null,null,null,null,null,null,null,null,null,null,null,null,null,null,null,null,null,null,null,null,null,null,null,null,null,null,null,16,0]
[null,null,null,null,null,null,null,null,null,null,null,null,null,null,null,null,null,null,null,null,null,null,null,null,null,null,null,null,null,null,null,null,null,null,null,null,null,null,null,null,null,null,null,null,null,null,null,null,null,"入力規則","／",null,null,null,null,null,null,null,17,0]
[null,null,null,null,null,null,null,null,null,null,null,null,null,null,null,null,null,null,null,null,null,null,null,null,null,null,null,null,null,null,null,null,null,null,null,null,null,null,null,null,null,null,null,null,null,null,null,null,null,null,"〃",null,null,null,null,null,null,null,18,0]
[null,null,null,null,null,null,null,null,null,null,null,null,null,null,null,null,null,null,null,null,null,null,null,null,null,null,null,null,null,null,null,null,null,null,null,null,null,null,null,null,null,null,null,null,null,null,null,null,null,null,"×",null,null,null,null,null,null,null,19,0]
[null,null,null,null,null,null,null,null,null,null,null,null,null,null,null,null,null,null,null,null,null,null,null,null,null,null,null,null,null,null,null,null,null,null,null,null,null,null,null,null,null,null,null,null,null,null,null,null,null,null,"○",null,null,null,null,null,null,null,20,0]
[null,null,null,null,null,null,null,null,null,null,null,null,null,null,null,null,null,null,null,null,null,null,null,null,null,null,null,null,null,null,null,null,null,null,null,null,null,null,null,null,null,null,null,null,null,null,null,null,null,null,"×○",null,null,null,null,null,null,null,21,{"$f":"IF(AV28<>\"\",IF(AM28-AR28-AS28=0,1,0),0)","v":0}]
[null,null,null,null,null,null,null,null,null,null,null,null,null,null,null,null,null,null,null,null,null,null,null,null,null,null,null,null,null,null,null,null,null,null,null,null,null,null,null,null,null,null,null,null,null,null,null,null,null,null,"キ",null,null,null,null,null,null,null,22,{"$f":"IF(AV29<>\"\",IF(AM29-AR29-AS29=0,1,0),0)","v":0}]
[null,null,null,null,null,null,null,null,null,null,null,null,null,null,null,null,null,null,null,null,null,null,null,null,null,null,null,null,null,null,null,null,null,null,null,null,null,null,null,null,null,null,null,null,null,null,null,null,null,null,"テ",null,null,null,null,null,null,null,23,0]
[null,null,null,null,null,null,null,null,null,null,null,null,null,null,null,null,null,null,null,null,null,null,null,null,null,null,null,null,null,null,null,null,null,null,null,null,null,null,null,null,null,null,null,null,null,null,null,null,null,null,"タ",null,null,null,null,null,null,null,24,0]
[null,null,null,null,null,null,null,null,null,null,null,null,null,null,null,null,null,null,null,null,null,null,null,null,null,null,null,null,null,null,null,null,null,null,null,null,null,null,null,null,null,null,null,null,null,null,null,null,null,null,"◎",null,null,null,null,null,null,null,25,0]
[null,null,null,null,null,null,null,null,null,null,null,null,null,null,null,null,null,null,null,null,null,null,null,null,null,null,null,null,null,null,null,null,null,null,null,null,null,null,null,null,null,null,null,null,null,null,null,null,null,null,null,null,null,null,null,null,null,null,26,0]
[null,null,null,null,null,null,null,null,null,null,null,null,null,null,null,null,null,null,null,null,null,null,null,null,null,null,null,null,null,null,null,null,null,null,null,null,null,null,null,null,null,null,null,null,null,null,null,null,null,null,null,null,null,null,null,null,null,null,27,0]
[null,null,null,null,null,null,null,null,null,null,null,null,null,null,null,null,null,null,null,null,null,null,null,null,null,null,null,null,null,null,null,null,null,null,null,null,null,null,null,null,null,null,null,null,null,null,null,null,null,null,null,null,null,null,null,null,null,null,28,0]
[null,null,null,null,null,null,null,null,null,null,null,null,null,null,null,null,null,null,null,null,null,null,null,null,null,null,null,null,null,null,null,null,null,null,null,null,null,null,null,null,null,null,null,null,null,null,null,null,null,null,null,null,null,null,null,null,null,null,29,0]
[null,null,null,null,null,null,null,null,null,null,null,null,null,null,null,null,null,null,null,null,null,null,null,null,null,null,null,null,null,null,null,null,null,null,null,null,null,null,null,null,null,null,null,null,null,null,null,null,null,null,null,null,null,null,null,null,null,null,30,0]
[null,null,null,null,null,null,null,null,null,null,null,null,null,null,null,null,null,null,null,null,null,null,null,null,null,null,null,null,null,null,null,null,null,null,null,null,null,null,null,null,null,null,null,null,null,null,null,null,null,null,null,null,null,null,null,null,null,null,31,0]
[null,null,null,null,null,null,null,null,null,null,null,null,null,null,null,null,null,null,null,null,null,null,null,null,null,null,null,null,null,null,null,null,null,null,null,null,null,null,null,null,null,null,null,null,null,null,null,null,null,"追加休業","臨時休業",null,null,null,null,null,null,null,32,0]
[null,null,null,null,null,null,null,null,null,null,null,null,null,null,null,null,null,null,null,null,null,null,null,null,null,null,null,null,null,null,null,null,null,null,null,null,null,null,null,null,null,null,null,null,null,null,null,null,null,null,"学年閉鎖",null,null,null,null,null,null,null,33,0]
[null,null,null,null,null,null,null,null,null,null,null,null,null,null,null,null,null,null,null,null,null,null,null,null,null,null,null,null,null,null,null,null,null,null,null,null,null,null,null,null,null,null,null,null,null,null,null,null,null,null,"学級閉鎖",null,null,null,null,null,null,null,34,0]
[null,null,null,null,null,null,null,null,null,null,null,null,null,null,null,null,null,null,null,null,null,null,null,null,null,null,null,null,null,null,null,null,null,null,null,null,null,null,null,null,null,null,null,null,null,null,null,null,null,null,null,null,null,null,null,null,null,null,35,0]
[null,null,null,null,null,null,null,null,null,null,null,null,null,null,null,null,null,null,null,null,null,null,null,null,null,null,null,null,null,null,null,null,null,null,null,null,null,null,null,null,null,null,null,null,null,null,null,null,null,null,null,null,null,null,null,null,null,null,36,0]
[null,null,null,null,null,null,null,null,null,null,null,null,null,null,null,null,null,null,null,null,null,null,null,null,null,null,null,null,null,null,null,null,null,null,null,null,null,null,null,null,null,null,null,null,null,null,null,null,null,null,null,null,null,null,null,null,null,null,37,0]
[null,null,null,null,null,null,null,null,null,null,null,null,null,null,null,null,null,null,null,null,null,null,null,null,null,null,null,null,null,null,null,null,null,null,null,null,null,null,null,null,null,null,null,null,null,null,null,null,null,"長期休業","学年始休業",null,null,null,null,null,null,null,38,0]
[null,null,null,null,null,null,null,null,null,null,null,null,null,null,null,null,null,null,null,null,null,null,null,null,null,null,null,null,null,null,null,null,null,null,null,null,null,null,null,null,null,null,null,null,null,null,null,null,null,null,"夏季休業",null,null,null,null,null,null,null,39,0]
[null,null,null,null,null,null,null,null,null,null,null,null,null,null,null,null,null,null,null,null,null,null,null,null,null,null,null,null,null,null,null,null,null,null,null,null,null,null,null,null,null,null,null,null,null,null,null,null,null,null,"秋季休業",null,null,null,null,null,null,null,40,{"$f":"IF(AV47<>\"\",IF(AM47-AR47-AS47=0,1,0),0)","v":0}]
[null,null,null,null,null,null,null,null,null,null,null,null,null,null,null,null,null,null,null,null,null,null,null,null,null,null,null,null,null,null,null,null,null,null,null,null,null,null,null,null,null,null,null,null,null,null,null,null,null,null,"冬季休業"]
[null,null,null,null,null,null,null,null,null,null,null,null,null,null,null,null,null,null,null,null,null,null,null,null,null,null,null,null,null,null,null,null,null,null,null,null,null,null,null,null,null,null,null,null,null,null,null,null,null,null,"学年末休業"]
[null,null,null,null,null,null,null,null,null,null,null,null,null,null,null,null,null,null,null,null,null,null,null,null,null,null,null,null,null,null,null,null,null,null,null,null,null,null,null,null,null,null,null,null,null,null,null,null,null,null,"臨時休業"]
[null,null,null,null,null,null,null,null,null,null,null,null,null,null,null,null,null,null,null,null,null,null,null,null,null,null,null,null,null,null,null,null,null,null,null,null,null,null,null,null,null,null,null,null,null,null,null,null,null,null,"学年閉鎖"]

{"sheet":"8月","index":6,"n_rows":96,"n_cols":67,"rows_kept":96,"cut":false,"hidden":false,"merged":[[49,41,49,42],[49,44,49,46],[51,52,51,53],[49,4,49,5],[49,10,49,13],[49,18,49,21],[49,26,49,30],[49,35,49,37],[49,39,49,40],[46,2,46,6],[46,39,46,40],[46,41,46,42],[47,1,48,1],[47,2,47,6],[47,39,47,40],[47,41,47,42],[48,2,48,6],[48,39,48,40],[48,41,48,42],[42,62,45,63],[43,2,43,6],[43,39,43,40],[43,41,43,42],[44,2,44,6],[44,39,44,40],[44,41,44,42],[45,2,45,6],[45,39,45,40],[45,41,45,42],[41,2,41,6],[41,39,41,40],[41,41,41,42],[42,2,42,6],[42,39,42,40],[42,41,42,42],[39,2,39,6],[39,39,39,40],[39,41,39,42],[40,2,40,6],[40,39,40,40],[40,41,40,42],[37,2,37,6],[37,39,37,40],[37,41,37,42],[38,2,38,6],[38,39,38,40],[38,41,38,42],[35,2,35,6],[35,39,35,40],[35,41,35,42],[36,2,36,6],[36,39,36,40],[36,41,36,42],[33,2,33,6],[33,39,33,40],[33,41,33,42],[34,2,34,6],[34,39,34,40],[34,41,34,42],[31,2,31,6],[31,39,31,40],[31,41,31,42],[32,2,32,6],[32,39,32,40],[32,41,32,42],[28,41,28,42],[29,2,29,6],[29,39,29,40],[29,41,29,42],[30,2,30,6],[30,39,30,40],[30,41,30,42],[25,39,25,40],[25,41,25,42],[26,39,26,40],[26,41,26,42],[22,2,22,6],[22,39,22,40],[22,41,22,42],[18,2,18,6],[18,39,18,40],[18,41,18,42],[27,0,37,0],[27,2,27,6],[27,39,27,40],[27,41,27,42],[28,2,28,6],[28,39,28,40],[23,2,23,6],[23,39,23,40],[23,41,23,42],[24,2,24,6],[24,39,24,40],[24,41,24,42],[5,0,24,0],[5,2,5,6],[5,39,5,40],[5,41,5,42],[6,2,6,6],[6,39,6,40],[10,2,10,6],[10,39,10,40],[10,41,10,42],[11,2,11,6],[11,39,11,40],[11,41,11,42],[8,2,8,6],[18,62,18,63],[19,2,19,6],[19,39,19,40],[19,41,19,42],[19,62,21,63],[20,2,20,6],[20,39,20,40],[16,2,16,6],[16,39,16,40],[16,41,16,42],[17,2,17,6],[17,39,17,40],[17,41,17,42],[20,41,20,42],[21,2,21,6],[21,39,21,40],[21,41,21,42],[14,2,14,6],[14,39,14,40],[14,41,14,42],[15,2,15,6],[15,39,15,40],[15,41,15,42],[12,2,12,6],[12,39,12,40],[12,41,12,42],[13,2,13,6],[13,39,13,40],[13,41,13,42],[8,39,8,40],[8,41,8,42],[9,2,9,6],[9,39,9,40],[9,41,9,42],[3,1,4,1],[3,38,4,38],[3,39,4,39],[3,40,4,40],[3,41,4,41],[6,41,6,42],[7,2,7,6],[7,39,7,40],[7,41,7,42],[0,49,0,60],[1,39,1,44],[1,53,1,54],[1,55,1,56],[1,57,1,58],[2,1,2,2],[3,42,4,42],[3,43,4,43],[3,44,4,44],[3,45,4,45],[3,46,4,46],[3,47,4,47],[2,19,2,27],[2,31,2,36],[2,38,2,40],[2,41,2,46],[2,9,2,14]]}
[null,null,null,null,null,null,null,null,null,null,null,null,null,null,null,null,null,null,null,null,null,null,null,null,null,null,null,null,null,null,null,null,null,null,null,null,null,null,null,null,null,null,null,null,null,null,null,null,null,"【注意】 この範囲は、処理のために使用しています。"]
[null,null,null,null,null,null,null,null,null,null,null,null,null,null,null,null,null,null,null,null,null,null,null,null,null,null,null,null,null,null,null,null,null,null,null,null,null,null,null,"校 長 検 印",null,null,null,null,null,null,null,null,null,"処理用セル",null,null,null,"土日",null,"祝日",null,"長期休業",null,"学級閉鎖","赤線"]
[null,{"$f":"設定!C47","v":"令和"},null,{"$f":"IF(F3>3,設定!B49,設定!C49)","v":3},"年",8,"月",null,null,{"$f":"IF(設定!H3=\"\",\"\",設定!H3)","v":"みどり学級"},null,null,null,null,null,null,null,null,null,"出　　席　　簿",null,null,null,null,null,null,null,null,null,null,null,{"$f":"設定!C2&\"学校\"","v":"松岡小学校"},null,null,null,null,null,null,"担任名",null,null,{"$f":"設定!H6","v":"永平寺 太郎"},null,null,null,null,null,null,null,"日にちの合成",{"$f":"IF(D3=\"元\",設定!C48,D3+設定!C48-1)&\"/\"&F3&\"/\"&H4","v":"2021/8/1"},{"$f":"WEEKDAY(AY3)","v":1},"日","(1,?)","(2,?)","(3,?)","(4,?)","(5,?)","(6,?)","(7,?)"]
[null,"番号",null,null,null,null,"日",1,2,3,4,5,6,7,8,9,10,11,12,13,14,15,16,17,18,19,20,21,22,23,24,25,26,27,28,29,30,31,"授業日数","出席停止忌引","等の日数","出席しなければ","ならない日数","病気欠席","事故欠席","遅刻回数","早退回数","出席日数",null,"西暦に変換",{"$f":"DATE(YEAR(AY3),MONTH(AY3),DAY(AY3))","v":"2021-08-01"},{"$f":"YEAR(AY3)","v":2021},1,null,null,null,null,null,null,null,{"$f":"BB4-BC4+BD4-BE4+BF4-BG4","v":0}]
[null,null,null,"氏    名",null,null,"曜日",null,null,null,null,null,null,null,null,null,null,null,null,null,null,null,null,null,null,null,null,null,null,null,null,null,null,null,null,null,null,null,null,null,null,null,null,null,null,null,null,null,null,"曜日決定",{"$f":"TEXT(AY4,\"aaa\")","v":"日"},{"$f":"TEXT(AZ3,\"aaa\")","v":"日"},2,null,null,null,null,null,null,null,{"$f":"BB5-BC5+BD5-BE5+BF5-BG5","v":0}]
["〈記号〉出席空欄　病欠／ 事故欠〃 遅刻× 早退○ 忌引キ 出席停止テ",1,{"$f":"IF(VLOOKUP(B6,設定!$K$4:$P$43,$BL$16+2,0)=0,\"\",VLOOKUP(B6,設定!$K$4:$P$43,$BL$16+2,0))","v":"西郷隆盛　１年"},null,null,null,null,null,null,null,null,null,null,null,null,null,null,null,null,null,null,null,null,null,null,null,null,null,null,null,null,null,null,null,null,null,null,null,null,null,null,null,null,null,null,null,null,null,null,"今月の日数",31,null,3,null,null,null,null,null,null,null,0]
[null,2,{"$f":"IF(VLOOKUP(B7,設定!$K$4:$P$43,$BL$16+2,0)=0,\"\",VLOOKUP(B7,設定!$K$4:$P$43,$BL$16+2,0))","v":"伊達政宗　３年"},null,null,null,null,null,null,null,null,null,null,null,null,null,null,null,null,null,null,null,null,null,null,null,null,null,null,null,null,null,null,null,null,null,null,null,null,null,null,null,null,null,null,null,null,null,null,null,null,null,4,null,null,null,null,null,null,null,0,null,null,null,null,"◆休業追加"]
[null,3,{"$f":"IF(VLOOKUP(B8,設定!$K$4:$P$43,$BL$16+2,0)=0,\"\",VLOOKUP(B8,設定!$K$4:$P$43,$BL$16+2,0))","v":"井伊直弼　５年"},null,null,null,null,null,null,null,null,null,null,null,null,null,null,null,null,null,null,null,null,null,null,null,null,null,null,null,null,null,null,null,null,null,null,null,null,null,null,null,null,null,null,null,null,null,null,null,null,null,5,null,null,null,null,null,null,null,0,null,null,null,null,"名称","日"]
[null,4,{"$f":"IF(VLOOKUP(B9,設定!$K$4:$P$43,$BL$16+2,0)=0,\"\",VLOOKUP(B9,設定!$K$4:$P$43,$BL$16+2,0))","v":"桓武天皇　５年"},null,null,null,null,null,null,null,null,null,null,null,null,null,null,null,null,null,null,null,null,null,null,null,null,null,null,null,null,null,null,null,null,null,null,null,null,null,null,null,null,null,null,null,null,null,null,"祝日",{"$f":"IF(設定!B10=\"\",\"\",設定!B10)","v":"2021-04-29"},{"$f":"IF(設定!C10=\"\",\"\",設定!C10)","v":"昭和の日"},6,null,null,null,null,null,null,null,0,null,null,null,null,"学年閉鎖",20]
[null,5,{"$f":"IF(VLOOKUP(B10,設定!$K$4:$P$43,$BL$16+2,0)=0,\"\",VLOOKUP(B10,設定!$K$4:$P$43,$BL$16+2,0))","v":""},null,null,null,null,null,null,null,null,null,null,null,null,null,null,null,null,null,null,null,null,null,null,null,null,null,null,null,null,null,null,null,null,null,null,null,null,null,null,null,null,null,null,null,null,null,null,null,{"$f":"IF(設定!B11=\"\",\"\",設定!B11)","v":"2021-05-03"},{"$f":"IF(設定!C11=\"\",\"\",設定!C11)","v":"憲法記念日"},7,null,null,null,null,null,null,null,0]
[null,6,{"$f":"IF(VLOOKUP(B11,設定!$K$4:$P$43,$BL$16+2,0)=0,\"\",VLOOKUP(B11,設定!$K$4:$P$43,$BL$16+2,0))","v":""},null,null,null,null,null,null,null,null,null,null,null,null,null,null,null,null,null,null,null,null,null,null,null,null,null,null,null,null,null,null,null,null,null,null,null,null,null,null,null,null,null,null,null,null,null,null,null,{"$f":"IF(設定!B12=\"\",\"\",設定!B12)","v":"2021-05-04"},{"$f":"IF(設定!C12=\"\",\"\",設定!C12)","v":"みどりの日"},8,null,null,null,null,null,null,null,0]
[null,7,{"$f":"IF(VLOOKUP(B12,設定!$K$4:$P$43,$BL$16+2,0)=0,\"\",VLOOKUP(B12,設定!$K$4:$P$43,$BL$16+2,0))","v":""},null,null,null,null,null,null,null,null,null,null,null,null,null,null,null,null,null,null,null,null,null,null,null,null,null,null,null,null,null,null,null,null,null,null,null,null,null,null,null,null,null,null,null,null,null,null,null,{"$f":"IF(設定!B13=\"\",\"\",設定!B13)","v":"2021-05-05"},{"$f":"IF(設定!C13=\"\",\"\",設定!C13)","v":"こどもの日"},9,null,null,null,null,null,null,null,0]
[null,8,{"$f":"IF(VLOOKUP(B13,設定!$K$4:$P$43,$BL$16+2,0)=0,\"\",VLOOKUP(B13,設定!$K$4:$P$43,$BL$16+2,0))","v":""},null,null,null,null,null,null,null,null,null,null,null,null,null,null,null,null,null,null,null,null,null,null,null,null,null,null,null,null,null,null,null,null,null,null,null,null,null,null,null,null,null,null,null,null,null,null,null,{"$f":"IF(設定!B14=\"\",\"\",設定!B14)","v":"2021-07-22"},{"$f":"IF(設定!C14=\"\",\"\",設定!C14)","v":"海の日"},10,null,null,null,null,null,null,null,0]
[null,9,{"$f":"IF(VLOOKUP(B14,設定!$K$4:$P$43,$BL$16+2,0)=0,\"\",VLOOKUP(B14,設定!$K$4:$P$43,$BL$16+2,0))","v":""},null,null,null,null,null,null,null,null,null,null,null,null,null,null,null,null,null,null,null,null,null,null,null,null,null,null,null,null,null,null,null,null,null,null,null,null,null,null,null,null,null,null,null,null,null,null,null,{"$f":"IF(設定!B15=\"\",\"\",設定!B15)","v":"2021-07-23"},{"$f":"IF(設定!C15=\"\",\"\",設定!C15)","v":"スポーツの日"},11,null,null,null,null,null,null,null,0]
[null,10,{"$f":"IF(VLOOKUP(B15,設定!$K$4:$P$43,$BL$16+2,0)=0,\"\",VLOOKUP(B15,設定!$K$4:$P$43,$BL$16+2,0))","v":""},null,null,null,null,null,null,null,null,null,null,null,null,null,null,null,null,null,null,null,null,null,null,null,null,null,null,null,null,null,null,null,null,null,null,null,null,null,null,null,null,null,null,null,null,null,null,null,{"$f":"IF(設定!B16=\"\",\"\",設定!B16)","v":"2021-08-08"},{"$f":"IF(設定!C16=\"\",\"\",設定!C16)","v":"山の日"},12,null,null,null,null,null,null,null,0]
[null,11,{"$f":"IF(VLOOKUP(B16,設定!$K$4:$P$43,$BL$16+2,0)=0,\"\",VLOOKUP(B16,設定!$K$4:$P$43,$BL$16+2,0))","v":""},null,null,null,null,null,null,null,null,null,null,null,null,null,null,null,null,null,null,null,null,null,null,null,null,null,null,null,null,null,null,null,null,null,null,null,null,null,null,null,null,null,null,null,null,null,null,null,{"$f":"IF(設定!B17=\"\",\"\",設定!B17)","v":"2021-08-09"},{"$f":"IF(設定!C17=\"\",\"\",設定!C17)","v":"休　　日"},13,null,null,null,null,null,null,null,0,null,"使用名列",0]
[null,12,{"$f":"IF(VLOOKUP(B17,設定!$K$4:$P$43,$BL$16+2,0)=0,\"\",VLOOKUP(B17,設定!$K$4:$P$43,$BL$16+2,0))","v":""},null,null,null,null,null,null,null,null,null,null,null,null,null,null,null,null,null,null,null,null,null,null,null,null,null,null,null,null,null,null,null,null,null,null,null,null,null,null,null,null,null,null,null,null,null,null,null,{"$f":"IF(設定!B18=\"\",\"\",設定!B18)","v":"2021-09-20"},{"$f":"IF(設定!C18=\"\",\"\",設定!C18)","v":"敬老の日"},14,null,null,null,null,null,null,null,0,null,null,null,null,"※「月始め処理」の前に入力"]
[null,13,{"$f":"IF(VLOOKUP(B18,設定!$K$4:$P$43,$BL$16+2,0)=0,\"\",VLOOKUP(B18,設定!$K$4:$P$43,$BL$16+2,0))","v":""},null,null,null,null,null,null,null,null,null,null,null,null,null,null,null,null,null,null,null,null,null,null,null,null,null,null,null,null,null,null,null,null,null,null,null,null,null,null,null,null,null,null,null,null,null,null,null,{"$f":"IF(設定!B19=\"\",\"\",設定!B19)","v":"2021-09-23"},{"$f":"IF(設定!C19=\"\",\"\",設定!C19)","v":"秋分の日"},15,null,null,null,null,null,null,null,0,null,"◆長期休業の文字間隔",null,null,"◆長期休業Ⅰ"]
[null,14,{"$f":"IF(VLOOKUP(B19,設定!$K$4:$P$43,$BL$16+2,0)=0,\"\",VLOOKUP(B19,設定!$K$4:$P$43,$BL$16+2,0))","v":""},null,null,null,null,null,null,null,null,null,null,null,null,null,null,null,null,null,null,null,null,null,null,null,null,null,null,null,null,null,null,null,null,null,null,null,null,null,null,null,null,null,null,null,null,null,null,null,{"$f":"IF(設定!B20=\"\",\"\",設定!B20)","v":"2021-11-03"},{"$f":"IF(設定!C20=\"\",\"\",設定!C20)","v":"文化の日"},16,null,null,null,null,null,null,null,0,null,"やや広く",null,null,"名称","夏季休業"]
[null,15,{"$f":"IF(VLOOKUP(B20,設定!$K$4:$P$43,$BL$16+2,0)=0,\"\",VLOOKUP(B20,設定!$K$4:$P$43,$BL$16+2,0))","v":""},null,null,null,null,null,null,null,null,null,null,null,null,null,null,null,null,null,null,null,null,null,null,null,null,null,null,null,null,null,null,null,null,null,null,null,null,null,null,null,null,null,null,null,null,null,null,null,{"$f":"IF(設定!B21=\"\",\"\",設定!B21)","v":"2021-11-23"},{"$f":"IF(設定!C21=\"\",\"\",設定!C21)","v":"勤労感謝の日"},17,null,null,null,null,null,null,null,0,null,"※長期休業の文字間隔を調節します。祝日との文字の重なりを回避することができます。",null,null,"開始日",1]
[null,16,{"$f":"IF(VLOOKUP(B21,設定!$K$4:$P$43,$BL$16+2,0)=0,\"\",VLOOKUP(B21,設定!$K$4:$P$43,$BL$16+2,0))","v":""},null,null,null,null,null,null,null,null,null,null,null,null,null,null,null,null,null,null,null,null,null,null,null,null,null,null,null,null,null,null,null,null,null,null,null,null,null,null,null,null,null,null,null,null,null,null,null,{"$f":"IF(設定!B22=\"\",\"\",設定!B22)","v":"2022-01-01"},{"$f":"IF(設定!C22=\"\",\"\",設定!C22)","v":"元　　日"},18,null,null,null,null,null,null,null,0,null,null,null,null,"終了日",29]
[null,17,{"$f":"IF(VLOOKUP(B22,設定!$K$4:$P$43,$BL$16+2,0)=0,\"\",VLOOKUP(B22,設定!$K$4:$P$43,$BL$16+2,0))","v":""},null,null,null,null,null,null,null,null,null,null,null,null,null,null,null,null,null,null,null,null,null,null,null,null,null,null,null,null,null,null,null,null,null,null,null,null,null,null,null,null,null,null,null,null,null,null,null,{"$f":"IF(設定!B23=\"\",\"\",設定!B23)","v":"2022-01-10"},{"$f":"IF(設定!C23=\"\",\"\",設定!C23)","v":"成人の日"},19,null,null,null,null,null,null,null,0,null,null,null,null,"◆長期休業Ⅱ"]
[null,18,{"$f":"IF(VLOOKUP(B23,設定!$K$4:$P$43,$BL$16+2,0)=0,\"\",VLOOKUP(B23,設定!$K$4:$P$43,$BL$16+2,0))","v":""},null,null,null,null,null,null,null,null,null,null,null,null,null,null,null,null,null,null,null,null,null,null,null,null,null,null,null,null,null,null,null,null,null,null,null,null,null,null,null,null,null,null,null,null,null,null,null,{"$f":"IF(設定!B24=\"\",\"\",設定!B24)","v":"2022-02-11"},{"$f":"IF(設定!C24=\"\",\"\",設定!C24)","v":"建国記念の日"},20,null,null,null,null,null,null,null,0,null,null,null,null,"名称"]
[null,19,{"$f":"IF(VLOOKUP(B24,設定!$K$4:$P$43,$BL$16+2,0)=0,\"\",VLOOKUP(B24,設定!$K$4:$P$43,$BL$16+2,0))","v":""},null,null,null,null,null,null,null,null,null,null,null,null,null,null,null,null,null,null,null,null,null,null,null,null,null,null,null,null,null,null,null,null,null,null,null,null,null,null,null,null,null,null,null,null,null,null,null,{"$f":"IF(設定!B25=\"\",\"\",設定!B25)","v":"2022-02-23"},{"$f":"IF(設定!C25=\"\",\"\",設定!C25)","v":"天皇誕生日"},21,null,null,null,null,null,null,null,0,null,"◆各処理にて再計算",null,null,"開始日"]
[null,20,{"$f":"IF(VLOOKUP(B25,設定!$K$4:$P$43,$BL$16+2,0)=0,\"\",VLOOKUP(B25,設定!$K$4:$P$43,$BL$16+2,0))","v":""},null,null,null,null,null,null,null,null,null,null,null,null,null,null,null,null,null,null,null,null,null,null,null,null,null,null,null,null,null,null,null,null,null,null,null,null,null,null,null,null,null,null,null,null,null,null,null,{"$f":"IF(設定!B26=\"\",\"\",設定!B26)","v":"2022-03-19"},{"$f":"IF(設定!C26=\"\",\"\",設定!C26)","v":"春分の日"},22,null,null,null,null,null,null,null,0,null,"児童生徒数",{"$f":"AY45","v":4},null,"終了日"]
[null,null,null,null,null,null,null,null,null,null,null,null,null,null,null,null,null,null,null,null,null,null,null,null,null,null,null,null,null,null,null,null,null,null,null,null,null,null,null,null,null,null,null,null,null,null,null,null,null,null,{"$f":"IF(設定!B27=\"\",\"\",設定!B27)","v":""},{"$f":"IF(設定!C27=\"\",\"\",設定!C27)","v":""},23,null,null,null,null,null,null,null,0,null,"授業日数",{"$f":"IF(AY46=\"\",\"\",AY46)","v":""},null,"◆長期休業Ⅲ"]
[null,null,null,null,null,null,null,1,2,3,4,5,6,7,8,9,10,11,12,13,14,15,16,17,18,19,20,21,22,23,24,25,26,27,28,29,30,31,null,null,null,null,null,null,null,null,null,null,null,null,{"$f":"IF(設定!B28=\"\",\"\",設定!B28)","v":""},{"$f":"IF(設定!C28=\"\",\"\",設定!C28)","v":""},24,null,null,null,null,null,null,null,0,null,"出席者数",22,null,"名称"]
["その他教育上特に必要と認めた日タ",21,{"$f":"IF(VLOOKUP(B28,設定!$K$4:$P$43,$BL$16+2,0)=0,\"\",VLOOKUP(B28,設定!$K$4:$P$43,$BL$16+2,0))","v":""},null,null,null,null,null,null,null,null,null,null,null,null,null,null,null,null,null,null,null,null,null,null,null,null,null,null,null,null,null,null,null,null,null,null,null,null,null,null,null,null,null,null,null,null,null,null,null,{"$f":"IF(設定!B29=\"\",\"\",設定!B29)","v":""},{"$f":"IF(設定!C29=\"\",\"\",設定!C29)","v":""},25,null,null,null,null,null,null,null,0,null,"全欠席者数",0,null,"開始日"]
[null,22,{"$f":"IF(VLOOKUP(B29,設定!$K$4:$P$43,$BL$16+2,0)=0,\"\",VLOOKUP(B29,設定!$K$4:$P$43,$BL$16+2,0))","v":""},null,null,null,null,null,null,null,null,null,null,null,null,null,null,null,null,null,null,null,null,null,null,null,null,null,null,null,null,null,null,null,null,null,null,null,null,null,null,null,null,null,null,null,null,null,null,null,{"$f":"IF(設定!B30=\"\",\"\",設定!B30)","v":""},{"$f":"IF(設定!C30=\"\",\"\",設定!C30)","v":""},26,null,null,null,null,null,null,null,0,null,"転入学者数",0,null,"終了日"]
[null,23,{"$f":"IF(VLOOKUP(B30,設定!$K$4:$P$43,$BL$16+2,0)=0,\"\",VLOOKUP(B30,設定!$K$4:$P$43,$BL$16+2,0))","v":""},null,null,null,null,null,null,null,null,null,null,null,null,null,null,null,null,null,null,null,null,null,null,null,null,null,null,null,null,null,null,null,null,null,null,null,null,null,null,null,null,null,null,null,null,null,null,null,{"$f":"IF(設定!B31=\"\",\"\",設定!B31)","v":""},{"$f":"IF(設定!C31=\"\",\"\",設定!C31)","v":""},27,null,null,null,null,null,null,null,0,null,"転学退学者数",0]
[null,24,{"$f":"IF(VLOOKUP(B31,設定!$K$4:$P$43,$BL$16+2,0)=0,\"\",VLOOKUP(B31,設定!$K$4:$P$43,$BL$16+2,0))","v":""},null,null,null,null,null,null,null,null,null,null,null,null,null,null,null,null,null,null,null,null,null,null,null,null,null,null,null,null,null,null,null,null,null,null,null,null,null,null,null,null,null,null,null,null,null,null,null,{"$f":"IF(設定!B32=\"\",\"\",設定!B32)","v":""},{"$f":"IF(設定!C32=\"\",\"\",設定!C32)","v":""},28,null,null,null,null,null,null,null,0]
[null,25,{"$f":"IF(VLOOKUP(B32,設定!$K$4:$P$43,$BL$16+2,0)=0,\"\",VLOOKUP(B32,設定!$K$4:$P$43,$BL$16+2,0))","v":""},null,null,null,null,null,null,null,null,null,null,null,null,null,null,null,null,null,null,null,null,null,null,null,null,null,null,null,null,null,null,null,null,null,null,null,null,null,null,null,null,null,null,null,null,null,null,null,{"$f":"IF(設定!B33=\"\",\"\",設定!B33)","v":""},{"$f":"IF(設定!C33=\"\",\"\",設定!C33)","v":""},29,null,null,null,null,null,null,null,0,null,"◆入力記号"]
[null,26,{"$f":"IF(VLOOKUP(B33,設定!$K$4:$P$43,$BL$16+2,0)=0,\"\",VLOOKUP(B33,設定!$K$4:$P$43,$BL$16+2,0))","v":""},null,null,null,null,null,null,null,null,null,null,null,null,null,null,null,null,null,null,null,null,null,null,null,null,null,null,null,null,null,null,null,null,null,null,null,null,null,null,null,null,null,null,null,null,null,null,null,{"$f":"IF(設定!B34=\"\",\"\",設定!B34)","v":""},{"$f":"IF(設定!C34=\"\",\"\",設定!C34)","v":""},30,null,null,null,null,null,null,null,0,null,"病欠","／"]
[null,27,{"$f":"IF(VLOOKUP(B34,設定!$K$4:$P$43,$BL$16+2,0)=0,\"\",VLOOKUP(B34,設定!$K$4:$P$43,$BL$16+2,0))","v":""},null,null,null,null,null,null,null,null,null,null,null,null,null,null,null,null,null,null,null,null,null,null,null,null,null,null,null,null,null,null,null,null,null,null,null,null,null,null,null,null,null,null,null,null,null,null,null,{"$f":"IF(設定!B35=\"\",\"\",設定!B35)","v":""},{"$f":"IF(設定!C35=\"\",\"\",設定!C35)","v":""},31,null,null,null,null,null,null,null,0,null,"事故欠","〃"]
[null,28,{"$f":"IF(VLOOKUP(B35,設定!$K$4:$P$43,$BL$16+2,0)=0,\"\",VLOOKUP(B35,設定!$K$4:$P$43,$BL$16+2,0))","v":""},null,null,null,null,null,null,null,null,null,null,null,null,null,null,null,null,null,null,null,null,null,null,null,null,null,null,null,null,null,null,null,null,null,null,null,null,null,null,null,null,null,null,null,null,null,null,null,{"$f":"IF(設定!B36=\"\",\"\",設定!B36)","v":""},{"$f":"IF(設定!C36=\"\",\"\",設定!C36)","v":""},null,null,null,null,null,null,null,null,null,null,"遅刻","×"]
[null,29,{"$f":"IF(VLOOKUP(B36,設定!$K$4:$P$43,$BL$16+2,0)=0,\"\",VLOOKUP(B36,設定!$K$4:$P$43,$BL$16+2,0))","v":""},null,null,null,null,null,null,null,null,null,null,null,null,null,null,null,null,null,null,null,null,null,null,null,null,null,null,null,null,null,null,null,null,null,null,null,null,null,null,null,null,null,null,null,null,null,null,null,{"$f":"IF(設定!B37=\"\",\"\",設定!B37)","v":""},{"$f":"IF(設定!C37=\"\",\"\",設定!C37)","v":""},null,31,"data(tu)　その月の日数",null,null,null,null,null,null,null,"早退","○"]
[null,30,{"$f":"IF(VLOOKUP(B37,設定!$K$4:$P$43,$BL$16+2,0)=0,\"\",VLOOKUP(B37,設定!$K$4:$P$43,$BL$16+2,0))","v":""},null,null,null,null,null,null,null,null,null,null,null,null,null,null,null,null,null,null,null,null,null,null,null,null,null,null,null,null,null,null,null,null,null,null,null,null,null,null,null,null,null,null,null,null,null,null,null,{"$f":"IF(設定!B38=\"\",\"\",設定!B38)","v":""},{"$f":"IF(設定!C38=\"\",\"\",設定!C38)","v":""},null,29,"hi　月の長期休業の日数",null,null,null,null,null,null,null,"遅刻・早退","×○"]
[null,31,{"$f":"IF(VLOOKUP(B38,設定!$K$4:$P$43,$BL$16+2,0)=0,\"\",VLOOKUP(B38,設定!$K$4:$P$43,$BL$16+2,0))","v":""},null,null,null,null,null,null,null,null,null,null,null,null,null,null,null,null,null,null,null,null,null,null,null,null,null,null,null,null,null,null,null,null,null,null,null,null,null,null,null,null,null,null,null,null,null,null,null,{"$f":"IF(設定!B39=\"\",\"\",設定!B39)","v":""},{"$f":"IF(設定!C39=\"\",\"\",設定!C39)","v":""},null,1,"hj　月の祝日の日数",null,null,null,null,null,null,null,"忌引","キ"]
[null,32,{"$f":"IF(VLOOKUP(B39,設定!$K$4:$P$43,$BL$16+2,0)=0,\"\",VLOOKUP(B39,設定!$K$4:$P$43,$BL$16+2,0))","v":""},null,null,null,null,null,null,null,null,null,null,null,null,null,null,null,null,null,null,null,null,null,null,null,null,null,null,null,null,null,null,null,null,null,null,null,null,null,null,null,null,null,null,null,null,null,null,null,{"$f":"IF(設定!B40=\"\",\"\",設定!B40)","v":""},{"$f":"IF(設定!C40=\"\",\"\",設定!C40)","v":""},null,1,"hk　月の祝日ではない土日の数",null,null,null,null,null,null,null,"出席停止","テ"]
[null,33,{"$f":"IF(VLOOKUP(B40,設定!$K$4:$P$43,$BL$16+2,0)=0,\"\",VLOOKUP(B40,設定!$K$4:$P$43,$BL$16+2,0))","v":""},null,null,null,null,null,null,null,null,null,null,null,null,null,null,null,null,null,null,null,null,null,null,null,null,null,null,null,null,null,null,null,null,null,null,null,null,null,null,null,null,null,null,null,null,null,null,null,{"$f":"IF(設定!B41=\"\",\"\",設定!B41)","v":""},{"$f":"IF(設定!C41=\"\",\"\",設定!C41)","v":""},null,1,"hl　長期休業で祝日と重複する数",null,null,null,null,null,null,null,"その他","タ"]
[null,34,{"$f":"IF(VLOOKUP(B41,設定!$K$4:$P$43,$BL$16+2,0)=0,\"\",VLOOKUP(B41,設定!$K$4:$P$43,$BL$16+2,0))","v":""},null,null,null,null,null,null,null,null,null,null,null,null,null,null,null,null,null,null,null,null,null,null,null,null,null,null,null,null,null,null,null,null,null,null,null,null,null,null,null,null,null,null,null,null,null,null,null,{"$f":"IF(設定!B42=\"\",\"\",設定!B42)","v":""},{"$f":"IF(設定!C42=\"\",\"\",設定!C42)","v":""},null,0,"so　卒業式後の日数",null,null,null,null,null,null,null,"転手転確転入","◎"]
[null,35,{"$f":"IF(VLOOKUP(B42,設定!$K$4:$P$43,$BL$16+2,0)=0,\"\",VLOOKUP(B42,設定!$K$4:$P$43,$BL$16+2,0))","v":""},null,null,null,null,null,null,null,null,null,null,null,null,null,null,null,null,null,null,null,null,null,null,null,null,null,null,null,null,null,null,null,null,null,null,null,null,null,null,null,null,null,null,null,null,null,null,null,{"$f":"IF(設定!B43=\"\",\"\",設定!B43)","v":""},{"$f":"IF(設定!C43=\"\",\"\",設定!C43)","v":""},null,0,"gh　学級閉鎖の日数"]
[null,36,{"$f":"IF(VLOOKUP(B43,設定!$K$4:$P$43,$BL$16+2,0)=0,\"\",VLOOKUP(B43,設定!$K$4:$P$43,$BL$16+2,0))","v":""},null,null,null,null,null,null,null,null,null,null,null,null,null,null,null,null,null,null,null,null,null,null,null,null,null,null,null,null,null,null,null,null,null,null,null,null,null,null,null,null,null,null,null,null,null,null,null,{"$f":"IF(設定!B44=\"\",\"\",設定!B44)","v":""},{"$f":"IF(設定!C44=\"\",\"\",設定!C44)","v":""},null,null,null,null,null,null,null,null,null,null,"※転出入については、集計欄の自動計算には対応していません。「月末処理」の後、手動にて修正をしてください。"]
[null,37,{"$f":"IF(VLOOKUP(B44,設定!$K$4:$P$43,$BL$16+2,0)=0,\"\",VLOOKUP(B44,設定!$K$4:$P$43,$BL$16+2,0))","v":""}]
[null,38,{"$f":"IF(VLOOKUP(B45,設定!$K$4:$P$43,$BL$16+2,0)=0,\"\",VLOOKUP(B45,設定!$K$4:$P$43,$BL$16+2,0))","v":""},null,null,null,null,null,null,null,null,null,null,null,null,null,null,null,null,null,null,null,null,null,null,null,null,null,null,null,null,null,null,null,null,null,null,null,null,null,null,null,null,null,null,null,null,null,null,"児童生徒数",{"$f":"40-BB45-BC45","v":4},null,null,{"$f":"COUNTIF(C6:C25,\"\")","v":16},{"$f":"COUNTIF(C28:C47,\"\")","v":20},"児童生徒欄の空白セル"]
[null,39,{"$f":"IF(VLOOKUP(B46,設定!$K$4:$P$43,$BL$16+2,0)=0,\"\",VLOOKUP(B46,設定!$K$4:$P$43,$BL$16+2,0))","v":""},null,null,null,null,null,null,null,null,null,null,null,null,null,null,null,null,null,null,null,null,null,null,null,null,null,null,null,null,null,null,null,null,null,null,null,null,null,null,null,null,null,null,null,null,null,null,"授業日数",null,"←月始め処理で授業日数が入力される"]
[null,40,{"$f":"IF(VLOOKUP(B47,設定!$K$4:$P$43,$BL$16+2,0)=0,\"\",VLOOKUP(B47,設定!$K$4:$P$43,$BL$16+2,0))","v":""},null,null,null,null,null,null,null,null,null,null,null,null,null,null,null,null,null,null,null,null,null,null,null,null,null,null,null,null,null,null,null,null,null,null,null,null,null,null,null,null,null,null,null,null,null,null,"出席者数",22,"←月末処理で入力される",null,"出席日数0のカウント"]
[null,"計","出  席  者  数",null,null,null,null,null,null,null,null,null,null,null,null,null,null,null,null,null,null,null,null,null,null,null,null,null,null,null,null,null,null,null,null,null,null,null,null,null,null,null,null,null,null,null,null,null,null,"全欠席者数",{"$f":"SUM(BH53:BH92)","v":0},"←月末処理で入力される",null,{"$f":"COUNTIF(AV6:AV25,0)","v":0},{"$f":"COUNTIF(AV28:AV47,0)","v":0},{"$f":"BB48+BC48","v":0}]
[null,null,"欠  席  者  数",null,null,null,null,null,null,null,null,null,null,null,null,null,null,null,null,null,null,null,null,null,null,null,null,null,null,null,null,null,null,null,null,null,null,null,null,null,null,null,null,null,null,null,null,null,null,"転入学者数",0,"←月末処理で入力される"]
[null,"授業","日数",null,null,null,null,"在籍","者数",null,null,null,null,null,null,"出席","者数",null,null,null,null,null,null,"全欠席","者　数",null,null,null,null,null,null,null,"転入学","者　数",null,null,null,null,null,"転学退",null,"学者数",null,null,null,null,null,null,null,"転学退学者数",0,"←月末処理で入力される"]
[]
[null,null,null,null,null,null,null,null,null,null,null,null,null,null,null,null,null,null,null,null,null,null,null,null,null,null,null,null,null,null,null,null,null,null,null,null,null,null,null,null,null,null,null,null,null,null,null,null,null,"長期休業間隔",{"$f":"IF(BK19=\"狭く\",9,IF(BK19=\"やや狭く\",8,IF(BK19=\"やや広く\",6,IF(BK19=\"広く\",5,7))))","v":6},null,"長期休業間隔",null,"標準",null,null,null,"全欠処理"]
[null,null,null,null,null,null,null,null,null,null,null,null,null,null,null,null,null,null,null,null,null,null,null,null,null,null,null,null,null,null,null,null,null,null,null,null,null,null,null,null,null,null,null,null,null,null,null,null,null,"長期休業処理",null,null,null,null,"狭く",null,null,null,1,{"$f":"IF(AV6<>\"\",IF(AM6-AR6-AS6=0,1,0),0)","v":0}]
[null,null,null,null,null,null,null,null,null,null,null,null,null,null,null,null,null,null,null,null,null,null,null,null,null,null,null,null,null,null,null,null,null,null,null,null,null,null,null,null,null,null,null,null,null,null,null,null,null,"長期休業Ⅰ",{"$f":"BO19","v":"夏季休業"},null,null,null,"やや狭く",null,null,null,2,{"$f":"IF(AV7<>\"\",IF(AM7-AR7-AS7=0,1,0),0)","v":0}]
[null,null,null,null,null,null,null,null,null,null,null,null,null,null,null,null,null,null,null,null,null,null,null,null,null,null,null,null,null,null,null,null,null,null,null,null,null,null,null,null,null,null,null,null,null,null,null,null,null,null,{"$f":"BO20","v":1},null,null,null,"やや広く",null,null,null,3,0]
[null,null,null,null,null,null,null,null,null,null,null,null,null,null,null,null,null,null,null,null,null,null,null,null,null,null,null,null,null,null,null,null,null,null,null,null,null,null,null,null,null,null,null,null,null,null,null,null,null,null,{"$f":"BO21","v":29},null,null,null,{"$f":"IF(F3=4,\"\",IF(F3=3,\"\",\"広く\"))","v":"広く"},null,null,null,4,0]
[null,null,null,null,null,null,null,null,null,null,null,null,null,null,null,null,null,null,null,null,null,null,null,null,null,null,null,null,null,null,null,null,null,null,null,null,null,null,null,null,null,null,null,null,null,null,null,null,null,"長期休業Ⅱ",{"$f":"BO23","v":0},null,null,null,null,null,null,null,5,0]
[null,null,null,null,null,null,null,null,null,null,null,null,null,null,null,null,null,null,null,null,null,null,null,null,null,null,null,null,null,null,null,null,null,null,null,null,null,null,null,null,null,null,null,null,null,null,null,null,null,null,{"$f":"BO24","v":0},null,null,null,null,null,null,null,6,0]
[null,null,null,null,null,null,null,null,null,null,null,null,null,null,null,null,null,null,null,null,null,null,null,null,null,null,null,null,null,null,null,null,null,null,null,null,null,null,null,null,null,null,null,null,null,null,null,null,null,null,{"$f":"BO25","v":0},null,null,null,null,null,null,null,7,0]
[null,null,null,null,null,null,null,null,null,null,null,null,null,null,null,null,null,null,null,null,null,null,null,null,null,null,null,null,null,null,null,null,null,null,null,null,null,null,null,null,null,null,null,null,null,null,null,null,null,"長期休業Ⅲ",{"$f":"BO27","v":0},null,null,null,null,null,null,null,8,0]
[null,null,null,null,null,null,null,null,null,null,null,null,null,null,null,null,null,null,null,null,null,null,null,null,null,null,null,null,null,null,null,null,null,null,null,null,null,null,null,null,null,null,null,null,null,null,null,null,null,null,{"$f":"BO28","v":0},null,null,null,null,null,null,null,9,0]
[null,null,null,null,null,null,null,null,null,null,null,null,null,null,null,null,null,null,null,null,null,null,null,null,null,null,null,null,null,null,null,null,null,null,null,null,null,null,null,null,null,null,null,null,null,null,null,null,null,null,{"$f":"BO29","v":0},null,null,null,null,null,null,null,10,0]
[null,null,null,null,null,null,null,null,null,null,null,null,null,null,null,null,null,null,null,null,null,null,null,null,null,null,null,null,null,null,null,null,null,null,null,null,null,null,null,null,null,null,null,null,null,null,null,null,null,null,{"$f":"MAX(AY55,AY58,AY61)","v":1},null,null,null,null,null,null,null,11,0]
[null,null,null,null,null,null,null,null,null,null,null,null,null,null,null,null,null,null,null,null,null,null,null,null,null,null,null,null,null,null,null,null,null,null,null,null,null,null,null,null,null,null,null,null,null,null,null,null,null,null,null,null,null,null,null,null,null,null,12,0]
[null,null,null,null,null,null,null,null,null,null,null,null,null,null,null,null,null,null,null,null,null,null,null,null,null,null,null,null,null,null,null,null,null,null,null,null,null,null,null,null,null,null,null,null,null,null,null,null,null,null,null,null,null,null,null,null,null,null,13,0]
[null,null,null,null,null,null,null,null,null,null,null,null,null,null,null,null,null,null,null,null,null,null,null,null,null,null,null,null,null,null,null,null,null,null,null,null,null,null,null,null,null,null,null,null,null,null,null,null,null,null,null,null,null,null,null,null,null,null,14,0]
[null,null,null,null,null,null,null,null,null,null,null,null,null,null,null,null,null,null,null,null,null,null,null,null,null,null,null,null,null,null,null,null,null,null,null,null,null,null,null,null,null,null,null,null,null,null,null,null,null,null,null,null,null,null,null,null,null,null,15,0]
[null,null,null,null,null,null,null,null,null,null,null,null,null,null,null,null,null,null,null,null,null,null,null,null,null,null,null,null,null,null,null,null,null,null,null,null,null,null,null,null,null,null,null,null,null,null,null,null,null,null,null,null,null,null,null,null,null,null,16,0]
[null,null,null,null,null,null,null,null,null,null,null,null,null,null,null,null,null,null,null,null,null,null,null,null,null,null,null,null,null,null,null,null,null,null,null,null,null,null,null,null,null,null,null,null,null,null,null,null,null,"入力規則","／",null,null,null,null,null,null,null,17,0]
[null,null,null,null,null,null,null,null,null,null,null,null,null,null,null,null,null,null,null,null,null,null,null,null,null,null,null,null,null,null,null,null,null,null,null,null,null,null,null,null,null,null,null,null,null,null,null,null,null,null,"〃",null,null,null,null,null,null,null,18,0]
[null,null,null,null,null,null,null,null,null,null,null,null,null,null,null,null,null,null,null,null,null,null,null,null,null,null,null,null,null,null,null,null,null,null,null,null,null,null,null,null,null,null,null,null,null,null,null,null,null,null,"×",null,null,null,null,null,null,null,19,0]
[null,null,null,null,null,null,null,null,null,null,null,null,null,null,null,null,null,null,null,null,null,null,null,null,null,null,null,null,null,null,null,null,null,null,null,null,null,null,null,null,null,null,null,null,null,null,null,null,null,null,"○",null,null,null,null,null,null,null,20,0]
[null,null,null,null,null,null,null,null,null,null,null,null,null,null,null,null,null,null,null,null,null,null,null,null,null,null,null,null,null,null,null,null,null,null,null,null,null,null,null,null,null,null,null,null,null,null,null,null,null,null,"×○",null,null,null,null,null,null,null,21,{"$f":"IF(AV28<>\"\",IF(AM28-AR28-AS28=0,1,0),0)","v":0}]
[null,null,null,null,null,null,null,null,null,null,null,null,null,null,null,null,null,null,null,null,null,null,null,null,null,null,null,null,null,null,null,null,null,null,null,null,null,null,null,null,null,null,null,null,null,null,null,null,null,null,"キ",null,null,null,null,null,null,null,22,{"$f":"IF(AV29<>\"\",IF(AM29-AR29-AS29=0,1,0),0)","v":0}]
[null,null,null,null,null,null,null,null,null,null,null,null,null,null,null,null,null,null,null,null,null,null,null,null,null,null,null,null,null,null,null,null,null,null,null,null,null,null,null,null,null,null,null,null,null,null,null,null,null,null,"テ",null,null,null,null,null,null,null,23,0]
[null,null,null,null,null,null,null,null,null,null,null,null,null,null,null,null,null,null,null,null,null,null,null,null,null,null,null,null,null,null,null,null,null,null,null,null,null,null,null,null,null,null,null,null,null,null,null,null,null,null,"タ",null,null,null,null,null,null,null,24,0]
[null,null,null,null,null,null,null,null,null,null,null,null,null,null,null,null,null,null,null,null,null,null,null,null,null,null,null,null,null,null,null,null,null,null,null,null,null,null,null,null,null,null,null,null,null,null,null,null,null,null,"◎",null,null,null,null,null,null,null,25,0]
[null,null,null,null,null,null,null,null,null,null,null,null,null,null,null,null,null,null,null,null,null,null,null,null,null,null,null,null,null,null,null,null,null,null,null,null,null,null,null,null,null,null,null,null,null,null,null,null,null,null,null,null,null,null,null,null,null,null,26,0]
[null,null,null,null,null,null,null,null,null,null,null,null,null,null,null,null,null,null,null,null,null,null,null,null,null,null,null,null,null,null,null,null,null,null,null,null,null,null,null,null,null,null,null,null,null,null,null,null,null,null,null,null,null,null,null,null,null,null,27,0]
[null,null,null,null,null,null,null,null,null,null,null,null,null,null,null,null,null,null,null,null,null,null,null,null,null,null,null,null,null,null,null,null,null,null,null,null,null,null,null,null,null,null,null,null,null,null,null,null,null,null,null,null,null,null,null,null,null,null,28,0]
[null,null,null,null,null,null,null,null,null,null,null,null,null,null,null,null,null,null,null,null,null,null,null,null,null,null,null,null,null,null,null,null,null,null,null,null,null,null,null,null,null,null,null,null,null,null,null,null,null,null,null,null,null,null,null,null,null,null,29,0]
[null,null,null,null,null,null,null,null,null,null,null,null,null,null,null,null,null,null,null,null,null,null,null,null,null,null,null,null,null,null,null,null,null,null,null,null,null,null,null,null,null,null,null,null,null,null,null,null,null,null,null,null,null,null,null,null,null,null,30,0]
[null,null,null,null,null,null,null,null,null,null,null,null,null,null,null,null,null,null,null,null,null,null,null,null,null,null,null,null,null,null,null,null,null,null,null,null,null,null,null,null,null,null,null,null,null,null,null,null,null,null,null,null,null,null,null,null,null,null,31,0]
[null,null,null,null,null,null,null,null,null,null,null,null,null,null,null,null,null,null,null,null,null,null,null,null,null,null,null,null,null,null,null,null,null,null,null,null,null,null,null,null,null,null,null,null,null,null,null,null,null,"追加休業","臨時休業",null,null,null,null,null,null,null,32,0]
[null,null,null,null,null,null,null,null,null,null,null,null,null,null,null,null,null,null,null,null,null,null,null,null,null,null,null,null,null,null,null,null,null,null,null,null,null,null,null,null,null,null,null,null,null,null,null,null,null,null,"学年閉鎖",null,null,null,null,null,null,null,33,0]
[null,null,null,null,null,null,null,null,null,null,null,null,null,null,null,null,null,null,null,null,null,null,null,null,null,null,null,null,null,null,null,null,null,null,null,null,null,null,null,null,null,null,null,null,null,null,null,null,null,null,"学級閉鎖",null,null,null,null,null,null,null,34,0]
[null,null,null,null,null,null,null,null,null,null,null,null,null,null,null,null,null,null,null,null,null,null,null,null,null,null,null,null,null,null,null,null,null,null,null,null,null,null,null,null,null,null,null,null,null,null,null,null,null,null,null,null,null,null,null,null,null,null,35,0]
[null,null,null,null,null,null,null,null,null,null,null,null,null,null,null,null,null,null,null,null,null,null,null,null,null,null,null,null,null,null,null,null,null,null,null,null,null,null,null,null,null,null,null,null,null,null,null,null,null,null,null,null,null,null,null,null,null,null,36,0]
[null,null,null,null,null,null,null,null,null,null,null,null,null,null,null,null,null,null,null,null,null,null,null,null,null,null,null,null,null,null,null,null,null,null,null,null,null,null,null,null,null,null,null,null,null,null,null,null,null,null,null,null,null,null,null,null,null,null,37,0]
[null,null,null,null,null,null,null,null,null,null,null,null,null,null,null,null,null,null,null,null,null,null,null,null,null,null,null,null,null,null,null,null,null,null,null,null,null,null,null,null,null,null,null,null,null,null,null,null,null,"長期休業","学年始休業",null,null,null,null,null,null,null,38,0]
[null,null,null,null,null,null,null,null,null,null,null,null,null,null,null,null,null,null,null,null,null,null,null,null,null,null,null,null,null,null,null,null,null,null,null,null,null,null,null,null,null,null,null,null,null,null,null,null,null,null,"夏季休業",null,null,null,null,null,null,null,39,0]
[null,null,null,null,null,null,null,null,null,null,null,null,null,null,null,null,null,null,null,null,null,null,null,null,null,null,null,null,null,null,null,null,null,null,null,null,null,null,null,null,null,null,null,null,null,null,null,null,null,null,"秋季休業",null,null,null,null,null,null,null,40,{"$f":"IF(AV47<>\"\",IF(AM47-AR47-AS47=0,1,0),0)","v":0}]
[null,null,null,null,null,null,null,null,null,null,null,null,null,null,null,null,null,null,null,null,null,null,null,null,null,null,null,null,null,null,null,null,null,null,null,null,null,null,null,null,null,null,null,null,null,null,null,null,null,null,"冬季休業"]
[null,null,null,null,null,null,null,null,null,null,null,null,null,null,null,null,null,null,null,null,null,null,null,null,null,null,null,null,null,null,null,null,null,null,null,null,null,null,null,null,null,null,null,null,null,null,null,null,null,null,"学年末休業"]
[null,null,null,null,null,null,null,null,null,null,null,null,null,null,null,null,null,null,null,null,null,null,null,null,null,null,null,null,null,null,null,null,null,null,null,null,null,null,null,null,null,null,null,null,null,null,null,null,null,null,"臨時休業"]
[null,null,null,null,null,null,null,null,null,null,null,null,null,null,null,null,null,null,null,null,null,null,null,null,null,null,null,null,null,null,null,null,null,null,null,null,null,null,null,null,null,null,null,null,null,null,null,null,null,null,"学年閉鎖"]

{"sheet":"9月","index":7,"n_rows":96,"n_cols":67,"rows_kept":96,"cut":false,"hidden":false,"merged":[[49,41,49,42],[49,44,49,46],[51,52,51,53],[49,4,49,5],[49,10,49,13],[49,18,49,21],[49,26,49,30],[49,35,49,37],[49,39,49,40],[46,2,46,6],[46,39,46,40],[46,41,46,42],[47,1,48,1],[47,2,47,6],[47,39,47,40],[47,41,47,42],[48,2,48,6],[48,39,48,40],[48,41,48,42],[42,62,45,63],[43,2,43,6],[43,39,43,40],[43,41,43,42],[44,2,44,6],[44,39,44,40],[44,41,44,42],[45,2,45,6],[45,39,45,40],[45,41,45,42],[41,2,41,6],[41,39,41,40],[41,41,41,42],[42,2,42,6],[42,39,42,40],[42,41,42,42],[39,2,39,6],[39,39,39,40],[39,41,39,42],[40,2,40,6],[40,39,40,40],[40,41,40,42],[37,2,37,6],[37,39,37,40],[37,41,37,42],[38,2,38,6],[38,39,38,40],[38,41,38,42],[35,2,35,6],[35,39,35,40],[35,41,35,42],[36,2,36,6],[36,39,36,40],[36,41,36,42],[33,2,33,6],[33,39,33,40],[33,41,33,42],[34,2,34,6],[34,39,34,40],[34,41,34,42],[31,2,31,6],[31,39,31,40],[31,41,31,42],[32,2,32,6],[32,39,32,40],[32,41,32,42],[28,41,28,42],[29,2,29,6],[29,39,29,40],[29,41,29,42],[30,2,30,6],[30,39,30,40],[30,41,30,42],[25,39,25,40],[25,41,25,42],[26,39,26,40],[26,41,26,42],[22,2,22,6],[22,39,22,40],[22,41,22,42],[18,2,18,6],[18,39,18,40],[18,41,18,42],[27,0,37,0],[27,2,27,6],[27,39,27,40],[27,41,27,42],[28,2,28,6],[28,39,28,40],[23,2,23,6],[23,39,23,40],[23,41,23,42],[24,2,24,6],[24,39,24,40],[24,41,24,42],[5,0,24,0],[5,2,5,6],[5,39,5,40],[5,41,5,42],[6,2,6,6],[6,39,6,40],[10,2,10,6],[10,39,10,40],[10,41,10,42],[11,2,11,6],[11,39,11,40],[11,41,11,42],[8,2,8,6],[18,62,18,63],[19,2,19,6],[19,39,19,40],[19,41,19,42],[19,62,21,63],[20,2,20,6],[20,39,20,40],[16,2,16,6],[16,39,16,40],[16,41,16,42],[17,2,17,6],[17,39,17,40],[17,41,17,42],[20,41,20,42],[21,2,21,6],[21,39,21,40],[21,41,21,42],[14,2,14,6],[14,39,14,40],[14,41,14,42],[15,2,15,6],[15,39,15,40],[15,41,15,42],[12,2,12,6],[12,39,12,40],[12,41,12,42],[13,2,13,6],[13,39,13,40],[13,41,13,42],[8,39,8,40],[8,41,8,42],[9,2,9,6],[9,39,9,40],[9,41,9,42],[3,1,4,1],[3,38,4,38],[3,39,4,39],[3,40,4,40],[3,41,4,41],[6,41,6,42],[7,2,7,6],[7,39,7,40],[7,41,7,42],[0,49,0,60],[1,39,1,44],[1,53,1,54],[1,55,1,56],[1,57,1,58],[2,1,2,2],[3,42,4,42],[3,43,4,43],[3,44,4,44],[3,45,4,45],[3,46,4,46],[3,47,4,47],[2,19,2,27],[2,31,2,36],[2,38,2,40],[2,41,2,46],[2,9,2,14]]}
[null,null,null,null,null,null,null,null,null,null,null,null,null,null,null,null,null,null,null,null,null,null,null,null,null,null,null,null,null,null,null,null,null,null,null,null,null,null,null,null,null,null,null,null,null,null,null,null,null,"【注意】 この範囲は、処理のために使用しています。"]
[null,null,null,null,null,null,null,null,null,null,null,null,null,null,null,null,null,null,null,null,null,null,null,null,null,null,null,null,null,null,null,null,null,null,null,null,null,null,null,"校 長 検 印",null,null,null,null,null,null,null,null,null,"処理用セル",null,null,null,"土日",null,"祝日",null,"長期休業",null,"学級閉鎖","赤線"]
[null,{"$f":"設定!C47","v":"令和"},null,{"$f":"IF(F3>3,設定!B49,設定!C49)","v":3},"年",9,"月",null,null,{"$f":"IF(設定!H3=\"\",\"\",設定!H3)","v":"みどり学級"},null,null,null,null,null,null,null,null,null,"出　　席　　簿",null,null,null,null,null,null,null,null,null,null,null,{"$f":"設定!C2&\"学校\"","v":"松岡小学校"},null,null,null,null,null,null,"担任名",null,null,{"$f":"設定!H6","v":"永平寺 太郎"},null,null,null,null,null,null,null,"日にちの合成",{"$f":"IF(D3=\"元\",設定!C48,D3+設定!C48-1)&\"/\"&F3&\"/\"&H4","v":"2021/9/1"},{"$f":"WEEKDAY(AY3)","v":4},"日","(1,?)","(2,?)","(3,?)","(4,?)","(5,?)","(6,?)","(7,?)"]
[null,"番号",null,null,null,null,"日",1,2,3,4,5,6,7,8,9,10,11,12,13,14,15,16,17,18,19,20,21,22,23,24,25,26,27,28,29,30,31,"授業日数","出席停止忌引","等の日数","出席しなければ","ならない日数","病気欠席","事故欠席","遅刻回数","早退回数","出席日数",null,"西暦に変換",{"$f":"DATE(YEAR(AY3),MONTH(AY3),DAY(AY3))","v":"2021-09-01"},{"$f":"YEAR(AY3)","v":2021},1,null,null,null,null,null,null,null,{"$f":"BB4-BC4+BD4-BE4+BF4-BG4","v":0}]
[null,null,null,"氏    名",null,null,"曜日",null,null,null,null,null,null,null,null,null,null,null,null,null,null,null,null,null,null,null,null,null,null,null,null,null,null,null,null,null,null,null,null,null,null,null,null,null,null,null,null,null,null,"曜日決定",{"$f":"TEXT(AY4,\"aaa\")","v":"水"},{"$f":"TEXT(AZ3,\"aaa\")","v":"水"},2,null,null,null,null,null,null,null,{"$f":"BB5-BC5+BD5-BE5+BF5-BG5","v":0}]
["〈記号〉出席空欄　病欠／ 事故欠〃 遅刻× 早退○ 忌引キ 出席停止テ",1,{"$f":"IF(VLOOKUP(B6,設定!$K$4:$P$43,$BL$16+2,0)=0,\"\",VLOOKUP(B6,設定!$K$4:$P$43,$BL$16+2,0))","v":"西郷隆盛　１年"},null,null,null,null,null,null,null,null,null,null,null,null,null,null,null,null,null,null,null,null,null,null,null,null,null,null,null,null,null,null,null,null,null,null,null,null,null,null,null,null,null,null,null,null,null,null,"今月の日数",30,null,3,null,null,null,null,null,null,null,0]
[null,2,{"$f":"IF(VLOOKUP(B7,設定!$K$4:$P$43,$BL$16+2,0)=0,\"\",VLOOKUP(B7,設定!$K$4:$P$43,$BL$16+2,0))","v":"伊達政宗　３年"},null,null,null,null,null,null,null,null,null,null,null,null,null,null,null,null,null,null,null,null,null,null,null,null,null,null,null,null,null,null,null,null,null,null,null,null,null,null,null,null,null,null,null,null,null,null,null,null,null,4,null,null,null,null,null,null,null,0,null,null,null,null,"◆休業追加"]
[null,3,{"$f":"IF(VLOOKUP(B8,設定!$K$4:$P$43,$BL$16+2,0)=0,\"\",VLOOKUP(B8,設定!$K$4:$P$43,$BL$16+2,0))","v":"井伊直弼　５年"},null,null,null,null,null,null,null,null,null,null,null,null,null,null,null,null,null,null,null,null,null,null,null,null,null,null,null,null,null,null,null,null,null,null,null,null,null,null,null,null,null,null,null,null,null,null,null,null,null,5,null,null,null,null,null,null,null,0,null,null,null,null,"名称","日"]
[null,4,{"$f":"IF(VLOOKUP(B9,設定!$K$4:$P$43,$BL$16+2,0)=0,\"\",VLOOKUP(B9,設定!$K$4:$P$43,$BL$16+2,0))","v":"桓武天皇　５年"},null,null,null,null,null,null,null,null,null,null,null,null,null,null,null,null,null,null,null,null,null,null,null,null,null,null,null,null,null,null,null,null,null,null,null,null,null,null,null,null,null,null,null,null,null,null,"祝日",{"$f":"IF(設定!B10=\"\",\"\",設定!B10)","v":"2021-04-29"},{"$f":"IF(設定!C10=\"\",\"\",設定!C10)","v":"昭和の日"},6,null,null,null,null,null,null,null,0,null,null,null,null,"学年閉鎖",20]
[null,5,{"$f":"IF(VLOOKUP(B10,設定!$K$4:$P$43,$BL$16+2,0)=0,\"\",VLOOKUP(B10,設定!$K$4:$P$43,$BL$16+2,0))","v":""},null,null,null,null,null,null,null,null,null,null,null,null,null,null,null,null,null,null,null,null,null,null,null,null,null,null,null,null,null,null,null,null,null,null,null,null,null,null,null,null,null,null,null,null,null,null,null,{"$f":"IF(設定!B11=\"\",\"\",設定!B11)","v":"2021-05-03"},{"$f":"IF(設定!C11=\"\",\"\",設定!C11)","v":"憲法記念日"},7,null,null,null,null,null,null,null,0]
[null,6,{"$f":"IF(VLOOKUP(B11,設定!$K$4:$P$43,$BL$16+2,0)=0,\"\",VLOOKUP(B11,設定!$K$4:$P$43,$BL$16+2,0))","v":""},null,null,null,null,null,null,null,null,null,null,null,null,null,null,null,null,null,null,null,null,null,null,null,null,null,null,null,null,null,null,null,null,null,null,null,null,null,null,null,null,null,null,null,null,null,null,null,{"$f":"IF(設定!B12=\"\",\"\",設定!B12)","v":"2021-05-04"},{"$f":"IF(設定!C12=\"\",\"\",設定!C12)","v":"みどりの日"},8,null,null,null,null,null,null,null,0]
[null,7,{"$f":"IF(VLOOKUP(B12,設定!$K$4:$P$43,$BL$16+2,0)=0,\"\",VLOOKUP(B12,設定!$K$4:$P$43,$BL$16+2,0))","v":""},null,null,null,null,null,null,null,null,null,null,null,null,null,null,null,null,null,null,null,null,null,null,null,null,null,null,null,null,null,null,null,null,null,null,null,null,null,null,null,null,null,null,null,null,null,null,null,{"$f":"IF(設定!B13=\"\",\"\",設定!B13)","v":"2021-05-05"},{"$f":"IF(設定!C13=\"\",\"\",設定!C13)","v":"こどもの日"},9,null,null,null,null,null,null,null,0]
[null,8,{"$f":"IF(VLOOKUP(B13,設定!$K$4:$P$43,$BL$16+2,0)=0,\"\",VLOOKUP(B13,設定!$K$4:$P$43,$BL$16+2,0))","v":""},null,null,null,null,null,null,null,null,null,null,null,null,null,null,null,null,null,null,null,null,null,null,null,null,null,null,null,null,null,null,null,null,null,null,null,null,null,null,null,null,null,null,null,null,null,null,null,{"$f":"IF(設定!B14=\"\",\"\",設定!B14)","v":"2021-07-22"},{"$f":"IF(設定!C14=\"\",\"\",設定!C14)","v":"海の日"},10,null,null,null,null,null,null,null,0]
[null,9,{"$f":"IF(VLOOKUP(B14,設定!$K$4:$P$43,$BL$16+2,0)=0,\"\",VLOOKUP(B14,設定!$K$4:$P$43,$BL$16+2,0))","v":""},null,null,null,null,null,null,null,null,null,null,null,null,null,null,null,null,null,null,null,null,null,null,null,null,null,null,null,null,null,null,null,null,null,null,null,null,null,null,null,null,null,null,null,null,null,null,null,{"$f":"IF(設定!B15=\"\",\"\",設定!B15)","v":"2021-07-23"},{"$f":"IF(設定!C15=\"\",\"\",設定!C15)","v":"スポーツの日"},11,null,null,null,null,null,null,null,0]
[null,10,{"$f":"IF(VLOOKUP(B15,設定!$K$4:$P$43,$BL$16+2,0)=0,\"\",VLOOKUP(B15,設定!$K$4:$P$43,$BL$16+2,0))","v":""},null,null,null,null,null,null,null,null,null,null,null,null,null,null,null,null,null,null,null,null,null,null,null,null,null,null,null,null,null,null,null,null,null,null,null,null,null,null,null,null,null,null,null,null,null,null,null,{"$f":"IF(設定!B16=\"\",\"\",設定!B16)","v":"2021-08-08"},{"$f":"IF(設定!C16=\"\",\"\",設定!C16)","v":"山の日"},12,null,null,null,null,null,null,null,0]
[null,11,{"$f":"IF(VLOOKUP(B16,設定!$K$4:$P$43,$BL$16+2,0)=0,\"\",VLOOKUP(B16,設定!$K$4:$P$43,$BL$16+2,0))","v":""},null,null,null,null,null,null,null,null,null,null,null,null,null,null,null,null,null,null,null,null,null,null,null,null,null,null,null,null,null,null,null,null,null,null,null,null,null,null,null,null,null,null,null,null,null,null,null,{"$f":"IF(設定!B17=\"\",\"\",設定!B17)","v":"2021-08-09"},{"$f":"IF(設定!C17=\"\",\"\",設定!C17)","v":"休　　日"},13,null,null,null,null,null,null,null,0,null,"使用名列",0]
[null,12,{"$f":"IF(VLOOKUP(B17,設定!$K$4:$P$43,$BL$16+2,0)=0,\"\",VLOOKUP(B17,設定!$K$4:$P$43,$BL$16+2,0))","v":""},null,null,null,null,null,null,null,null,null,null,null,null,null,null,null,null,null,null,null,null,null,null,null,null,null,null,null,null,null,null,null,null,null,null,null,null,null,null,null,null,null,null,null,null,null,null,null,{"$f":"IF(設定!B18=\"\",\"\",設定!B18)","v":"2021-09-20"},{"$f":"IF(設定!C18=\"\",\"\",設定!C18)","v":"敬老の日"},14,null,null,null,null,null,null,null,0,null,null,null,null,"※「月始め処理」の前に入力"]
[null,13,{"$f":"IF(VLOOKUP(B18,設定!$K$4:$P$43,$BL$16+2,0)=0,\"\",VLOOKUP(B18,設定!$K$4:$P$43,$BL$16+2,0))","v":""},null,null,null,null,null,null,null,null,null,null,null,null,null,null,null,null,null,null,null,null,null,null,null,null,null,null,null,null,null,null,null,null,null,null,null,null,null,null,null,null,null,null,null,null,null,null,null,{"$f":"IF(設定!B19=\"\",\"\",設定!B19)","v":"2021-09-23"},{"$f":"IF(設定!C19=\"\",\"\",設定!C19)","v":"秋分の日"},15,null,null,null,null,null,null,null,0,null,"◆長期休業の文字間隔",null,null,"◆長期休業Ⅰ"]
[null,14,{"$f":"IF(VLOOKUP(B19,設定!$K$4:$P$43,$BL$16+2,0)=0,\"\",VLOOKUP(B19,設定!$K$4:$P$43,$BL$16+2,0))","v":""},null,null,null,null,null,null,null,null,null,null,null,null,null,null,null,null,null,null,null,null,null,null,null,null,null,null,null,null,null,null,null,null,null,null,null,null,null,null,null,null,null,null,null,null,null,null,null,{"$f":"IF(設定!B20=\"\",\"\",設定!B20)","v":"2021-11-03"},{"$f":"IF(設定!C20=\"\",\"\",設定!C20)","v":"文化の日"},16,null,null,null,null,null,null,null,0,null,"やや広く",null,null,"名称"]
[null,15,{"$f":"IF(VLOOKUP(B20,設定!$K$4:$P$43,$BL$16+2,0)=0,\"\",VLOOKUP(B20,設定!$K$4:$P$43,$BL$16+2,0))","v":""},null,null,null,null,null,null,null,null,null,null,null,null,null,null,null,null,null,null,null,null,null,null,null,null,null,null,null,null,null,null,null,null,null,null,null,null,null,null,null,null,null,null,null,null,null,null,null,{"$f":"IF(設定!B21=\"\",\"\",設定!B21)","v":"2021-11-23"},{"$f":"IF(設定!C21=\"\",\"\",設定!C21)","v":"勤労感謝の日"},17,null,null,null,null,null,null,null,0,null,"※長期休業の文字間隔を調節します。祝日との文字の重なりを回避することができます。",null,null,"開始日"]
[null,16,{"$f":"IF(VLOOKUP(B21,設定!$K$4:$P$43,$BL$16+2,0)=0,\"\",VLOOKUP(B21,設定!$K$4:$P$43,$BL$16+2,0))","v":""},null,null,null,null,null,null,null,null,null,null,null,null,null,null,null,null,null,null,null,null,null,null,null,null,null,null,null,null,null,null,null,null,null,null,null,null,null,null,null,null,null,null,null,null,null,null,null,{"$f":"IF(設定!B22=\"\",\"\",設定!B22)","v":"2022-01-01"},{"$f":"IF(設定!C22=\"\",\"\",設定!C22)","v":"元　　日"},18,null,null,null,null,null,null,null,0,null,null,null,null,"終了日"]
[null,17,{"$f":"IF(VLOOKUP(B22,設定!$K$4:$P$43,$BL$16+2,0)=0,\"\",VLOOKUP(B22,設定!$K$4:$P$43,$BL$16+2,0))","v":""},null,null,null,null,null,null,null,null,null,null,null,null,null,null,null,null,null,null,null,null,null,null,null,null,null,null,null,null,null,null,null,null,null,null,null,null,null,null,null,null,null,null,null,null,null,null,null,{"$f":"IF(設定!B23=\"\",\"\",設定!B23)","v":"2022-01-10"},{"$f":"IF(設定!C23=\"\",\"\",設定!C23)","v":"成人の日"},19,null,null,null,null,null,null,null,0,null,null,null,null,"◆長期休業Ⅱ"]
[null,18,{"$f":"IF(VLOOKUP(B23,設定!$K$4:$P$43,$BL$16+2,0)=0,\"\",VLOOKUP(B23,設定!$K$4:$P$43,$BL$16+2,0))","v":""},null,null,null,null,null,null,null,null,null,null,null,null,null,null,null,null,null,null,null,null,null,null,null,null,null,null,null,null,null,null,null,null,null,null,null,null,null,null,null,null,null,null,null,null,null,null,null,{"$f":"IF(設定!B24=\"\",\"\",設定!B24)","v":"2022-02-11"},{"$f":"IF(設定!C24=\"\",\"\",設定!C24)","v":"建国記念の日"},20,null,null,null,null,null,null,null,0,null,null,null,null,"名称"]
[null,19,{"$f":"IF(VLOOKUP(B24,設定!$K$4:$P$43,$BL$16+2,0)=0,\"\",VLOOKUP(B24,設定!$K$4:$P$43,$BL$16+2,0))","v":""},null,null,null,null,null,null,null,null,null,null,null,null,null,null,null,null,null,null,null,null,null,null,null,null,null,null,null,null,null,null,null,null,null,null,null,null,null,null,null,null,null,null,null,null,null,null,null,{"$f":"IF(設定!B25=\"\",\"\",設定!B25)","v":"2022-02-23"},{"$f":"IF(設定!C25=\"\",\"\",設定!C25)","v":"天皇誕生日"},21,null,null,null,null,null,null,null,0,null,"◆各処理にて再計算",null,null,"開始日"]
[null,20,{"$f":"IF(VLOOKUP(B25,設定!$K$4:$P$43,$BL$16+2,0)=0,\"\",VLOOKUP(B25,設定!$K$4:$P$43,$BL$16+2,0))","v":""},null,null,null,null,null,null,null,null,null,null,null,null,null,null,null,null,null,null,null,null,null,null,null,null,null,null,null,null,null,null,null,null,null,null,null,null,null,null,null,null,null,null,null,null,null,null,null,{"$f":"IF(設定!B26=\"\",\"\",設定!B26)","v":"2022-03-19"},{"$f":"IF(設定!C26=\"\",\"\",設定!C26)","v":"春分の日"},22,null,null,null,null,null,null,null,0,null,"児童生徒数",{"$f":"AY45","v":4},null,"終了日"]
[null,null,null,null,null,null,null,null,null,null,null,null,null,null,null,null,null,null,null,null,null,null,null,null,null,null,null,null,null,null,null,null,null,null,null,null,null,null,null,null,null,null,null,null,null,null,null,null,null,null,{"$f":"IF(設定!B27=\"\",\"\",設定!B27)","v":""},{"$f":"IF(設定!C27=\"\",\"\",設定!C27)","v":""},23,null,null,null,null,null,null,null,0,null,"授業日数",{"$f":"IF(AY46=\"\",\"\",AY46)","v":""},null,"◆長期休業Ⅲ"]
[null,null,null,null,null,null,null,1,2,3,4,5,6,7,8,9,10,11,12,13,14,15,16,17,18,19,20,21,22,23,24,25,26,27,28,29,30,31,null,null,null,null,null,null,null,null,null,null,null,null,{"$f":"IF(設定!B28=\"\",\"\",設定!B28)","v":""},{"$f":"IF(設定!C28=\"\",\"\",設定!C28)","v":""},24,null,null,null,null,null,null,null,0,null,"出席者数",22,null,"名称"]
["その他教育上特に必要と認めた日タ",21,{"$f":"IF(VLOOKUP(B28,設定!$K$4:$P$43,$BL$16+2,0)=0,\"\",VLOOKUP(B28,設定!$K$4:$P$43,$BL$16+2,0))","v":""},null,null,null,null,null,null,null,null,null,null,null,null,null,null,null,null,null,null,null,null,null,null,null,null,null,null,null,null,null,null,null,null,null,null,null,null,null,null,null,null,null,null,null,null,null,null,null,{"$f":"IF(設定!B29=\"\",\"\",設定!B29)","v":""},{"$f":"IF(設定!C29=\"\",\"\",設定!C29)","v":""},25,null,null,null,null,null,null,null,0,null,"全欠席者数",0,null,"開始日"]
[null,22,{"$f":"IF(VLOOKUP(B29,設定!$K$4:$P$43,$BL$16+2,0)=0,\"\",VLOOKUP(B29,設定!$K$4:$P$43,$BL$16+2,0))","v":""},null,null,null,null,null,null,null,null,null,null,null,null,null,null,null,null,null,null,null,null,null,null,null,null,null,null,null,null,null,null,null,null,null,null,null,null,null,null,null,null,null,null,null,null,null,null,null,{"$f":"IF(設定!B30=\"\",\"\",設定!B30)","v":""},{"$f":"IF(設定!C30=\"\",\"\",設定!C30)","v":""},26,null,null,null,null,null,null,null,0,null,"転入学者数",0,null,"終了日"]
[null,23,{"$f":"IF(VLOOKUP(B30,設定!$K$4:$P$43,$BL$16+2,0)=0,\"\",VLOOKUP(B30,設定!$K$4:$P$43,$BL$16+2,0))","v":""},null,null,null,null,null,null,null,null,null,null,null,null,null,null,null,null,null,null,null,null,null,null,null,null,null,null,null,null,null,null,null,null,null,null,null,null,null,null,null,null,null,null,null,null,null,null,null,{"$f":"IF(設定!B31=\"\",\"\",設定!B31)","v":""},{"$f":"IF(設定!C31=\"\",\"\",設定!C31)","v":""},27,null,null,null,null,null,null,null,0,null,"転学退学者数",0]
[null,24,{"$f":"IF(VLOOKUP(B31,設定!$K$4:$P$43,$BL$16+2,0)=0,\"\",VLOOKUP(B31,設定!$K$4:$P$43,$BL$16+2,0))","v":""},null,null,null,null,null,null,null,null,null,null,null,null,null,null,null,null,null,null,null,null,null,null,null,null,null,null,null,null,null,null,null,null,null,null,null,null,null,null,null,null,null,null,null,null,null,null,null,{"$f":"IF(設定!B32=\"\",\"\",設定!B32)","v":""},{"$f":"IF(設定!C32=\"\",\"\",設定!C32)","v":""},28,null,null,null,null,null,null,null,0]
[null,25,{"$f":"IF(VLOOKUP(B32,設定!$K$4:$P$43,$BL$16+2,0)=0,\"\",VLOOKUP(B32,設定!$K$4:$P$43,$BL$16+2,0))","v":""},null,null,null,null,null,null,null,null,null,null,null,null,null,null,null,null,null,null,null,null,null,null,null,null,null,null,null,null,null,null,null,null,null,null,null,null,null,null,null,null,null,null,null,null,null,null,null,{"$f":"IF(設定!B33=\"\",\"\",設定!B33)","v":""},{"$f":"IF(設定!C33=\"\",\"\",設定!C33)","v":""},29,null,null,null,null,null,null,null,0,null,"◆入力記号"]
[null,26,{"$f":"IF(VLOOKUP(B33,設定!$K$4:$P$43,$BL$16+2,0)=0,\"\",VLOOKUP(B33,設定!$K$4:$P$43,$BL$16+2,0))","v":""},null,null,null,null,null,null,null,null,null,null,null,null,null,null,null,null,null,null,null,null,null,null,null,null,null,null,null,null,null,null,null,null,null,null,null,null,null,null,null,null,null,null,null,null,null,null,null,{"$f":"IF(設定!B34=\"\",\"\",設定!B34)","v":""},{"$f":"IF(設定!C34=\"\",\"\",設定!C34)","v":""},30,null,null,null,null,null,null,null,0,null,"病欠","／"]
[null,27,{"$f":"IF(VLOOKUP(B34,設定!$K$4:$P$43,$BL$16+2,0)=0,\"\",VLOOKUP(B34,設定!$K$4:$P$43,$BL$16+2,0))","v":""},null,null,null,null,null,null,null,null,null,null,null,null,null,null,null,null,null,null,null,null,null,null,null,null,null,null,null,null,null,null,null,null,null,null,null,null,null,null,null,null,null,null,null,null,null,null,null,{"$f":"IF(設定!B35=\"\",\"\",設定!B35)","v":""},{"$f":"IF(設定!C35=\"\",\"\",設定!C35)","v":""},31,null,null,null,null,null,null,null,0,null,"事故欠","〃"]
[null,28,{"$f":"IF(VLOOKUP(B35,設定!$K$4:$P$43,$BL$16+2,0)=0,\"\",VLOOKUP(B35,設定!$K$4:$P$43,$BL$16+2,0))","v":""},null,null,null,null,null,null,null,null,null,null,null,null,null,null,null,null,null,null,null,null,null,null,null,null,null,null,null,null,null,null,null,null,null,null,null,null,null,null,null,null,null,null,null,null,null,null,null,{"$f":"IF(設定!B36=\"\",\"\",設定!B36)","v":""},{"$f":"IF(設定!C36=\"\",\"\",設定!C36)","v":""},null,null,null,null,null,null,null,null,null,null,"遅刻","×"]
[null,29,{"$f":"IF(VLOOKUP(B36,設定!$K$4:$P$43,$BL$16+2,0)=0,\"\",VLOOKUP(B36,設定!$K$4:$P$43,$BL$16+2,0))","v":""},null,null,null,null,null,null,null,null,null,null,null,null,null,null,null,null,null,null,null,null,null,null,null,null,null,null,null,null,null,null,null,null,null,null,null,null,null,null,null,null,null,null,null,null,null,null,null,{"$f":"IF(設定!B37=\"\",\"\",設定!B37)","v":""},{"$f":"IF(設定!C37=\"\",\"\",設定!C37)","v":""},null,30,"data(tu)　その月の日数",null,null,null,null,null,null,null,"早退","○"]
[null,30,{"$f":"IF(VLOOKUP(B37,設定!$K$4:$P$43,$BL$16+2,0)=0,\"\",VLOOKUP(B37,設定!$K$4:$P$43,$BL$16+2,0))","v":""},null,null,null,null,null,null,null,null,null,null,null,null,null,null,null,null,null,null,null,null,null,null,null,null,null,null,null,null,null,null,null,null,null,null,null,null,null,null,null,null,null,null,null,null,null,null,null,{"$f":"IF(設定!B38=\"\",\"\",設定!B38)","v":""},{"$f":"IF(設定!C38=\"\",\"\",設定!C38)","v":""},null,0,"hi　月の長期休業の日数",null,null,null,null,null,null,null,"遅刻・早退","×○"]
[null,31,{"$f":"IF(VLOOKUP(B38,設定!$K$4:$P$43,$BL$16+2,0)=0,\"\",VLOOKUP(B38,設定!$K$4:$P$43,$BL$16+2,0))","v":""},null,null,null,null,null,null,null,null,null,null,null,null,null,null,null,null,null,null,null,null,null,null,null,null,null,null,null,null,null,null,null,null,null,null,null,null,null,null,null,null,null,null,null,null,null,null,null,{"$f":"IF(設定!B39=\"\",\"\",設定!B39)","v":""},{"$f":"IF(設定!C39=\"\",\"\",設定!C39)","v":""},null,2,"hj　月の祝日の日数",null,null,null,null,null,null,null,"忌引","キ"]
[null,32,{"$f":"IF(VLOOKUP(B39,設定!$K$4:$P$43,$BL$16+2,0)=0,\"\",VLOOKUP(B39,設定!$K$4:$P$43,$BL$16+2,0))","v":""},null,null,null,null,null,null,null,null,null,null,null,null,null,null,null,null,null,null,null,null,null,null,null,null,null,null,null,null,null,null,null,null,null,null,null,null,null,null,null,null,null,null,null,null,null,null,null,{"$f":"IF(設定!B40=\"\",\"\",設定!B40)","v":""},{"$f":"IF(設定!C40=\"\",\"\",設定!C40)","v":""},null,8,"hk　月の祝日ではない土日の数",null,null,null,null,null,null,null,"出席停止","テ"]
[null,33,{"$f":"IF(VLOOKUP(B40,設定!$K$4:$P$43,$BL$16+2,0)=0,\"\",VLOOKUP(B40,設定!$K$4:$P$43,$BL$16+2,0))","v":""},null,null,null,null,null,null,null,null,null,null,null,null,null,null,null,null,null,null,null,null,null,null,null,null,null,null,null,null,null,null,null,null,null,null,null,null,null,null,null,null,null,null,null,null,null,null,null,{"$f":"IF(設定!B41=\"\",\"\",設定!B41)","v":""},{"$f":"IF(設定!C41=\"\",\"\",設定!C41)","v":""},null,0,"hl　長期休業で祝日と重複する数",null,null,null,null,null,null,null,"その他","タ"]
[null,34,{"$f":"IF(VLOOKUP(B41,設定!$K$4:$P$43,$BL$16+2,0)=0,\"\",VLOOKUP(B41,設定!$K$4:$P$43,$BL$16+2,0))","v":""},null,null,null,null,null,null,null,null,null,null,null,null,null,null,null,null,null,null,null,null,null,null,null,null,null,null,null,null,null,null,null,null,null,null,null,null,null,null,null,null,null,null,null,null,null,null,null,{"$f":"IF(設定!B42=\"\",\"\",設定!B42)","v":""},{"$f":"IF(設定!C42=\"\",\"\",設定!C42)","v":""},null,0,"so　卒業式後の日数",null,null,null,null,null,null,null,"転手転確転入","◎"]
[null,35,{"$f":"IF(VLOOKUP(B42,設定!$K$4:$P$43,$BL$16+2,0)=0,\"\",VLOOKUP(B42,設定!$K$4:$P$43,$BL$16+2,0))","v":""},null,null,null,null,null,null,null,null,null,null,null,null,null,null,null,null,null,null,null,null,null,null,null,null,null,null,null,null,null,null,null,null,null,null,null,null,null,null,null,null,null,null,null,null,null,null,null,{"$f":"IF(設定!B43=\"\",\"\",設定!B43)","v":""},{"$f":"IF(設定!C43=\"\",\"\",設定!C43)","v":""},null,0,"gh　学級閉鎖の日数"]
[null,36,{"$f":"IF(VLOOKUP(B43,設定!$K$4:$P$43,$BL$16+2,0)=0,\"\",VLOOKUP(B43,設定!$K$4:$P$43,$BL$16+2,0))","v":""},null,null,null,null,null,null,null,null,null,null,null,null,null,null,null,null,null,null,null,null,null,null,null,null,null,null,null,null,null,null,null,null,null,null,null,null,null,null,null,null,null,null,null,null,null,null,null,{"$f":"IF(設定!B44=\"\",\"\",設定!B44)","v":""},{"$f":"IF(設定!C44=\"\",\"\",設定!C44)","v":""},null,null,null,null,null,null,null,null,null,null,"※転出入については、集計欄の自動計算には対応していません。「月末処理」の後、手動にて修正をしてください。"]
[null,37,{"$f":"IF(VLOOKUP(B44,設定!$K$4:$P$43,$BL$16+2,0)=0,\"\",VLOOKUP(B44,設定!$K$4:$P$43,$BL$16+2,0))","v":""}]
[null,38,{"$f":"IF(VLOOKUP(B45,設定!$K$4:$P$43,$BL$16+2,0)=0,\"\",VLOOKUP(B45,設定!$K$4:$P$43,$BL$16+2,0))","v":""},null,null,null,null,null,null,null,null,null,null,null,null,null,null,null,null,null,null,null,null,null,null,null,null,null,null,null,null,null,null,null,null,null,null,null,null,null,null,null,null,null,null,null,null,null,null,"児童生徒数",{"$f":"40-BB45-BC45","v":4},null,null,{"$f":"COUNTIF(C6:C25,\"\")","v":16},{"$f":"COUNTIF(C28:C47,\"\")","v":20},"児童生徒欄の空白セル"]
[null,39,{"$f":"IF(VLOOKUP(B46,設定!$K$4:$P$43,$BL$16+2,0)=0,\"\",VLOOKUP(B46,設定!$K$4:$P$43,$BL$16+2,0))","v":""},null,null,null,null,null,null,null,null,null,null,null,null,null,null,null,null,null,null,null,null,null,null,null,null,null,null,null,null,null,null,null,null,null,null,null,null,null,null,null,null,null,null,null,null,null,null,"授業日数",null,"←月始め処理で授業日数が入力される"]
[null,40,{"$f":"IF(VLOOKUP(B47,設定!$K$4:$P$43,$BL$16+2,0)=0,\"\",VLOOKUP(B47,設定!$K$4:$P$43,$BL$16+2,0))","v":""},null,null,null,null,null,null,null,null,null,null,null,null,null,null,null,null,null,null,null,null,null,null,null,null,null,null,null,null,null,null,null,null,null,null,null,null,null,null,null,null,null,null,null,null,null,null,"出席者数",22,"←月末処理で入力される",null,"出席日数0のカウント"]
[null,"計","出  席  者  数",null,null,null,null,null,null,null,null,null,null,null,null,null,null,null,null,null,null,null,null,null,null,null,null,null,null,null,null,null,null,null,null,null,null,null,null,null,null,null,null,null,null,null,null,null,null,"全欠席者数",{"$f":"SUM(BH53:BH92)","v":0},"←月末処理で入力される",null,{"$f":"COUNTIF(AV6:AV25,0)","v":0},{"$f":"COUNTIF(AV28:AV47,0)","v":0},{"$f":"BB48+BC48","v":0}]
[null,null,"欠  席  者  数",null,null,null,null,null,null,null,null,null,null,null,null,null,null,null,null,null,null,null,null,null,null,null,null,null,null,null,null,null,null,null,null,null,null,null,null,null,null,null,null,null,null,null,null,null,null,"転入学者数",0,"←月末処理で入力される"]
[null,"授業","日数",null,null,null,null,"在籍","者数",null,null,null,null,null,null,"出席","者数",null,null,null,null,null,null,"全欠席","者　数",null,null,null,null,null,null,null,"転入学","者　数",null,null,null,null,null,"転学退",null,"学者数",null,null,null,null,null,null,null,"転学退学者数",0,"←月末処理で入力される"]
[]
[null,null,null,null,null,null,null,null,null,null,null,null,null,null,null,null,null,null,null,null,null,null,null,null,null,null,null,null,null,null,null,null,null,null,null,null,null,null,null,null,null,null,null,null,null,null,null,null,null,"長期休業間隔",{"$f":"IF(BK19=\"狭く\",9,IF(BK19=\"やや狭く\",8,IF(BK19=\"やや広く\",6,IF(BK19=\"広く\",5,7))))","v":6},null,"長期休業間隔",null,"標準",null,null,null,"全欠処理"]
[null,null,null,null,null,null,null,null,null,null,null,null,null,null,null,null,null,null,null,null,null,null,null,null,null,null,null,null,null,null,null,null,null,null,null,null,null,null,null,null,null,null,null,null,null,null,null,null,null,"長期休業処理",null,null,null,null,"狭く",null,null,null,1,{"$f":"IF(AV6<>\"\",IF(AM6-AR6-AS6=0,1,0),0)","v":0}]
[null,null,null,null,null,null,null,null,null,null,null,null,null,null,null,null,null,null,null,null,null,null,null,null,null,null,null,null,null,null,null,null,null,null,null,null,null,null,null,null,null,null,null,null,null,null,null,null,null,"長期休業Ⅰ",{"$f":"BO19","v":0},null,null,null,"やや狭く",null,null,null,2,{"$f":"IF(AV7<>\"\",IF(AM7-AR7-AS7=0,1,0),0)","v":0}]
[null,null,null,null,null,null,null,null,null,null,null,null,null,null,null,null,null,null,null,null,null,null,null,null,null,null,null,null,null,null,null,null,null,null,null,null,null,null,null,null,null,null,null,null,null,null,null,null,null,null,{"$f":"BO20","v":0},null,null,null,"やや広く",null,null,null,3,0]
[null,null,null,null,null,null,null,null,null,null,null,null,null,null,null,null,null,null,null,null,null,null,null,null,null,null,null,null,null,null,null,null,null,null,null,null,null,null,null,null,null,null,null,null,null,null,null,null,null,null,{"$f":"BO21","v":0},null,null,null,{"$f":"IF(F3=4,\"\",IF(F3=3,\"\",\"広く\"))","v":"広く"},null,null,null,4,0]
[null,null,null,null,null,null,null,null,null,null,null,null,null,null,null,null,null,null,null,null,null,null,null,null,null,null,null,null,null,null,null,null,null,null,null,null,null,null,null,null,null,null,null,null,null,null,null,null,null,"長期休業Ⅱ",{"$f":"BO23","v":0},null,null,null,null,null,null,null,5,0]
[null,null,null,null,null,null,null,null,null,null,null,null,null,null,null,null,null,null,null,null,null,null,null,null,null,null,null,null,null,null,null,null,null,null,null,null,null,null,null,null,null,null,null,null,null,null,null,null,null,null,{"$f":"BO24","v":0},null,null,null,null,null,null,null,6,0]
[null,null,null,null,null,null,null,null,null,null,null,null,null,null,null,null,null,null,null,null,null,null,null,null,null,null,null,null,null,null,null,null,null,null,null,null,null,null,null,null,null,null,null,null,null,null,null,null,null,null,{"$f":"BO25","v":0},null,null,null,null,null,null,null,7,0]
[null,null,null,null,null,null,null,null,null,null,null,null,null,null,null,null,null,null,null,null,null,null,null,null,null,null,null,null,null,null,null,null,null,null,null,null,null,null,null,null,null,null,null,null,null,null,null,null,null,"長期休業Ⅲ",{"$f":"BO27","v":0},null,null,null,null,null,null,null,8,0]
[null,null,null,null,null,null,null,null,null,null,null,null,null,null,null,null,null,null,null,null,null,null,null,null,null,null,null,null,null,null,null,null,null,null,null,null,null,null,null,null,null,null,null,null,null,null,null,null,null,null,{"$f":"BO28","v":0},null,null,null,null,null,null,null,9,0]
[null,null,null,null,null,null,null,null,null,null,null,null,null,null,null,null,null,null,null,null,null,null,null,null,null,null,null,null,null,null,null,null,null,null,null,null,null,null,null,null,null,null,null,null,null,null,null,null,null,null,{"$f":"BO29","v":0},null,null,null,null,null,null,null,10,0]
[null,null,null,null,null,null,null,null,null,null,null,null,null,null,null,null,null,null,null,null,null,null,null,null,null,null,null,null,null,null,null,null,null,null,null,null,null,null,null,null,null,null,null,null,null,null,null,null,null,null,{"$f":"MAX(AY55,AY58,AY61)","v":0},null,null,null,null,null,null,null,11,0]
[null,null,null,null,null,null,null,null,null,null,null,null,null,null,null,null,null,null,null,null,null,null,null,null,null,null,null,null,null,null,null,null,null,null,null,null,null,null,null,null,null,null,null,null,null,null,null,null,null,null,null,null,null,null,null,null,null,null,12,0]
[null,null,null,null,null,null,null,null,null,null,null,null,null,null,null,null,null,null,null,null,null,null,null,null,null,null,null,null,null,null,null,null,null,null,null,null,null,null,null,null,null,null,null,null,null,null,null,null,null,null,null,null,null,null,null,null,null,null,13,0]
[null,null,null,null,null,null,null,null,null,null,null,null,null,null,null,null,null,null,null,null,null,null,null,null,null,null,null,null,null,null,null,null,null,null,null,null,null,null,null,null,null,null,null,null,null,null,null,null,null,null,null,null,null,null,null,null,null,null,14,0]
[null,null,null,null,null,null,null,null,null,null,null,null,null,null,null,null,null,null,null,null,null,null,null,null,null,null,null,null,null,null,null,null,null,null,null,null,null,null,null,null,null,null,null,null,null,null,null,null,null,null,null,null,null,null,null,null,null,null,15,0]
[null,null,null,null,null,null,null,null,null,null,null,null,null,null,null,null,null,null,null,null,null,null,null,null,null,null,null,null,null,null,null,null,null,null,null,null,null,null,null,null,null,null,null,null,null,null,null,null,null,null,null,null,null,null,null,null,null,null,16,0]
[null,null,null,null,null,null,null,null,null,null,null,null,null,null,null,null,null,null,null,null,null,null,null,null,null,null,null,null,null,null,null,null,null,null,null,null,null,null,null,null,null,null,null,null,null,null,null,null,null,"入力規則","／",null,null,null,null,null,null,null,17,0]
[null,null,null,null,null,null,null,null,null,null,null,null,null,null,null,null,null,null,null,null,null,null,null,null,null,null,null,null,null,null,null,null,null,null,null,null,null,null,null,null,null,null,null,null,null,null,null,null,null,null,"〃",null,null,null,null,null,null,null,18,0]
[null,null,null,null,null,null,null,null,null,null,null,null,null,null,null,null,null,null,null,null,null,null,null,null,null,null,null,null,null,null,null,null,null,null,null,null,null,null,null,null,null,null,null,null,null,null,null,null,null,null,"×",null,null,null,null,null,null,null,19,0]
[null,null,null,null,null,null,null,null,null,null,null,null,null,null,null,null,null,null,null,null,null,null,null,null,null,null,null,null,null,null,null,null,null,null,null,null,null,null,null,null,null,null,null,null,null,null,null,null,null,null,"○",null,null,null,null,null,null,null,20,0]
[null,null,null,null,null,null,null,null,null,null,null,null,null,null,null,null,null,null,null,null,null,null,null,null,null,null,null,null,null,null,null,null,null,null,null,null,null,null,null,null,null,null,null,null,null,null,null,null,null,null,"×○",null,null,null,null,null,null,null,21,{"$f":"IF(AV28<>\"\",IF(AM28-AR28-AS28=0,1,0),0)","v":0}]
[null,null,null,null,null,null,null,null,null,null,null,null,null,null,null,null,null,null,null,null,null,null,null,null,null,null,null,null,null,null,null,null,null,null,null,null,null,null,null,null,null,null,null,null,null,null,null,null,null,null,"キ",null,null,null,null,null,null,null,22,{"$f":"IF(AV29<>\"\",IF(AM29-AR29-AS29=0,1,0),0)","v":0}]
[null,null,null,null,null,null,null,null,null,null,null,null,null,null,null,null,null,null,null,null,null,null,null,null,null,null,null,null,null,null,null,null,null,null,null,null,null,null,null,null,null,null,null,null,null,null,null,null,null,null,"テ",null,null,null,null,null,null,null,23,0]
[null,null,null,null,null,null,null,null,null,null,null,null,null,null,null,null,null,null,null,null,null,null,null,null,null,null,null,null,null,null,null,null,null,null,null,null,null,null,null,null,null,null,null,null,null,null,null,null,null,null,"タ",null,null,null,null,null,null,null,24,0]
[null,null,null,null,null,null,null,null,null,null,null,null,null,null,null,null,null,null,null,null,null,null,null,null,null,null,null,null,null,null,null,null,null,null,null,null,null,null,null,null,null,null,null,null,null,null,null,null,null,null,"◎",null,null,null,null,null,null,null,25,0]
[null,null,null,null,null,null,null,null,null,null,null,null,null,null,null,null,null,null,null,null,null,null,null,null,null,null,null,null,null,null,null,null,null,null,null,null,null,null,null,null,null,null,null,null,null,null,null,null,null,null,null,null,null,null,null,null,null,null,26,0]
[null,null,null,null,null,null,null,null,null,null,null,null,null,null,null,null,null,null,null,null,null,null,null,null,null,null,null,null,null,null,null,null,null,null,null,null,null,null,null,null,null,null,null,null,null,null,null,null,null,null,null,null,null,null,null,null,null,null,27,0]
[null,null,null,null,null,null,null,null,null,null,null,null,null,null,null,null,null,null,null,null,null,null,null,null,null,null,null,null,null,null,null,null,null,null,null,null,null,null,null,null,null,null,null,null,null,null,null,null,null,null,null,null,null,null,null,null,null,null,28,0]
[null,null,null,null,null,null,null,null,null,null,null,null,null,null,null,null,null,null,null,null,null,null,null,null,null,null,null,null,null,null,null,null,null,null,null,null,null,null,null,null,null,null,null,null,null,null,null,null,null,null,null,null,null,null,null,null,null,null,29,0]
[null,null,null,null,null,null,null,null,null,null,null,null,null,null,null,null,null,null,null,null,null,null,null,null,null,null,null,null,null,null,null,null,null,null,null,null,null,null,null,null,null,null,null,null,null,null,null,null,null,null,null,null,null,null,null,null,null,null,30,0]
[null,null,null,null,null,null,null,null,null,null,null,null,null,null,null,null,null,null,null,null,null,null,null,null,null,null,null,null,null,null,null,null,null,null,null,null,null,null,null,null,null,null,null,null,null,null,null,null,null,null,null,null,null,null,null,null,null,null,31,0]
[null,null,null,null,null,null,null,null,null,null,null,null,null,null,null,null,null,null,null,null,null,null,null,null,null,null,null,null,null,null,null,null,null,null,null,null,null,null,null,null,null,null,null,null,null,null,null,null,null,"追加休業","臨時休業",null,null,null,null,null,null,null,32,0]
[null,null,null,null,null,null,null,null,null,null,null,null,null,null,null,null,null,null,null,null,null,null,null,null,null,null,null,null,null,null,null,null,null,null,null,null,null,null,null,null,null,null,null,null,null,null,null,null,null,null,"学年閉鎖",null,null,null,null,null,null,null,33,0]
[null,null,null,null,null,null,null,null,null,null,null,null,null,null,null,null,null,null,null,null,null,null,null,null,null,null,null,null,null,null,null,null,null,null,null,null,null,null,null,null,null,null,null,null,null,null,null,null,null,null,"学級閉鎖",null,null,null,null,null,null,null,34,0]
[null,null,null,null,null,null,null,null,null,null,null,null,null,null,null,null,null,null,null,null,null,null,null,null,null,null,null,null,null,null,null,null,null,null,null,null,null,null,null,null,null,null,null,null,null,null,null,null,null,null,null,null,null,null,null,null,null,null,35,0]
[null,null,null,null,null,null,null,null,null,null,null,null,null,null,null,null,null,null,null,null,null,null,null,null,null,null,null,null,null,null,null,null,null,null,null,null,null,null,null,null,null,null,null,null,null,null,null,null,null,null,null,null,null,null,null,null,null,null,36,0]
[null,null,null,null,null,null,null,null,null,null,null,null,null,null,null,null,null,null,null,null,null,null,null,null,null,null,null,null,null,null,null,null,null,null,null,null,null,null,null,null,null,null,null,null,null,null,null,null,null,null,null,null,null,null,null,null,null,null,37,0]
[null,null,null,null,null,null,null,null,null,null,null,null,null,null,null,null,null,null,null,null,null,null,null,null,null,null,null,null,null,null,null,null,null,null,null,null,null,null,null,null,null,null,null,null,null,null,null,null,null,"長期休業","学年始休業",null,null,null,null,null,null,null,38,0]
[null,null,null,null,null,null,null,null,null,null,null,null,null,null,null,null,null,null,null,null,null,null,null,null,null,null,null,null,null,null,null,null,null,null,null,null,null,null,null,null,null,null,null,null,null,null,null,null,null,null,"夏季休業",null,null,null,null,null,null,null,39,0]
[null,null,null,null,null,null,null,null,null,null,null,null,null,null,null,null,null,null,null,null,null,null,null,null,null,null,null,null,null,null,null,null,null,null,null,null,null,null,null,null,null,null,null,null,null,null,null,null,null,null,"秋季休業",null,null,null,null,null,null,null,40,{"$f":"IF(AV47<>\"\",IF(AM47-AR47-AS47=0,1,0),0)","v":0}]
[null,null,null,null,null,null,null,null,null,null,null,null,null,null,null,null,null,null,null,null,null,null,null,null,null,null,null,null,null,null,null,null,null,null,null,null,null,null,null,null,null,null,null,null,null,null,null,null,null,null,"冬季休業"]
[null,null,null,null,null,null,null,null,null,null,null,null,null,null,null,null,null,null,null,null,null,null,null,null,null,null,null,null,null,null,null,null,null,null,null,null,null,null,null,null,null,null,null,null,null,null,null,null,null,null,"学年末休業"]
[null,null,null,null,null,null,null,null,null,null,null,null,null,null,null,null,null,null,null,null,null,null,null,null,null,null,null,null,null,null,null,null,null,null,null,null,null,null,null,null,null,null,null,null,null,null,null,null,null,null,"臨時休業"]
[null,null,null,null,null,null,null,null,null,null,null,null,null,null,null,null,null,null,null,null,null,null,null,null,null,null,null,null,null,null,null,null,null,null,null,null,null,null,null,null,null,null,null,null,null,null,null,null,null,null,"学年閉鎖"]

{"sheet":"10月","index":8,"n_rows":96,"n_cols":67,"rows_kept":96,"cut":false,"hidden":false,"merged":[[49,41,49,42],[49,44,49,46],[51,52,51,53],[49,4,49,5],[49,10,49,13],[49,18,49,21],[49,26,49,30],[49,35,49,37],[49,39,49,40],[46,2,46,6],[46,39,46,40],[46,41,46,42],[47,1,48,1],[47,2,47,6],[47,39,47,40],[47,41,47,42],[48,2,48,6],[48,39,48,40],[48,41,48,42],[42,62,45,63],[43,2,43,6],[43,39,43,40],[43,41,43,42],[44,2,44,6],[44,39,44,40],[44,41,44,42],[45,2,45,6],[45,39,45,40],[45,41,45,42],[41,2,41,6],[41,39,41,40],[41,41,41,42],[42,2,42,6],[42,39,42,40],[42,41,42,42],[39,2,39,6],[39,39,39,40],[39,41,39,42],[40,2,40,6],[40,39,40,40],[40,41,40,42],[37,2,37,6],[37,39,37,40],[37,41,37,42],[38,2,38,6],[38,39,38,40],[38,41,38,42],[35,2,35,6],[35,39,35,40],[35,41,35,42],[36,2,36,6],[36,39,36,40],[36,41,36,42],[33,2,33,6],[33,39,33,40],[33,41,33,42],[34,2,34,6],[34,39,34,40],[34,41,34,42],[31,2,31,6],[31,39,31,40],[31,41,31,42],[32,2,32,6],[32,39,32,40],[32,41,32,42],[28,41,28,42],[29,2,29,6],[29,39,29,40],[29,41,29,42],[30,2,30,6],[30,39,30,40],[30,41,30,42],[25,39,25,40],[25,41,25,42],[26,39,26,40],[26,41,26,42],[22,2,22,6],[22,39,22,40],[22,41,22,42],[18,2,18,6],[18,39,18,40],[18,41,18,42],[27,0,37,0],[27,2,27,6],[27,39,27,40],[27,41,27,42],[28,2,28,6],[28,39,28,40],[23,2,23,6],[23,39,23,40],[23,41,23,42],[24,2,24,6],[24,39,24,40],[24,41,24,42],[5,0,24,0],[5,2,5,6],[5,39,5,40],[5,41,5,42],[6,2,6,6],[6,39,6,40],[10,2,10,6],[10,39,10,40],[10,41,10,42],[11,2,11,6],[11,39,11,40],[11,41,11,42],[8,2,8,6],[18,62,18,63],[19,2,19,6],[19,39,19,40],[19,41,19,42],[19,62,21,63],[20,2,20,6],[20,39,20,40],[16,2,16,6],[16,39,16,40],[16,41,16,42],[17,2,17,6],[17,39,17,40],[17,41,17,42],[20,41,20,42],[21,2,21,6],[21,39,21,40],[21,41,21,42],[14,2,14,6],[14,39,14,40],[14,41,14,42],[15,2,15,6],[15,39,15,40],[15,41,15,42],[12,2,12,6],[12,39,12,40],[12,41,12,42],[13,2,13,6],[13,39,13,40],[13,41,13,42],[8,39,8,40],[8,41,8,42],[9,2,9,6],[9,39,9,40],[9,41,9,42],[3,1,4,1],[3,38,4,38],[3,39,4,39],[3,40,4,40],[3,41,4,41],[6,41,6,42],[7,2,7,6],[7,39,7,40],[7,41,7,42],[0,49,0,60],[1,39,1,44],[1,53,1,54],[1,55,1,56],[1,57,1,58],[2,1,2,2],[3,42,4,42],[3,43,4,43],[3,44,4,44],[3,45,4,45],[3,46,4,46],[3,47,4,47],[2,19,2,27],[2,31,2,36],[2,38,2,40],[2,41,2,46],[2,9,2,14]]}
[null,null,null,null,null,null,null,null,null,null,null,null,null,null,null,null,null,null,null,null,null,null,null,null,null,null,null,null,null,null,null,null,null,null,null,null,null,null,null,null,null,null,null,null,null,null,null,null,null,"【注意】 この範囲は、処理のために使用しています。"]
[null,null,null,null,null,null,null,null,null,null,null,null,null,null,null,null,null,null,null,null,null,null,null,null,null,null,null,null,null,null,null,null,null,null,null,null,null,null,null,"校 長 検 印",null,null,null,null,null,null,null,null,null,"処理用セル",null,null,null,"土日",null,"祝日",null,"長期休業",null,"学級閉鎖","赤線"]
[null,{"$f":"設定!C47","v":"令和"},null,{"$f":"IF(F3>3,設定!B49,設定!C49)","v":3},"年",10,"月",null,null,{"$f":"IF(設定!H3=\"\",\"\",設定!H3)","v":"みどり学級"},null,null,null,null,null,null,null,null,null,"出　　席　　簿",null,null,null,null,null,null,null,null,null,null,null,{"$f":"設定!C2&\"学校\"","v":"松岡小学校"},null,null,null,null,null,null,"担任名",null,null,{"$f":"設定!H6","v":"永平寺 太郎"},null,null,null,null,null,null,null,"日にちの合成",{"$f":"IF(D3=\"元\",設定!C48,D3+設定!C48-1)&\"/\"&F3&\"/\"&H4","v":"2021/10/1"},{"$f":"WEEKDAY(AY3)","v":6},"日","(1,?)","(2,?)","(3,?)","(4,?)","(5,?)","(6,?)","(7,?)"]
[null,"番号",null,null,null,null,"日",1,2,3,4,5,6,7,8,9,10,11,12,13,14,15,16,17,18,19,20,21,22,23,24,25,26,27,28,29,30,31,"授業日数","出席停止忌引","等の日数","出席しなければ","ならない日数","病気欠席","事故欠席","遅刻回数","早退回数","出席日数",null,"西暦に変換",{"$f":"DATE(YEAR(AY3),MONTH(AY3),DAY(AY3))","v":"2021-10-01"},{"$f":"YEAR(AY3)","v":2021},1,null,null,null,null,null,null,null,{"$f":"BB4-BC4+BD4-BE4+BF4-BG4","v":0}]
[null,null,null,"氏    名",null,null,"曜日",null,null,null,null,null,null,null,null,null,null,null,null,null,null,null,null,null,null,null,null,null,null,null,null,null,null,null,null,null,null,null,null,null,null,null,null,null,null,null,null,null,null,"曜日決定",{"$f":"TEXT(AY4,\"aaa\")","v":"金"},{"$f":"TEXT(AZ3,\"aaa\")","v":"金"},2,null,null,null,null,null,null,null,{"$f":"BB5-BC5+BD5-BE5+BF5-BG5","v":0}]
["〈記号〉出席空欄　病欠／ 事故欠〃 遅刻× 早退○ 忌引キ 出席停止テ",1,{"$f":"IF(VLOOKUP(B6,設定!$K$4:$P$43,$BL$16+2,0)=0,\"\",VLOOKUP(B6,設定!$K$4:$P$43,$BL$16+2,0))","v":"西郷隆盛　１年"},null,null,null,null,null,null,null,null,null,null,null,null,null,null,null,null,null,null,null,null,null,null,null,null,null,null,null,null,null,null,null,null,null,null,null,null,null,null,null,null,null,null,null,null,null,null,"今月の日数",31,null,3,null,null,null,null,null,null,null,0]
[null,2,{"$f":"IF(VLOOKUP(B7,設定!$K$4:$P$43,$BL$16+2,0)=0,\"\",VLOOKUP(B7,設定!$K$4:$P$43,$BL$16+2,0))","v":"伊達政宗　３年"},null,null,null,null,null,null,null,null,null,null,null,null,null,null,null,null,null,null,null,null,null,null,null,null,null,null,null,null,null,null,null,null,null,null,null,null,null,null,null,null,null,null,null,null,null,null,null,null,null,4,null,null,null,null,null,null,null,0,null,null,null,null,"◆休業追加"]
[null,3,{"$f":"IF(VLOOKUP(B8,設定!$K$4:$P$43,$BL$16+2,0)=0,\"\",VLOOKUP(B8,設定!$K$4:$P$43,$BL$16+2,0))","v":"井伊直弼　５年"},null,null,null,null,null,null,null,null,null,null,null,null,null,null,null,null,null,null,null,null,null,null,null,null,null,null,null,null,null,null,null,null,null,null,null,null,null,null,null,null,null,null,null,null,null,null,null,null,null,5,null,null,null,null,null,null,null,0,null,null,null,null,"名称","日"]
[null,4,{"$f":"IF(VLOOKUP(B9,設定!$K$4:$P$43,$BL$16+2,0)=0,\"\",VLOOKUP(B9,設定!$K$4:$P$43,$BL$16+2,0))","v":"桓武天皇　５年"},null,null,null,null,null,null,null,null,null,null,null,null,null,null,null,null,null,null,null,null,null,null,null,null,null,null,null,null,null,null,null,null,null,null,null,null,null,null,null,null,null,null,null,null,null,null,"祝日",{"$f":"IF(設定!B10=\"\",\"\",設定!B10)","v":"2021-04-29"},{"$f":"IF(設定!C10=\"\",\"\",設定!C10)","v":"昭和の日"},6,null,null,null,null,null,null,null,0,null,null,null,null,"学年閉鎖",20]
[null,5,{"$f":"IF(VLOOKUP(B10,設定!$K$4:$P$43,$BL$16+2,0)=0,\"\",VLOOKUP(B10,設定!$K$4:$P$43,$BL$16+2,0))","v":""},null,null,null,null,null,null,null,null,null,null,null,null,null,null,null,null,null,null,null,null,null,null,null,null,null,null,null,null,null,null,null,null,null,null,null,null,null,null,null,null,null,null,null,null,null,null,null,{"$f":"IF(設定!B11=\"\",\"\",設定!B11)","v":"2021-05-03"},{"$f":"IF(設定!C11=\"\",\"\",設定!C11)","v":"憲法記念日"},7,null,null,null,null,null,null,null,0]
[null,6,{"$f":"IF(VLOOKUP(B11,設定!$K$4:$P$43,$BL$16+2,0)=0,\"\",VLOOKUP(B11,設定!$K$4:$P$43,$BL$16+2,0))","v":""},null,null,null,null,null,null,null,null,null,null,null,null,null,null,null,null,null,null,null,null,null,null,null,null,null,null,null,null,null,null,null,null,null,null,null,null,null,null,null,null,null,null,null,null,null,null,null,{"$f":"IF(設定!B12=\"\",\"\",設定!B12)","v":"2021-05-04"},{"$f":"IF(設定!C12=\"\",\"\",設定!C12)","v":"みどりの日"},8,null,null,null,null,null,null,null,0]
[null,7,{"$f":"IF(VLOOKUP(B12,設定!$K$4:$P$43,$BL$16+2,0)=0,\"\",VLOOKUP(B12,設定!$K$4:$P$43,$BL$16+2,0))","v":""},null,null,null,null,null,null,null,null,null,null,null,null,null,null,null,null,null,null,null,null,null,null,null,null,null,null,null,null,null,null,null,null,null,null,null,null,null,null,null,null,null,null,null,null,null,null,null,{"$f":"IF(設定!B13=\"\",\"\",設定!B13)","v":"2021-05-05"},{"$f":"IF(設定!C13=\"\",\"\",設定!C13)","v":"こどもの日"},9,null,null,null,null,null,null,null,0]
[null,8,{"$f":"IF(VLOOKUP(B13,設定!$K$4:$P$43,$BL$16+2,0)=0,\"\",VLOOKUP(B13,設定!$K$4:$P$43,$BL$16+2,0))","v":""},null,null,null,null,null,null,null,null,null,null,null,null,null,null,null,null,null,null,null,null,null,null,null,null,null,null,null,null,null,null,null,null,null,null,null,null,null,null,null,null,null,null,null,null,null,null,null,{"$f":"IF(設定!B14=\"\",\"\",設定!B14)","v":"2021-07-22"},{"$f":"IF(設定!C14=\"\",\"\",設定!C14)","v":"海の日"},10,null,null,null,null,null,null,null,0]
[null,9,{"$f":"IF(VLOOKUP(B14,設定!$K$4:$P$43,$BL$16+2,0)=0,\"\",VLOOKUP(B14,設定!$K$4:$P$43,$BL$16+2,0))","v":""},null,null,null,null,null,null,null,null,null,null,null,null,null,null,null,null,null,null,null,null,null,null,null,null,null,null,null,null,null,null,null,null,null,null,null,null,null,null,null,null,null,null,null,null,null,null,null,{"$f":"IF(設定!B15=\"\",\"\",設定!B15)","v":"2021-07-23"},{"$f":"IF(設定!C15=\"\",\"\",設定!C15)","v":"スポーツの日"},11,null,null,null,null,null,null,null,0]
[null,10,{"$f":"IF(VLOOKUP(B15,設定!$K$4:$P$43,$BL$16+2,0)=0,\"\",VLOOKUP(B15,設定!$K$4:$P$43,$BL$16+2,0))","v":""},null,null,null,null,null,null,null,null,null,null,null,null,null,null,null,null,null,null,null,null,null,null,null,null,null,null,null,null,null,null,null,null,null,null,null,null,null,null,null,null,null,null,null,null,null,null,null,{"$f":"IF(設定!B16=\"\",\"\",設定!B16)","v":"2021-08-08"},{"$f":"IF(設定!C16=\"\",\"\",設定!C16)","v":"山の日"},12,null,null,null,null,null,null,null,0]
[null,11,{"$f":"IF(VLOOKUP(B16,設定!$K$4:$P$43,$BL$16+2,0)=0,\"\",VLOOKUP(B16,設定!$K$4:$P$43,$BL$16+2,0))","v":""},null,null,null,null,null,null,null,null,null,null,null,null,null,null,null,null,null,null,null,null,null,null,null,null,null,null,null,null,null,null,null,null,null,null,null,null,null,null,null,null,null,null,null,null,null,null,null,{"$f":"IF(設定!B17=\"\",\"\",設定!B17)","v":"2021-08-09"},{"$f":"IF(設定!C17=\"\",\"\",設定!C17)","v":"休　　日"},13,null,null,null,null,null,null,null,0,null,"使用名列",0]
[null,12,{"$f":"IF(VLOOKUP(B17,設定!$K$4:$P$43,$BL$16+2,0)=0,\"\",VLOOKUP(B17,設定!$K$4:$P$43,$BL$16+2,0))","v":""},null,null,null,null,null,null,null,null,null,null,null,null,null,null,null,null,null,null,null,null,null,null,null,null,null,null,null,null,null,null,null,null,null,null,null,null,null,null,null,null,null,null,null,null,null,null,null,{"$f":"IF(設定!B18=\"\",\"\",設定!B18)","v":"2021-09-20"},{"$f":"IF(設定!C18=\"\",\"\",設定!C18)","v":"敬老の日"},14,null,null,null,null,null,null,null,0,null,null,null,null,"※「月始め処理」の前に入力"]
[null,13,{"$f":"IF(VLOOKUP(B18,設定!$K$4:$P$43,$BL$16+2,0)=0,\"\",VLOOKUP(B18,設定!$K$4:$P$43,$BL$16+2,0))","v":""},null,null,null,null,null,null,null,null,null,null,null,null,null,null,null,null,null,null,null,null,null,null,null,null,null,null,null,null,null,null,null,null,null,null,null,null,null,null,null,null,null,null,null,null,null,null,null,{"$f":"IF(設定!B19=\"\",\"\",設定!B19)","v":"2021-09-23"},{"$f":"IF(設定!C19=\"\",\"\",設定!C19)","v":"秋分の日"},15,null,null,null,null,null,null,null,0,null,"◆長期休業の文字間隔",null,null,"◆長期休業Ⅰ"]
[null,14,{"$f":"IF(VLOOKUP(B19,設定!$K$4:$P$43,$BL$16+2,0)=0,\"\",VLOOKUP(B19,設定!$K$4:$P$43,$BL$16+2,0))","v":""},null,null,null,null,null,null,null,null,null,null,null,null,null,null,null,null,null,null,null,null,null,null,null,null,null,null,null,null,null,null,null,null,null,null,null,null,null,null,null,null,null,null,null,null,null,null,null,{"$f":"IF(設定!B20=\"\",\"\",設定!B20)","v":"2021-11-03"},{"$f":"IF(設定!C20=\"\",\"\",設定!C20)","v":"文化の日"},16,null,null,null,null,null,null,null,0,null,"やや広く",null,null,"名称"]
[null,15,{"$f":"IF(VLOOKUP(B20,設定!$K$4:$P$43,$BL$16+2,0)=0,\"\",VLOOKUP(B20,設定!$K$4:$P$43,$BL$16+2,0))","v":""},null,null,null,null,null,null,null,null,null,null,null,null,null,null,null,null,null,null,null,null,null,null,null,null,null,null,null,null,null,null,null,null,null,null,null,null,null,null,null,null,null,null,null,null,null,null,null,{"$f":"IF(設定!B21=\"\",\"\",設定!B21)","v":"2021-11-23"},{"$f":"IF(設定!C21=\"\",\"\",設定!C21)","v":"勤労感謝の日"},17,null,null,null,null,null,null,null,0,null,"※長期休業の文字間隔を調節します。祝日との文字の重なりを回避することができます。",null,null,"開始日"]
[null,16,{"$f":"IF(VLOOKUP(B21,設定!$K$4:$P$43,$BL$16+2,0)=0,\"\",VLOOKUP(B21,設定!$K$4:$P$43,$BL$16+2,0))","v":""},null,null,null,null,null,null,null,null,null,null,null,null,null,null,null,null,null,null,null,null,null,null,null,null,null,null,null,null,null,null,null,null,null,null,null,null,null,null,null,null,null,null,null,null,null,null,null,{"$f":"IF(設定!B22=\"\",\"\",設定!B22)","v":"2022-01-01"},{"$f":"IF(設定!C22=\"\",\"\",設定!C22)","v":"元　　日"},18,null,null,null,null,null,null,null,0,null,null,null,null,"終了日"]
[null,17,{"$f":"IF(VLOOKUP(B22,設定!$K$4:$P$43,$BL$16+2,0)=0,\"\",VLOOKUP(B22,設定!$K$4:$P$43,$BL$16+2,0))","v":""},null,null,null,null,null,null,null,null,null,null,null,null,null,null,null,null,null,null,null,null,null,null,null,null,null,null,null,null,null,null,null,null,null,null,null,null,null,null,null,null,null,null,null,null,null,null,null,{"$f":"IF(設定!B23=\"\",\"\",設定!B23)","v":"2022-01-10"},{"$f":"IF(設定!C23=\"\",\"\",設定!C23)","v":"成人の日"},19,null,null,null,null,null,null,null,0,null,null,null,null,"◆長期休業Ⅱ"]
[null,18,{"$f":"IF(VLOOKUP(B23,設定!$K$4:$P$43,$BL$16+2,0)=0,\"\",VLOOKUP(B23,設定!$K$4:$P$43,$BL$16+2,0))","v":""},null,null,null,null,null,null,null,null,null,null,null,null,null,null,null,null,null,null,null,null,null,null,null,null,null,null,null,null,null,null,null,null,null,null,null,null,null,null,null,null,null,null,null,null,null,null,null,{"$f":"IF(設定!B24=\"\",\"\",設定!B24)","v":"2022-02-11"},{"$f":"IF(設定!C24=\"\",\"\",設定!C24)","v":"建国記念の日"},20,null,null,null,null,null,null,null,0,null,null,null,null,"名称"]
[null,19,{"$f":"IF(VLOOKUP(B24,設定!$K$4:$P$43,$BL$16+2,0)=0,\"\",VLOOKUP(B24,設定!$K$4:$P$43,$BL$16+2,0))","v":""},null,null,null,null,null,null,null,null,null,null,null,null,null,null,null,null,null,null,null,null,null,null,null,null,null,null,null,null,null,null,null,null,null,null,null,null,null,null,null,null,null,null,null,null,null,null,null,{"$f":"IF(設定!B25=\"\",\"\",設定!B25)","v":"2022-02-23"},{"$f":"IF(設定!C25=\"\",\"\",設定!C25)","v":"天皇誕生日"},21,null,null,null,null,null,null,null,0,null,"◆各処理にて再計算",null,null,"開始日"]
[null,20,{"$f":"IF(VLOOKUP(B25,設定!$K$4:$P$43,$BL$16+2,0)=0,\"\",VLOOKUP(B25,設定!$K$4:$P$43,$BL$16+2,0))","v":""},null,null,null,null,null,null,null,null,null,null,null,null,null,null,null,null,null,null,null,null,null,null,null,null,null,null,null,null,null,null,null,null,null,null,null,null,null,null,null,null,null,null,null,null,null,null,null,{"$f":"IF(設定!B26=\"\",\"\",設定!B26)","v":"2022-03-19"},{"$f":"IF(設定!C26=\"\",\"\",設定!C26)","v":"春分の日"},22,null,null,null,null,null,null,null,0,null,"児童生徒数",{"$f":"AY45","v":4},null,"終了日"]
[null,null,null,null,null,null,null,null,null,null,null,null,null,null,null,null,null,null,null,null,null,null,null,null,null,null,null,null,null,null,null,null,null,null,null,null,null,null,null,null,null,null,null,null,null,null,null,null,null,null,{"$f":"IF(設定!B27=\"\",\"\",設定!B27)","v":""},{"$f":"IF(設定!C27=\"\",\"\",設定!C27)","v":""},23,null,null,null,null,null,null,null,0,null,"授業日数",{"$f":"IF(AY46=\"\",\"\",AY46)","v":""},null,"◆長期休業Ⅲ"]
[null,null,null,null,null,null,null,1,2,3,4,5,6,7,8,9,10,11,12,13,14,15,16,17,18,19,20,21,22,23,24,25,26,27,28,29,30,31,null,null,null,null,null,null,null,null,null,null,null,null,{"$f":"IF(設定!B28=\"\",\"\",設定!B28)","v":""},{"$f":"IF(設定!C28=\"\",\"\",設定!C28)","v":""},24,null,null,null,null,null,null,null,0,null,"出席者数",22,null,"名称"]
["その他教育上特に必要と認めた日タ",21,{"$f":"IF(VLOOKUP(B28,設定!$K$4:$P$43,$BL$16+2,0)=0,\"\",VLOOKUP(B28,設定!$K$4:$P$43,$BL$16+2,0))","v":""},null,null,null,null,null,null,null,null,null,null,null,null,null,null,null,null,null,null,null,null,null,null,null,null,null,null,null,null,null,null,null,null,null,null,null,null,null,null,null,null,null,null,null,null,null,null,null,{"$f":"IF(設定!B29=\"\",\"\",設定!B29)","v":""},{"$f":"IF(設定!C29=\"\",\"\",設定!C29)","v":""},25,null,null,null,null,null,null,null,0,null,"全欠席者数",0,null,"開始日"]
[null,22,{"$f":"IF(VLOOKUP(B29,設定!$K$4:$P$43,$BL$16+2,0)=0,\"\",VLOOKUP(B29,設定!$K$4:$P$43,$BL$16+2,0))","v":""},null,null,null,null,null,null,null,null,null,null,null,null,null,null,null,null,null,null,null,null,null,null,null,null,null,null,null,null,null,null,null,null,null,null,null,null,null,null,null,null,null,null,null,null,null,null,null,{"$f":"IF(設定!B30=\"\",\"\",設定!B30)","v":""},{"$f":"IF(設定!C30=\"\",\"\",設定!C30)","v":""},26,null,null,null,null,null,null,null,0,null,"転入学者数",0,null,"終了日"]
[null,23,{"$f":"IF(VLOOKUP(B30,設定!$K$4:$P$43,$BL$16+2,0)=0,\"\",VLOOKUP(B30,設定!$K$4:$P$43,$BL$16+2,0))","v":""},null,null,null,null,null,null,null,null,null,null,null,null,null,null,null,null,null,null,null,null,null,null,null,null,null,null,null,null,null,null,null,null,null,null,null,null,null,null,null,null,null,null,null,null,null,null,null,{"$f":"IF(設定!B31=\"\",\"\",設定!B31)","v":""},{"$f":"IF(設定!C31=\"\",\"\",設定!C31)","v":""},27,null,null,null,null,null,null,null,0,null,"転学退学者数",0]
[null,24,{"$f":"IF(VLOOKUP(B31,設定!$K$4:$P$43,$BL$16+2,0)=0,\"\",VLOOKUP(B31,設定!$K$4:$P$43,$BL$16+2,0))","v":""},null,null,null,null,null,null,null,null,null,null,null,null,null,null,null,null,null,null,null,null,null,null,null,null,null,null,null,null,null,null,null,null,null,null,null,null,null,null,null,null,null,null,null,null,null,null,null,{"$f":"IF(設定!B32=\"\",\"\",設定!B32)","v":""},{"$f":"IF(設定!C32=\"\",\"\",設定!C32)","v":""},28,null,null,null,null,null,null,null,0]
[null,25,{"$f":"IF(VLOOKUP(B32,設定!$K$4:$P$43,$BL$16+2,0)=0,\"\",VLOOKUP(B32,設定!$K$4:$P$43,$BL$16+2,0))","v":""},null,null,null,null,null,null,null,null,null,null,null,null,null,null,null,null,null,null,null,null,null,null,null,null,null,null,null,null,null,null,null,null,null,null,null,null,null,null,null,null,null,null,null,null,null,null,null,{"$f":"IF(設定!B33=\"\",\"\",設定!B33)","v":""},{"$f":"IF(設定!C33=\"\",\"\",設定!C33)","v":""},29,null,null,null,null,null,null,null,0,null,"◆入力記号"]
[null,26,{"$f":"IF(VLOOKUP(B33,設定!$K$4:$P$43,$BL$16+2,0)=0,\"\",VLOOKUP(B33,設定!$K$4:$P$43,$BL$16+2,0))","v":""},null,null,null,null,null,null,null,null,null,null,null,null,null,null,null,null,null,null,null,null,null,null,null,null,null,null,null,null,null,null,null,null,null,null,null,null,null,null,null,null,null,null,null,null,null,null,null,{"$f":"IF(設定!B34=\"\",\"\",設定!B34)","v":""},{"$f":"IF(設定!C34=\"\",\"\",設定!C34)","v":""},30,null,null,null,null,null,null,null,0,null,"病欠","／"]
[null,27,{"$f":"IF(VLOOKUP(B34,設定!$K$4:$P$43,$BL$16+2,0)=0,\"\",VLOOKUP(B34,設定!$K$4:$P$43,$BL$16+2,0))","v":""},null,null,null,null,null,null,null,null,null,null,null,null,null,null,null,null,null,null,null,null,null,null,null,null,null,null,null,null,null,null,null,null,null,null,null,null,null,null,null,null,null,null,null,null,null,null,null,{"$f":"IF(設定!B35=\"\",\"\",設定!B35)","v":""},{"$f":"IF(設定!C35=\"\",\"\",設定!C35)","v":""},31,null,null,null,null,null,null,null,0,null,"事故欠","〃"]
[null,28,{"$f":"IF(VLOOKUP(B35,設定!$K$4:$P$43,$BL$16+2,0)=0,\"\",VLOOKUP(B35,設定!$K$4:$P$43,$BL$16+2,0))","v":""},null,null,null,null,null,null,null,null,null,null,null,null,null,null,null,null,null,null,null,null,null,null,null,null,null,null,null,null,null,null,null,null,null,null,null,null,null,null,null,null,null,null,null,null,null,null,null,{"$f":"IF(設定!B36=\"\",\"\",設定!B36)","v":""},{"$f":"IF(設定!C36=\"\",\"\",設定!C36)","v":""},null,null,null,null,null,null,null,null,null,null,"遅刻","×"]
[null,29,{"$f":"IF(VLOOKUP(B36,設定!$K$4:$P$43,$BL$16+2,0)=0,\"\",VLOOKUP(B36,設定!$K$4:$P$43,$BL$16+2,0))","v":""},null,null,null,null,null,null,null,null,null,null,null,null,null,null,null,null,null,null,null,null,null,null,null,null,null,null,null,null,null,null,null,null,null,null,null,null,null,null,null,null,null,null,null,null,null,null,null,{"$f":"IF(設定!B37=\"\",\"\",設定!B37)","v":""},{"$f":"IF(設定!C37=\"\",\"\",設定!C37)","v":""},null,31,"data(tu)　その月の日数",null,null,null,null,null,null,null,"早退","○"]
[null,30,{"$f":"IF(VLOOKUP(B37,設定!$K$4:$P$43,$BL$16+2,0)=0,\"\",VLOOKUP(B37,設定!$K$4:$P$43,$BL$16+2,0))","v":""},null,null,null,null,null,null,null,null,null,null,null,null,null,null,null,null,null,null,null,null,null,null,null,null,null,null,null,null,null,null,null,null,null,null,null,null,null,null,null,null,null,null,null,null,null,null,null,{"$f":"IF(設定!B38=\"\",\"\",設定!B38)","v":""},{"$f":"IF(設定!C38=\"\",\"\",設定!C38)","v":""},null,0,"hi　月の長期休業の日数",null,null,null,null,null,null,null,"遅刻・早退","×○"]
[null,31,{"$f":"IF(VLOOKUP(B38,設定!$K$4:$P$43,$BL$16+2,0)=0,\"\",VLOOKUP(B38,設定!$K$4:$P$43,$BL$16+2,0))","v":""},null,null,null,null,null,null,null,null,null,null,null,null,null,null,null,null,null,null,null,null,null,null,null,null,null,null,null,null,null,null,null,null,null,null,null,null,null,null,null,null,null,null,null,null,null,null,null,{"$f":"IF(設定!B39=\"\",\"\",設定!B39)","v":""},{"$f":"IF(設定!C39=\"\",\"\",設定!C39)","v":""},null,0,"hj　月の祝日の日数",null,null,null,null,null,null,null,"忌引","キ"]
[null,32,{"$f":"IF(VLOOKUP(B39,設定!$K$4:$P$43,$BL$16+2,0)=0,\"\",VLOOKUP(B39,設定!$K$4:$P$43,$BL$16+2,0))","v":""},null,null,null,null,null,null,null,null,null,null,null,null,null,null,null,null,null,null,null,null,null,null,null,null,null,null,null,null,null,null,null,null,null,null,null,null,null,null,null,null,null,null,null,null,null,null,null,{"$f":"IF(設定!B40=\"\",\"\",設定!B40)","v":""},{"$f":"IF(設定!C40=\"\",\"\",設定!C40)","v":""},null,9,"hk　月の祝日ではない土日の数",null,null,null,null,null,null,null,"出席停止","テ"]
[null,33,{"$f":"IF(VLOOKUP(B40,設定!$K$4:$P$43,$BL$16+2,0)=0,\"\",VLOOKUP(B40,設定!$K$4:$P$43,$BL$16+2,0))","v":""},null,null,null,null,null,null,null,null,null,null,null,null,null,null,null,null,null,null,null,null,null,null,null,null,null,null,null,null,null,null,null,null,null,null,null,null,null,null,null,null,null,null,null,null,null,null,null,{"$f":"IF(設定!B41=\"\",\"\",設定!B41)","v":""},{"$f":"IF(設定!C41=\"\",\"\",設定!C41)","v":""},null,0,"hl　長期休業で祝日と重複する数",null,null,null,null,null,null,null,"その他","タ"]
[null,34,{"$f":"IF(VLOOKUP(B41,設定!$K$4:$P$43,$BL$16+2,0)=0,\"\",VLOOKUP(B41,設定!$K$4:$P$43,$BL$16+2,0))","v":""},null,null,null,null,null,null,null,null,null,null,null,null,null,null,null,null,null,null,null,null,null,null,null,null,null,null,null,null,null,null,null,null,null,null,null,null,null,null,null,null,null,null,null,null,null,null,null,{"$f":"IF(設定!B42=\"\",\"\",設定!B42)","v":""},{"$f":"IF(設定!C42=\"\",\"\",設定!C42)","v":""},null,0,"so　卒業式後の日数",null,null,null,null,null,null,null,"転手転確転入","◎"]
[null,35,{"$f":"IF(VLOOKUP(B42,設定!$K$4:$P$43,$BL$16+2,0)=0,\"\",VLOOKUP(B42,設定!$K$4:$P$43,$BL$16+2,0))","v":""},null,null,null,null,null,null,null,null,null,null,null,null,null,null,null,null,null,null,null,null,null,null,null,null,null,null,null,null,null,null,null,null,null,null,null,null,null,null,null,null,null,null,null,null,null,null,null,{"$f":"IF(設定!B43=\"\",\"\",設定!B43)","v":""},{"$f":"IF(設定!C43=\"\",\"\",設定!C43)","v":""},null,0,"gh　学級閉鎖の日数"]
[null,36,{"$f":"IF(VLOOKUP(B43,設定!$K$4:$P$43,$BL$16+2,0)=0,\"\",VLOOKUP(B43,設定!$K$4:$P$43,$BL$16+2,0))","v":""},null,null,null,null,null,null,null,null,null,null,null,null,null,null,null,null,null,null,null,null,null,null,null,null,null,null,null,null,null,null,null,null,null,null,null,null,null,null,null,null,null,null,null,null,null,null,null,{"$f":"IF(設定!B44=\"\",\"\",設定!B44)","v":""},{"$f":"IF(設定!C44=\"\",\"\",設定!C44)","v":""},null,null,null,null,null,null,null,null,null,null,"※転出入については、集計欄の自動計算には対応していません。「月末処理」の後、手動にて修正をしてください。"]
[null,37,{"$f":"IF(VLOOKUP(B44,設定!$K$4:$P$43,$BL$16+2,0)=0,\"\",VLOOKUP(B44,設定!$K$4:$P$43,$BL$16+2,0))","v":""}]
[null,38,{"$f":"IF(VLOOKUP(B45,設定!$K$4:$P$43,$BL$16+2,0)=0,\"\",VLOOKUP(B45,設定!$K$4:$P$43,$BL$16+2,0))","v":""},null,null,null,null,null,null,null,null,null,null,null,null,null,null,null,null,null,null,null,null,null,null,null,null,null,null,null,null,null,null,null,null,null,null,null,null,null,null,null,null,null,null,null,null,null,null,"児童生徒数",{"$f":"40-BB45-BC45","v":4},null,null,{"$f":"COUNTIF(C6:C25,\"\")","v":16},{"$f":"COUNTIF(C28:C47,\"\")","v":20},"児童生徒欄の空白セル"]
[null,39,{"$f":"IF(VLOOKUP(B46,設定!$K$4:$P$43,$BL$16+2,0)=0,\"\",VLOOKUP(B46,設定!$K$4:$P$43,$BL$16+2,0))","v":""},null,null,null,null,null,null,null,null,null,null,null,null,null,null,null,null,null,null,null,null,null,null,null,null,null,null,null,null,null,null,null,null,null,null,null,null,null,null,null,null,null,null,null,null,null,null,"授業日数",null,"←月始め処理で授業日数が入力される"]
[null,40,{"$f":"IF(VLOOKUP(B47,設定!$K$4:$P$43,$BL$16+2,0)=0,\"\",VLOOKUP(B47,設定!$K$4:$P$43,$BL$16+2,0))","v":""},null,null,null,null,null,null,null,null,null,null,null,null,null,null,null,null,null,null,null,null,null,null,null,null,null,null,null,null,null,null,null,null,null,null,null,null,null,null,null,null,null,null,null,null,null,null,"出席者数",22,"←月末処理で入力される",null,"出席日数0のカウント"]
[null,"計","出  席  者  数",null,null,null,null,null,null,null,null,null,null,null,null,null,null,null,null,null,null,null,null,null,null,null,null,null,null,null,null,null,null,null,null,null,null,null,null,null,null,null,null,null,null,null,null,null,null,"全欠席者数",{"$f":"SUM(BH53:BH92)","v":0},"←月末処理で入力される",null,{"$f":"COUNTIF(AV6:AV25,0)","v":0},{"$f":"COUNTIF(AV28:AV47,0)","v":0},{"$f":"BB48+BC48","v":0}]
[null,null,"欠  席  者  数",null,null,null,null,null,null,null,null,null,null,null,null,null,null,null,null,null,null,null,null,null,null,null,null,null,null,null,null,null,null,null,null,null,null,null,null,null,null,null,null,null,null,null,null,null,null,"転入学者数",0,"←月末処理で入力される"]
[null,"授業","日数",null,null,null,null,"在籍","者数",null,null,null,null,null,null,"出席","者数",null,null,null,null,null,null,"全欠席","者　数",null,null,null,null,null,null,null,"転入学","者　数",null,null,null,null,null,"転学退",null,"学者数",null,null,null,null,null,null,null,"転学退学者数",0,"←月末処理で入力される"]
[]
[null,null,null,null,null,null,null,null,null,null,null,null,null,null,null,null,null,null,null,null,null,null,null,null,null,null,null,null,null,null,null,null,null,null,null,null,null,null,null,null,null,null,null,null,null,null,null,null,null,"長期休業間隔",{"$f":"IF(BK19=\"狭く\",9,IF(BK19=\"やや狭く\",8,IF(BK19=\"やや広く\",6,IF(BK19=\"広く\",5,7))))","v":6},null,"長期休業間隔",null,"標準",null,null,null,"全欠処理"]
[null,null,null,null,null,null,null,null,null,null,null,null,null,null,null,null,null,null,null,null,null,null,null,null,null,null,null,null,null,null,null,null,null,null,null,null,null,null,null,null,null,null,null,null,null,null,null,null,null,"長期休業処理",null,null,null,null,"狭く",null,null,null,1,{"$f":"IF(AV6<>\"\",IF(AM6-AR6-AS6=0,1,0),0)","v":0}]
[null,null,null,null,null,null,null,null,null,null,null,null,null,null,null,null,null,null,null,null,null,null,null,null,null,null,null,null,null,null,null,null,null,null,null,null,null,null,null,null,null,null,null,null,null,null,null,null,null,"長期休業Ⅰ",{"$f":"BO19","v":0},null,null,null,"やや狭く",null,null,null,2,{"$f":"IF(AV7<>\"\",IF(AM7-AR7-AS7=0,1,0),0)","v":0}]
[null,null,null,null,null,null,null,null,null,null,null,null,null,null,null,null,null,null,null,null,null,null,null,null,null,null,null,null,null,null,null,null,null,null,null,null,null,null,null,null,null,null,null,null,null,null,null,null,null,null,{"$f":"BO20","v":0},null,null,null,"やや広く",null,null,null,3,0]
[null,null,null,null,null,null,null,null,null,null,null,null,null,null,null,null,null,null,null,null,null,null,null,null,null,null,null,null,null,null,null,null,null,null,null,null,null,null,null,null,null,null,null,null,null,null,null,null,null,null,{"$f":"BO21","v":0},null,null,null,{"$f":"IF(F3=4,\"\",IF(F3=3,\"\",\"広く\"))","v":"広く"},null,null,null,4,0]
[null,null,null,null,null,null,null,null,null,null,null,null,null,null,null,null,null,null,null,null,null,null,null,null,null,null,null,null,null,null,null,null,null,null,null,null,null,null,null,null,null,null,null,null,null,null,null,null,null,"長期休業Ⅱ",{"$f":"BO23","v":0},null,null,null,null,null,null,null,5,0]
[null,null,null,null,null,null,null,null,null,null,null,null,null,null,null,null,null,null,null,null,null,null,null,null,null,null,null,null,null,null,null,null,null,null,null,null,null,null,null,null,null,null,null,null,null,null,null,null,null,null,{"$f":"BO24","v":0},null,null,null,null,null,null,null,6,0]
[null,null,null,null,null,null,null,null,null,null,null,null,null,null,null,null,null,null,null,null,null,null,null,null,null,null,null,null,null,null,null,null,null,null,null,null,null,null,null,null,null,null,null,null,null,null,null,null,null,null,{"$f":"BO25","v":0},null,null,null,null,null,null,null,7,0]
[null,null,null,null,null,null,null,null,null,null,null,null,null,null,null,null,null,null,null,null,null,null,null,null,null,null,null,null,null,null,null,null,null,null,null,null,null,null,null,null,null,null,null,null,null,null,null,null,null,"長期休業Ⅲ",{"$f":"BO27","v":0},null,null,null,null,null,null,null,8,0]
[null,null,null,null,null,null,null,null,null,null,null,null,null,null,null,null,null,null,null,null,null,null,null,null,null,null,null,null,null,null,null,null,null,null,null,null,null,null,null,null,null,null,null,null,null,null,null,null,null,null,{"$f":"BO28","v":0},null,null,null,null,null,null,null,9,0]
[null,null,null,null,null,null,null,null,null,null,null,null,null,null,null,null,null,null,null,null,null,null,null,null,null,null,null,null,null,null,null,null,null,null,null,null,null,null,null,null,null,null,null,null,null,null,null,null,null,null,{"$f":"BO29","v":0},null,null,null,null,null,null,null,10,0]
[null,null,null,null,null,null,null,null,null,null,null,null,null,null,null,null,null,null,null,null,null,null,null,null,null,null,null,null,null,null,null,null,null,null,null,null,null,null,null,null,null,null,null,null,null,null,null,null,null,null,{"$f":"MAX(AY55,AY58,AY61)","v":0},null,null,null,null,null,null,null,11,0]
[null,null,null,null,null,null,null,null,null,null,null,null,null,null,null,null,null,null,null,null,null,null,null,null,null,null,null,null,null,null,null,null,null,null,null,null,null,null,null,null,null,null,null,null,null,null,null,null,null,null,null,null,null,null,null,null,null,null,12,0]
[null,null,null,null,null,null,null,null,null,null,null,null,null,null,null,null,null,null,null,null,null,null,null,null,null,null,null,null,null,null,null,null,null,null,null,null,null,null,null,null,null,null,null,null,null,null,null,null,null,null,null,null,null,null,null,null,null,null,13,0]
[null,null,null,null,null,null,null,null,null,null,null,null,null,null,null,null,null,null,null,null,null,null,null,null,null,null,null,null,null,null,null,null,null,null,null,null,null,null,null,null,null,null,null,null,null,null,null,null,null,null,null,null,null,null,null,null,null,null,14,0]
[null,null,null,null,null,null,null,null,null,null,null,null,null,null,null,null,null,null,null,null,null,null,null,null,null,null,null,null,null,null,null,null,null,null,null,null,null,null,null,null,null,null,null,null,null,null,null,null,null,null,null,null,null,null,null,null,null,null,15,0]
[null,null,null,null,null,null,null,null,null,null,null,null,null,null,null,null,null,null,null,null,null,null,null,null,null,null,null,null,null,null,null,null,null,null,null,null,null,null,null,null,null,null,null,null,null,null,null,null,null,null,null,null,null,null,null,null,null,null,16,0]
[null,null,null,null,null,null,null,null,null,null,null,null,null,null,null,null,null,null,null,null,null,null,null,null,null,null,null,null,null,null,null,null,null,null,null,null,null,null,null,null,null,null,null,null,null,null,null,null,null,"入力規則","／",null,null,null,null,null,null,null,17,0]
[null,null,null,null,null,null,null,null,null,null,null,null,null,null,null,null,null,null,null,null,null,null,null,null,null,null,null,null,null,null,null,null,null,null,null,null,null,null,null,null,null,null,null,null,null,null,null,null,null,null,"〃",null,null,null,null,null,null,null,18,0]
[null,null,null,null,null,null,null,null,null,null,null,null,null,null,null,null,null,null,null,null,null,null,null,null,null,null,null,null,null,null,null,null,null,null,null,null,null,null,null,null,null,null,null,null,null,null,null,null,null,null,"×",null,null,null,null,null,null,null,19,0]
[null,null,null,null,null,null,null,null,null,null,null,null,null,null,null,null,null,null,null,null,null,null,null,null,null,null,null,null,null,null,null,null,null,null,null,null,null,null,null,null,null,null,null,null,null,null,null,null,null,null,"○",null,null,null,null,null,null,null,20,0]
[null,null,null,null,null,null,null,null,null,null,null,null,null,null,null,null,null,null,null,null,null,null,null,null,null,null,null,null,null,null,null,null,null,null,null,null,null,null,null,null,null,null,null,null,null,null,null,null,null,null,"×○",null,null,null,null,null,null,null,21,{"$f":"IF(AV28<>\"\",IF(AM28-AR28-AS28=0,1,0),0)","v":0}]
[null,null,null,null,null,null,null,null,null,null,null,null,null,null,null,null,null,null,null,null,null,null,null,null,null,null,null,null,null,null,null,null,null,null,null,null,null,null,null,null,null,null,null,null,null,null,null,null,null,null,"キ",null,null,null,null,null,null,null,22,{"$f":"IF(AV29<>\"\",IF(AM29-AR29-AS29=0,1,0),0)","v":0}]
[null,null,null,null,null,null,null,null,null,null,null,null,null,null,null,null,null,null,null,null,null,null,null,null,null,null,null,null,null,null,null,null,null,null,null,null,null,null,null,null,null,null,null,null,null,null,null,null,null,null,"テ",null,null,null,null,null,null,null,23,0]
[null,null,null,null,null,null,null,null,null,null,null,null,null,null,null,null,null,null,null,null,null,null,null,null,null,null,null,null,null,null,null,null,null,null,null,null,null,null,null,null,null,null,null,null,null,null,null,null,null,null,"タ",null,null,null,null,null,null,null,24,0]
[null,null,null,null,null,null,null,null,null,null,null,null,null,null,null,null,null,null,null,null,null,null,null,null,null,null,null,null,null,null,null,null,null,null,null,null,null,null,null,null,null,null,null,null,null,null,null,null,null,null,"◎",null,null,null,null,null,null,null,25,0]
[null,null,null,null,null,null,null,null,null,null,null,null,null,null,null,null,null,null,null,null,null,null,null,null,null,null,null,null,null,null,null,null,null,null,null,null,null,null,null,null,null,null,null,null,null,null,null,null,null,null,null,null,null,null,null,null,null,null,26,0]
[null,null,null,null,null,null,null,null,null,null,null,null,null,null,null,null,null,null,null,null,null,null,null,null,null,null,null,null,null,null,null,null,null,null,null,null,null,null,null,null,null,null,null,null,null,null,null,null,null,null,null,null,null,null,null,null,null,null,27,0]
[null,null,null,null,null,null,null,null,null,null,null,null,null,null,null,null,null,null,null,null,null,null,null,null,null,null,null,null,null,null,null,null,null,null,null,null,null,null,null,null,null,null,null,null,null,null,null,null,null,null,null,null,null,null,null,null,null,null,28,0]
[null,null,null,null,null,null,null,null,null,null,null,null,null,null,null,null,null,null,null,null,null,null,null,null,null,null,null,null,null,null,null,null,null,null,null,null,null,null,null,null,null,null,null,null,null,null,null,null,null,null,null,null,null,null,null,null,null,null,29,0]
[null,null,null,null,null,null,null,null,null,null,null,null,null,null,null,null,null,null,null,null,null,null,null,null,null,null,null,null,null,null,null,null,null,null,null,null,null,null,null,null,null,null,null,null,null,null,null,null,null,null,null,null,null,null,null,null,null,null,30,0]
[null,null,null,null,null,null,null,null,null,null,null,null,null,null,null,null,null,null,null,null,null,null,null,null,null,null,null,null,null,null,null,null,null,null,null,null,null,null,null,null,null,null,null,null,null,null,null,null,null,null,null,null,null,null,null,null,null,null,31,0]
[null,null,null,null,null,null,null,null,null,null,null,null,null,null,null,null,null,null,null,null,null,null,null,null,null,null,null,null,null,null,null,null,null,null,null,null,null,null,null,null,null,null,null,null,null,null,null,null,null,"追加休業","臨時休業",null,null,null,null,null,null,null,32,0]
[null,null,null,null,null,null,null,null,null,null,null,null,null,null,null,null,null,null,null,null,null,null,null,null,null,null,null,null,null,null,null,null,null,null,null,null,null,null,null,null,null,null,null,null,null,null,null,null,null,null,"学年閉鎖",null,null,null,null,null,null,null,33,0]
[null,null,null,null,null,null,null,null,null,null,null,null,null,null,null,null,null,null,null,null,null,null,null,null,null,null,null,null,null,null,null,null,null,null,null,null,null,null,null,null,null,null,null,null,null,null,null,null,null,null,"学級閉鎖",null,null,null,null,null,null,null,34,0]
[null,null,null,null,null,null,null,null,null,null,null,null,null,null,null,null,null,null,null,null,null,null,null,null,null,null,null,null,null,null,null,null,null,null,null,null,null,null,null,null,null,null,null,null,null,null,null,null,null,null,null,null,null,null,null,null,null,null,35,0]
[null,null,null,null,null,null,null,null,null,null,null,null,null,null,null,null,null,null,null,null,null,null,null,null,null,null,null,null,null,null,null,null,null,null,null,null,null,null,null,null,null,null,null,null,null,null,null,null,null,null,null,null,null,null,null,null,null,null,36,0]
[null,null,null,null,null,null,null,null,null,null,null,null,null,null,null,null,null,null,null,null,null,null,null,null,null,null,null,null,null,null,null,null,null,null,null,null,null,null,null,null,null,null,null,null,null,null,null,null,null,null,null,null,null,null,null,null,null,null,37,0]
[null,null,null,null,null,null,null,null,null,null,null,null,null,null,null,null,null,null,null,null,null,null,null,null,null,null,null,null,null,null,null,null,null,null,null,null,null,null,null,null,null,null,null,null,null,null,null,null,null,"長期休業","学年始休業",null,null,null,null,null,null,null,38,0]
[null,null,null,null,null,null,null,null,null,null,null,null,null,null,null,null,null,null,null,null,null,null,null,null,null,null,null,null,null,null,null,null,null,null,null,null,null,null,null,null,null,null,null,null,null,null,null,null,null,null,"夏季休業",null,null,null,null,null,null,null,39,0]
[null,null,null,null,null,null,null,null,null,null,null,null,null,null,null,null,null,null,null,null,null,null,null,null,null,null,null,null,null,null,null,null,null,null,null,null,null,null,null,null,null,null,null,null,null,null,null,null,null,null,"秋季休業",null,null,null,null,null,null,null,40,{"$f":"IF(AV47<>\"\",IF(AM47-AR47-AS47=0,1,0),0)","v":0}]
[null,null,null,null,null,null,null,null,null,null,null,null,null,null,null,null,null,null,null,null,null,null,null,null,null,null,null,null,null,null,null,null,null,null,null,null,null,null,null,null,null,null,null,null,null,null,null,null,null,null,"冬季休業"]
[null,null,null,null,null,null,null,null,null,null,null,null,null,null,null,null,null,null,null,null,null,null,null,null,null,null,null,null,null,null,null,null,null,null,null,null,null,null,null,null,null,null,null,null,null,null,null,null,null,null,"学年末休業"]
[null,null,null,null,null,null,null,null,null,null,null,null,null,null,null,null,null,null,null,null,null,null,null,null,null,null,null,null,null,null,null,null,null,null,null,null,null,null,null,null,null,null,null,null,null,null,null,null,null,null,"臨時休業"]
[null,null,null,null,null,null,null,null,null,null,null,null,null,null,null,null,null,null,null,null,null,null,null,null,null,null,null,null,null,null,null,null,null,null,null,null,null,null,null,null,null,null,null,null,null,null,null,null,null,null,"学年閉鎖"]

{"sheet":"11月","index":9,"n_rows":96,"n_cols":67,"rows_kept":96,"cut":false,"hidden":false,"merged":[[49,41,49,42],[49,44,49,46],[51,52,51,53],[49,4,49,5],[49,10,49,13],[49,18,49,21],[49,26,49,30],[49,35,49,37],[49,39,49,40],[46,2,46,6],[46,39,46,40],[46,41,46,42],[47,1,48,1],[47,2,47,6],[47,39,47,40],[47,41,47,42],[48,2,48,6],[48,39,48,40],[48,41,48,42],[42,62,45,63],[43,2,43,6],[43,39,43,40],[43,41,43,42],[44,2,44,6],[44,39,44,40],[44,41,44,42],[45,2,45,6],[45,39,45,40],[45,41,45,42],[41,2,41,6],[41,39,41,40],[41,41,41,42],[42,2,42,6],[42,39,42,40],[42,41,42,42],[39,2,39,6],[39,39,39,40],[39,41,39,42],[40,2,40,6],[40,39,40,40],[40,41,40,42],[37,2,37,6],[37,39,37,40],[37,41,37,42],[38,2,38,6],[38,39,38,40],[38,41,38,42],[35,2,35,6],[35,39,35,40],[35,41,35,42],[36,2,36,6],[36,39,36,40],[36,41,36,42],[33,2,33,6],[33,39,33,40],[33,41,33,42],[34,2,34,6],[34,39,34,40],[34,41,34,42],[31,2,31,6],[31,39,31,40],[31,41,31,42],[32,2,32,6],[32,39,32,40],[32,41,32,42],[28,41,28,42],[29,2,29,6],[29,39,29,40],[29,41,29,42],[30,2,30,6],[30,39,30,40],[30,41,30,42],[25,39,25,40],[25,41,25,42],[26,39,26,40],[26,41,26,42],[22,2,22,6],[22,39,22,40],[22,41,22,42],[18,2,18,6],[18,39,18,40],[18,41,18,42],[27,0,37,0],[27,2,27,6],[27,39,27,40],[27,41,27,42],[28,2,28,6],[28,39,28,40],[23,2,23,6],[23,39,23,40],[23,41,23,42],[24,2,24,6],[24,39,24,40],[24,41,24,42],[5,0,24,0],[5,2,5,6],[5,39,5,40],[5,41,5,42],[6,2,6,6],[6,39,6,40],[10,2,10,6],[10,39,10,40],[10,41,10,42],[11,2,11,6],[11,39,11,40],[11,41,11,42],[8,2,8,6],[18,62,18,63],[19,2,19,6],[19,39,19,40],[19,41,19,42],[19,62,21,63],[20,2,20,6],[20,39,20,40],[16,2,16,6],[16,39,16,40],[16,41,16,42],[17,2,17,6],[17,39,17,40],[17,41,17,42],[20,41,20,42],[21,2,21,6],[21,39,21,40],[21,41,21,42],[14,2,14,6],[14,39,14,40],[14,41,14,42],[15,2,15,6],[15,39,15,40],[15,41,15,42],[12,2,12,6],[12,39,12,40],[12,41,12,42],[13,2,13,6],[13,39,13,40],[13,41,13,42],[8,39,8,40],[8,41,8,42],[9,2,9,6],[9,39,9,40],[9,41,9,42],[3,1,4,1],[3,38,4,38],[3,39,4,39],[3,40,4,40],[3,41,4,41],[6,41,6,42],[7,2,7,6],[7,39,7,40],[7,41,7,42],[0,49,0,60],[1,39,1,44],[1,53,1,54],[1,55,1,56],[1,57,1,58],[2,1,2,2],[3,42,4,42],[3,43,4,43],[3,44,4,44],[3,45,4,45],[3,46,4,46],[3,47,4,47],[2,19,2,27],[2,31,2,36],[2,38,2,40],[2,41,2,46],[2,9,2,14]]}
[null,null,null,null,null,null,null,null,null,null,null,null,null,null,null,null,null,null,null,null,null,null,null,null,null,null,null,null,null,null,null,null,null,null,null,null,null,null,null,null,null,null,null,null,null,null,null,null,null,"【注意】 この範囲は、処理のために使用しています。"]
[null,null,null,null,null,null,null,null,null,null,null,null,null,null,null,null,null,null,null,null,null,null,null,null,null,null,null,null,null,null,null,null,null,null,null,null,null,null,null,"校 長 検 印",null,null,null,null,null,null,null,null,null,"処理用セル",null,null,null,"土日",null,"祝日",null,"長期休業",null,"学級閉鎖","赤線"]
[null,{"$f":"設定!C47","v":"令和"},null,{"$f":"IF(F3>3,設定!B49,設定!C49)","v":3},"年",11,"月",null,null,{"$f":"IF(設定!H3=\"\",\"\",設定!H3)","v":"みどり学級"},null,null,null,null,null,null,null,null,null,"出　　席　　簿",null,null,null,null,null,null,null,null,null,null,null,{"$f":"設定!C2&\"学校\"","v":"松岡小学校"},null,null,null,null,null,null,"担任名",null,null,{"$f":"設定!H6","v":"永平寺 太郎"},null,null,null,null,null,null,null,"日にちの合成",{"$f":"IF(D3=\"元\",設定!C48,D3+設定!C48-1)&\"/\"&F3&\"/\"&H4","v":"2021/11/1"},{"$f":"WEEKDAY(AY3)","v":2},"日","(1,?)","(2,?)","(3,?)","(4,?)","(5,?)","(6,?)","(7,?)"]
[null,"番号",null,null,null,null,"日",1,2,3,4,5,6,7,8,9,10,11,12,13,14,15,16,17,18,19,20,21,22,23,24,25,26,27,28,29,30,31,"授業日数","出席停止忌引","等の日数","出席しなければ","ならない日数","病気欠席","事故欠席","遅刻回数","早退回数","出席日数",null,"西暦に変換",{"$f":"DATE(YEAR(AY3),MONTH(AY3),DAY(AY3))","v":"2021-11-01"},{"$f":"YEAR(AY3)","v":2021},1,null,null,null,null,null,null,null,{"$f":"BB4-BC4+BD4-BE4+BF4-BG4","v":0}]
[null,null,null,"氏    名",null,null,"曜日",null,null,null,null,null,null,null,null,null,null,null,null,null,null,null,null,null,null,null,null,null,null,null,null,null,null,null,null,null,null,null,null,null,null,null,null,null,null,null,null,null,null,"曜日決定",{"$f":"TEXT(AY4,\"aaa\")","v":"月"},{"$f":"TEXT(AZ3,\"aaa\")","v":"月"},2,null,null,null,null,null,null,null,{"$f":"BB5-BC5+BD5-BE5+BF5-BG5","v":0}]
["〈記号〉出席空欄　病欠／ 事故欠〃 遅刻× 早退○ 忌引キ 出席停止テ",1,{"$f":"IF(VLOOKUP(B6,設定!$K$4:$P$43,$BL$16+2,0)=0,\"\",VLOOKUP(B6,設定!$K$4:$P$43,$BL$16+2,0))","v":"西郷隆盛　１年"},null,null,null,null,null,null,null,null,null,null,null,null,null,null,null,null,null,null,null,null,null,null,null,null,null,null,null,null,null,null,null,null,null,null,null,null,null,null,null,null,null,null,null,null,null,null,"今月の日数",30,null,3,null,null,null,null,null,null,null,0]
[null,2,{"$f":"IF(VLOOKUP(B7,設定!$K$4:$P$43,$BL$16+2,0)=0,\"\",VLOOKUP(B7,設定!$K$4:$P$43,$BL$16+2,0))","v":"伊達政宗　３年"},null,null,null,null,null,null,null,null,null,null,null,null,null,null,null,null,null,null,null,null,null,null,null,null,null,null,null,null,null,null,null,null,null,null,null,null,null,null,null,null,null,null,null,null,null,null,null,null,null,4,null,null,null,null,null,null,null,0,null,null,null,null,"◆休業追加"]
[null,3,{"$f":"IF(VLOOKUP(B8,設定!$K$4:$P$43,$BL$16+2,0)=0,\"\",VLOOKUP(B8,設定!$K$4:$P$43,$BL$16+2,0))","v":"井伊直弼　５年"},null,null,null,null,null,null,null,null,null,null,null,null,null,null,null,null,null,null,null,null,null,null,null,null,null,null,null,null,null,null,null,null,null,null,null,null,null,null,null,null,null,null,null,null,null,null,null,null,null,5,null,null,null,null,null,null,null,0,null,null,null,null,"名称","日"]
[null,4,{"$f":"IF(VLOOKUP(B9,設定!$K$4:$P$43,$BL$16+2,0)=0,\"\",VLOOKUP(B9,設定!$K$4:$P$43,$BL$16+2,0))","v":"桓武天皇　５年"},null,null,null,null,null,null,null,null,null,null,null,null,null,null,null,null,null,null,null,null,null,null,null,null,null,null,null,null,null,null,null,null,null,null,null,null,null,null,null,null,null,null,null,null,null,null,"祝日",{"$f":"IF(設定!B10=\"\",\"\",設定!B10)","v":"2021-04-29"},{"$f":"IF(設定!C10=\"\",\"\",設定!C10)","v":"昭和の日"},6,null,null,null,null,null,null,null,0,null,null,null,null,"学年閉鎖",20]
[null,5,{"$f":"IF(VLOOKUP(B10,設定!$K$4:$P$43,$BL$16+2,0)=0,\"\",VLOOKUP(B10,設定!$K$4:$P$43,$BL$16+2,0))","v":""},null,null,null,null,null,null,null,null,null,null,null,null,null,null,null,null,null,null,null,null,null,null,null,null,null,null,null,null,null,null,null,null,null,null,null,null,null,null,null,null,null,null,null,null,null,null,null,{"$f":"IF(設定!B11=\"\",\"\",設定!B11)","v":"2021-05-03"},{"$f":"IF(設定!C11=\"\",\"\",設定!C11)","v":"憲法記念日"},7,null,null,null,null,null,null,null,0]
[null,6,{"$f":"IF(VLOOKUP(B11,設定!$K$4:$P$43,$BL$16+2,0)=0,\"\",VLOOKUP(B11,設定!$K$4:$P$43,$BL$16+2,0))","v":""},null,null,null,null,null,null,null,null,null,null,null,null,null,null,null,null,null,null,null,null,null,null,null,null,null,null,null,null,null,null,null,null,null,null,null,null,null,null,null,null,null,null,null,null,null,null,null,{"$f":"IF(設定!B12=\"\",\"\",設定!B12)","v":"2021-05-04"},{"$f":"IF(設定!C12=\"\",\"\",設定!C12)","v":"みどりの日"},8,null,null,null,null,null,null,null,0]
[null,7,{"$f":"IF(VLOOKUP(B12,設定!$K$4:$P$43,$BL$16+2,0)=0,\"\",VLOOKUP(B12,設定!$K$4:$P$43,$BL$16+2,0))","v":""},null,null,null,null,null,null,null,null,null,null,null,null,null,null,null,null,null,null,null,null,null,null,null,null,null,null,null,null,null,null,null,null,null,null,null,null,null,null,null,null,null,null,null,null,null,null,null,{"$f":"IF(設定!B13=\"\",\"\",設定!B13)","v":"2021-05-05"},{"$f":"IF(設定!C13=\"\",\"\",設定!C13)","v":"こどもの日"},9,null,null,null,null,null,null,null,0]
[null,8,{"$f":"IF(VLOOKUP(B13,設定!$K$4:$P$43,$BL$16+2,0)=0,\"\",VLOOKUP(B13,設定!$K$4:$P$43,$BL$16+2,0))","v":""},null,null,null,null,null,null,null,null,null,null,null,null,null,null,null,null,null,null,null,null,null,null,null,null,null,null,null,null,null,null,null,null,null,null,null,null,null,null,null,null,null,null,null,null,null,null,null,{"$f":"IF(設定!B14=\"\",\"\",設定!B14)","v":"2021-07-22"},{"$f":"IF(設定!C14=\"\",\"\",設定!C14)","v":"海の日"},10,null,null,null,null,null,null,null,0]
[null,9,{"$f":"IF(VLOOKUP(B14,設定!$K$4:$P$43,$BL$16+2,0)=0,\"\",VLOOKUP(B14,設定!$K$4:$P$43,$BL$16+2,0))","v":""},null,null,null,null,null,null,null,null,null,null,null,null,null,null,null,null,null,null,null,null,null,null,null,null,null,null,null,null,null,null,null,null,null,null,null,null,null,null,null,null,null,null,null,null,null,null,null,{"$f":"IF(設定!B15=\"\",\"\",設定!B15)","v":"2021-07-23"},{"$f":"IF(設定!C15=\"\",\"\",設定!C15)","v":"スポーツの日"},11,null,null,null,null,null,null,null,0]
[null,10,{"$f":"IF(VLOOKUP(B15,設定!$K$4:$P$43,$BL$16+2,0)=0,\"\",VLOOKUP(B15,設定!$K$4:$P$43,$BL$16+2,0))","v":""},null,null,null,null,null,null,null,null,null,null,null,null,null,null,null,null,null,null,null,null,null,null,null,null,null,null,null,null,null,null,null,null,null,null,null,null,null,null,null,null,null,null,null,null,null,null,null,{"$f":"IF(設定!B16=\"\",\"\",設定!B16)","v":"2021-08-08"},{"$f":"IF(設定!C16=\"\",\"\",設定!C16)","v":"山の日"},12,null,null,null,null,null,null,null,0]
[null,11,{"$f":"IF(VLOOKUP(B16,設定!$K$4:$P$43,$BL$16+2,0)=0,\"\",VLOOKUP(B16,設定!$K$4:$P$43,$BL$16+2,0))","v":""},null,null,null,null,null,null,null,null,null,null,null,null,null,null,null,null,null,null,null,null,null,null,null,null,null,null,null,null,null,null,null,null,null,null,null,null,null,null,null,null,null,null,null,null,null,null,null,{"$f":"IF(設定!B17=\"\",\"\",設定!B17)","v":"2021-08-09"},{"$f":"IF(設定!C17=\"\",\"\",設定!C17)","v":"休　　日"},13,null,null,null,null,null,null,null,0,null,"使用名列",0]
[null,12,{"$f":"IF(VLOOKUP(B17,設定!$K$4:$P$43,$BL$16+2,0)=0,\"\",VLOOKUP(B17,設定!$K$4:$P$43,$BL$16+2,0))","v":""},null,null,null,null,null,null,null,null,null,null,null,null,null,null,null,null,null,null,null,null,null,null,null,null,null,null,null,null,null,null,null,null,null,null,null,null,null,null,null,null,null,null,null,null,null,null,null,{"$f":"IF(設定!B18=\"\",\"\",設定!B18)","v":"2021-09-20"},{"$f":"IF(設定!C18=\"\",\"\",設定!C18)","v":"敬老の日"},14,null,null,null,null,null,null,null,0,null,null,null,null,"※「月始め処理」の前に入力"]
[null,13,{"$f":"IF(VLOOKUP(B18,設定!$K$4:$P$43,$BL$16+2,0)=0,\"\",VLOOKUP(B18,設定!$K$4:$P$43,$BL$16+2,0))","v":""},null,null,null,null,null,null,null,null,null,null,null,null,null,null,null,null,null,null,null,null,null,null,null,null,null,null,null,null,null,null,null,null,null,null,null,null,null,null,null,null,null,null,null,null,null,null,null,{"$f":"IF(設定!B19=\"\",\"\",設定!B19)","v":"2021-09-23"},{"$f":"IF(設定!C19=\"\",\"\",設定!C19)","v":"秋分の日"},15,null,null,null,null,null,null,null,0,null,"◆長期休業の文字間隔",null,null,"◆長期休業Ⅰ"]
[null,14,{"$f":"IF(VLOOKUP(B19,設定!$K$4:$P$43,$BL$16+2,0)=0,\"\",VLOOKUP(B19,設定!$K$4:$P$43,$BL$16+2,0))","v":""},null,null,null,null,null,null,null,null,null,null,null,null,null,null,null,null,null,null,null,null,null,null,null,null,null,null,null,null,null,null,null,null,null,null,null,null,null,null,null,null,null,null,null,null,null,null,null,{"$f":"IF(設定!B20=\"\",\"\",設定!B20)","v":"2021-11-03"},{"$f":"IF(設定!C20=\"\",\"\",設定!C20)","v":"文化の日"},16,null,null,null,null,null,null,null,0,null,"やや広く",null,null,"名称"]
[null,15,{"$f":"IF(VLOOKUP(B20,設定!$K$4:$P$43,$BL$16+2,0)=0,\"\",VLOOKUP(B20,設定!$K$4:$P$43,$BL$16+2,0))","v":""},null,null,null,null,null,null,null,null,null,null,null,null,null,null,null,null,null,null,null,null,null,null,null,null,null,null,null,null,null,null,null,null,null,null,null,null,null,null,null,null,null,null,null,null,null,null,null,{"$f":"IF(設定!B21=\"\",\"\",設定!B21)","v":"2021-11-23"},{"$f":"IF(設定!C21=\"\",\"\",設定!C21)","v":"勤労感謝の日"},17,null,null,null,null,null,null,null,0,null,"※長期休業の文字間隔を調節します。祝日との文字の重なりを回避することができます。",null,null,"開始日"]
[null,16,{"$f":"IF(VLOOKUP(B21,設定!$K$4:$P$43,$BL$16+2,0)=0,\"\",VLOOKUP(B21,設定!$K$4:$P$43,$BL$16+2,0))","v":""},null,null,null,null,null,null,null,null,null,null,null,null,null,null,null,null,null,null,null,null,null,null,null,null,null,null,null,null,null,null,null,null,null,null,null,null,null,null,null,null,null,null,null,null,null,null,null,{"$f":"IF(設定!B22=\"\",\"\",設定!B22)","v":"2022-01-01"},{"$f":"IF(設定!C22=\"\",\"\",設定!C22)","v":"元　　日"},18,null,null,null,null,null,null,null,0,null,null,null,null,"終了日"]
[null,17,{"$f":"IF(VLOOKUP(B22,設定!$K$4:$P$43,$BL$16+2,0)=0,\"\",VLOOKUP(B22,設定!$K$4:$P$43,$BL$16+2,0))","v":""},null,null,null,null,null,null,null,null,null,null,null,null,null,null,null,null,null,null,null,null,null,null,null,null,null,null,null,null,null,null,null,null,null,null,null,null,null,null,null,null,null,null,null,null,null,null,null,{"$f":"IF(設定!B23=\"\",\"\",設定!B23)","v":"2022-01-10"},{"$f":"IF(設定!C23=\"\",\"\",設定!C23)","v":"成人の日"},19,null,null,null,null,null,null,null,0,null,null,null,null,"◆長期休業Ⅱ"]
[null,18,{"$f":"IF(VLOOKUP(B23,設定!$K$4:$P$43,$BL$16+2,0)=0,\"\",VLOOKUP(B23,設定!$K$4:$P$43,$BL$16+2,0))","v":""},null,null,null,null,null,null,null,null,null,null,null,null,null,null,null,null,null,null,null,null,null,null,null,null,null,null,null,null,null,null,null,null,null,null,null,null,null,null,null,null,null,null,null,null,null,null,null,{"$f":"IF(設定!B24=\"\",\"\",設定!B24)","v":"2022-02-11"},{"$f":"IF(設定!C24=\"\",\"\",設定!C24)","v":"建国記念の日"},20,null,null,null,null,null,null,null,0,null,null,null,null,"名称"]
[null,19,{"$f":"IF(VLOOKUP(B24,設定!$K$4:$P$43,$BL$16+2,0)=0,\"\",VLOOKUP(B24,設定!$K$4:$P$43,$BL$16+2,0))","v":""},null,null,null,null,null,null,null,null,null,null,null,null,null,null,null,null,null,null,null,null,null,null,null,null,null,null,null,null,null,null,null,null,null,null,null,null,null,null,null,null,null,null,null,null,null,null,null,{"$f":"IF(設定!B25=\"\",\"\",設定!B25)","v":"2022-02-23"},{"$f":"IF(設定!C25=\"\",\"\",設定!C25)","v":"天皇誕生日"},21,null,null,null,null,null,null,null,0,null,"◆各処理にて再計算",null,null,"開始日"]
[null,20,{"$f":"IF(VLOOKUP(B25,設定!$K$4:$P$43,$BL$16+2,0)=0,\"\",VLOOKUP(B25,設定!$K$4:$P$43,$BL$16+2,0))","v":""},null,null,null,null,null,null,null,null,null,null,null,null,null,null,null,null,null,null,null,null,null,null,null,null,null,null,null,null,null,null,null,null,null,null,null,null,null,null,null,null,null,null,null,null,null,null,null,{"$f":"IF(設定!B26=\"\",\"\",設定!B26)","v":"2022-03-19"},{"$f":"IF(設定!C26=\"\",\"\",設定!C26)","v":"春分の日"},22,null,null,null,null,null,null,null,0,null,"児童生徒数",{"$f":"AY45","v":4},null,"終了日"]
[null,null,null,null,null,null,null,null,null,null,null,null,null,null,null,null,null,null,null,null,null,null,null,null,null,null,null,null,null,null,null,null,null,null,null,null,null,null,null,null,null,null,null,null,null,null,null,null,null,null,{"$f":"IF(設定!B27=\"\",\"\",設定!B27)","v":""},{"$f":"IF(設定!C27=\"\",\"\",設定!C27)","v":""},23,null,null,null,null,null,null,null,0,null,"授業日数",{"$f":"IF(AY46=\"\",\"\",AY46)","v":""},null,"◆長期休業Ⅲ"]
[null,null,null,null,null,null,null,1,2,3,4,5,6,7,8,9,10,11,12,13,14,15,16,17,18,19,20,21,22,23,24,25,26,27,28,29,30,31,null,null,null,null,null,null,null,null,null,null,null,null,{"$f":"IF(設定!B28=\"\",\"\",設定!B28)","v":""},{"$f":"IF(設定!C28=\"\",\"\",設定!C28)","v":""},24,null,null,null,null,null,null,null,0,null,"出席者数",22,null,"名称"]
["その他教育上特に必要と認めた日タ",21,{"$f":"IF(VLOOKUP(B28,設定!$K$4:$P$43,$BL$16+2,0)=0,\"\",VLOOKUP(B28,設定!$K$4:$P$43,$BL$16+2,0))","v":""},null,null,null,null,null,null,null,null,null,null,null,null,null,null,null,null,null,null,null,null,null,null,null,null,null,null,null,null,null,null,null,null,null,null,null,null,null,null,null,null,null,null,null,null,null,null,null,{"$f":"IF(設定!B29=\"\",\"\",設定!B29)","v":""},{"$f":"IF(設定!C29=\"\",\"\",設定!C29)","v":""},25,null,null,null,null,null,null,null,0,null,"全欠席者数",0,null,"開始日"]
[null,22,{"$f":"IF(VLOOKUP(B29,設定!$K$4:$P$43,$BL$16+2,0)=0,\"\",VLOOKUP(B29,設定!$K$4:$P$43,$BL$16+2,0))","v":""},null,null,null,null,null,null,null,null,null,null,null,null,null,null,null,null,null,null,null,null,null,null,null,null,null,null,null,null,null,null,null,null,null,null,null,null,null,null,null,null,null,null,null,null,null,null,null,{"$f":"IF(設定!B30=\"\",\"\",設定!B30)","v":""},{"$f":"IF(設定!C30=\"\",\"\",設定!C30)","v":""},26,null,null,null,null,null,null,null,0,null,"転入学者数",0,null,"終了日"]
[null,23,{"$f":"IF(VLOOKUP(B30,設定!$K$4:$P$43,$BL$16+2,0)=0,\"\",VLOOKUP(B30,設定!$K$4:$P$43,$BL$16+2,0))","v":""},null,null,null,null,null,null,null,null,null,null,null,null,null,null,null,null,null,null,null,null,null,null,null,null,null,null,null,null,null,null,null,null,null,null,null,null,null,null,null,null,null,null,null,null,null,null,null,{"$f":"IF(設定!B31=\"\",\"\",設定!B31)","v":""},{"$f":"IF(設定!C31=\"\",\"\",設定!C31)","v":""},27,null,null,null,null,null,null,null,0,null,"転学退学者数",0]
[null,24,{"$f":"IF(VLOOKUP(B31,設定!$K$4:$P$43,$BL$16+2,0)=0,\"\",VLOOKUP(B31,設定!$K$4:$P$43,$BL$16+2,0))","v":""},null,null,null,null,null,null,null,null,null,null,null,null,null,null,null,null,null,null,null,null,null,null,null,null,null,null,null,null,null,null,null,null,null,null,null,null,null,null,null,null,null,null,null,null,null,null,null,{"$f":"IF(設定!B32=\"\",\"\",設定!B32)","v":""},{"$f":"IF(設定!C32=\"\",\"\",設定!C32)","v":""},28,null,null,null,null,null,null,null,0]
[null,25,{"$f":"IF(VLOOKUP(B32,設定!$K$4:$P$43,$BL$16+2,0)=0,\"\",VLOOKUP(B32,設定!$K$4:$P$43,$BL$16+2,0))","v":""},null,null,null,null,null,null,null,null,null,null,null,null,null,null,null,null,null,null,null,null,null,null,null,null,null,null,null,null,null,null,null,null,null,null,null,null,null,null,null,null,null,null,null,null,null,null,null,{"$f":"IF(設定!B33=\"\",\"\",設定!B33)","v":""},{"$f":"IF(設定!C33=\"\",\"\",設定!C33)","v":""},29,null,null,null,null,null,null,null,0,null,"◆入力記号"]
[null,26,{"$f":"IF(VLOOKUP(B33,設定!$K$4:$P$43,$BL$16+2,0)=0,\"\",VLOOKUP(B33,設定!$K$4:$P$43,$BL$16+2,0))","v":""},null,null,null,null,null,null,null,null,null,null,null,null,null,null,null,null,null,null,null,null,null,null,null,null,null,null,null,null,null,null,null,null,null,null,null,null,null,null,null,null,null,null,null,null,null,null,null,{"$f":"IF(設定!B34=\"\",\"\",設定!B34)","v":""},{"$f":"IF(設定!C34=\"\",\"\",設定!C34)","v":""},30,null,null,null,null,null,null,null,0,null,"病欠","／"]
[null,27,{"$f":"IF(VLOOKUP(B34,設定!$K$4:$P$43,$BL$16+2,0)=0,\"\",VLOOKUP(B34,設定!$K$4:$P$43,$BL$16+2,0))","v":""},null,null,null,null,null,null,null,null,null,null,null,null,null,null,null,null,null,null,null,null,null,null,null,null,null,null,null,null,null,null,null,null,null,null,null,null,null,null,null,null,null,null,null,null,null,null,null,{"$f":"IF(設定!B35=\"\",\"\",設定!B35)","v":""},{"$f":"IF(設定!C35=\"\",\"\",設定!C35)","v":""},31,null,null,null,null,null,null,null,0,null,"事故欠","〃"]
[null,28,{"$f":"IF(VLOOKUP(B35,設定!$K$4:$P$43,$BL$16+2,0)=0,\"\",VLOOKUP(B35,設定!$K$4:$P$43,$BL$16+2,0))","v":""},null,null,null,null,null,null,null,null,null,null,null,null,null,null,null,null,null,null,null,null,null,null,null,null,null,null,null,null,null,null,null,null,null,null,null,null,null,null,null,null,null,null,null,null,null,null,null,{"$f":"IF(設定!B36=\"\",\"\",設定!B36)","v":""},{"$f":"IF(設定!C36=\"\",\"\",設定!C36)","v":""},null,null,null,null,null,null,null,null,null,null,"遅刻","×"]
[null,29,{"$f":"IF(VLOOKUP(B36,設定!$K$4:$P$43,$BL$16+2,0)=0,\"\",VLOOKUP(B36,設定!$K$4:$P$43,$BL$16+2,0))","v":""},null,null,null,null,null,null,null,null,null,null,null,null,null,null,null,null,null,null,null,null,null,null,null,null,null,null,null,null,null,null,null,null,null,null,null,null,null,null,null,null,null,null,null,null,null,null,null,{"$f":"IF(設定!B37=\"\",\"\",設定!B37)","v":""},{"$f":"IF(設定!C37=\"\",\"\",設定!C37)","v":""},null,30,"data(tu)　その月の日数",null,null,null,null,null,null,null,"早退","○"]
[null,30,{"$f":"IF(VLOOKUP(B37,設定!$K$4:$P$43,$BL$16+2,0)=0,\"\",VLOOKUP(B37,設定!$K$4:$P$43,$BL$16+2,0))","v":""},null,null,null,null,null,null,null,null,null,null,null,null,null,null,null,null,null,null,null,null,null,null,null,null,null,null,null,null,null,null,null,null,null,null,null,null,null,null,null,null,null,null,null,null,null,null,null,{"$f":"IF(設定!B38=\"\",\"\",設定!B38)","v":""},{"$f":"IF(設定!C38=\"\",\"\",設定!C38)","v":""},null,0,"hi　月の長期休業の日数",null,null,null,null,null,null,null,"遅刻・早退","×○"]
[null,31,{"$f":"IF(VLOOKUP(B38,設定!$K$4:$P$43,$BL$16+2,0)=0,\"\",VLOOKUP(B38,設定!$K$4:$P$43,$BL$16+2,0))","v":""},null,null,null,null,null,null,null,null,null,null,null,null,null,null,null,null,null,null,null,null,null,null,null,null,null,null,null,null,null,null,null,null,null,null,null,null,null,null,null,null,null,null,null,null,null,null,null,{"$f":"IF(設定!B39=\"\",\"\",設定!B39)","v":""},{"$f":"IF(設定!C39=\"\",\"\",設定!C39)","v":""},null,2,"hj　月の祝日の日数",null,null,null,null,null,null,null,"忌引","キ"]
[null,32,{"$f":"IF(VLOOKUP(B39,設定!$K$4:$P$43,$BL$16+2,0)=0,\"\",VLOOKUP(B39,設定!$K$4:$P$43,$BL$16+2,0))","v":""},null,null,null,null,null,null,null,null,null,null,null,null,null,null,null,null,null,null,null,null,null,null,null,null,null,null,null,null,null,null,null,null,null,null,null,null,null,null,null,null,null,null,null,null,null,null,null,{"$f":"IF(設定!B40=\"\",\"\",設定!B40)","v":""},{"$f":"IF(設定!C40=\"\",\"\",設定!C40)","v":""},null,9,"hk　月の祝日ではない土日の数",null,null,null,null,null,null,null,"出席停止","テ"]
[null,33,{"$f":"IF(VLOOKUP(B40,設定!$K$4:$P$43,$BL$16+2,0)=0,\"\",VLOOKUP(B40,設定!$K$4:$P$43,$BL$16+2,0))","v":""},null,null,null,null,null,null,null,null,null,null,null,null,null,null,null,null,null,null,null,null,null,null,null,null,null,null,null,null,null,null,null,null,null,null,null,null,null,null,null,null,null,null,null,null,null,null,null,{"$f":"IF(設定!B41=\"\",\"\",設定!B41)","v":""},{"$f":"IF(設定!C41=\"\",\"\",設定!C41)","v":""},null,0,"hl　長期休業で祝日と重複する数",null,null,null,null,null,null,null,"その他","タ"]
[null,34,{"$f":"IF(VLOOKUP(B41,設定!$K$4:$P$43,$BL$16+2,0)=0,\"\",VLOOKUP(B41,設定!$K$4:$P$43,$BL$16+2,0))","v":""},null,null,null,null,null,null,null,null,null,null,null,null,null,null,null,null,null,null,null,null,null,null,null,null,null,null,null,null,null,null,null,null,null,null,null,null,null,null,null,null,null,null,null,null,null,null,null,{"$f":"IF(設定!B42=\"\",\"\",設定!B42)","v":""},{"$f":"IF(設定!C42=\"\",\"\",設定!C42)","v":""},null,0,"so　卒業式後の日数",null,null,null,null,null,null,null,"転手転確転入","◎"]
[null,35,{"$f":"IF(VLOOKUP(B42,設定!$K$4:$P$43,$BL$16+2,0)=0,\"\",VLOOKUP(B42,設定!$K$4:$P$43,$BL$16+2,0))","v":""},null,null,null,null,null,null,null,null,null,null,null,null,null,null,null,null,null,null,null,null,null,null,null,null,null,null,null,null,null,null,null,null,null,null,null,null,null,null,null,null,null,null,null,null,null,null,null,{"$f":"IF(設定!B43=\"\",\"\",設定!B43)","v":""},{"$f":"IF(設定!C43=\"\",\"\",設定!C43)","v":""},null,0,"gh　学級閉鎖の日数"]
[null,36,{"$f":"IF(VLOOKUP(B43,設定!$K$4:$P$43,$BL$16+2,0)=0,\"\",VLOOKUP(B43,設定!$K$4:$P$43,$BL$16+2,0))","v":""},null,null,null,null,null,null,null,null,null,null,null,null,null,null,null,null,null,null,null,null,null,null,null,null,null,null,null,null,null,null,null,null,null,null,null,null,null,null,null,null,null,null,null,null,null,null,null,{"$f":"IF(設定!B44=\"\",\"\",設定!B44)","v":""},{"$f":"IF(設定!C44=\"\",\"\",設定!C44)","v":""},null,null,null,null,null,null,null,null,null,null,"※転出入については、集計欄の自動計算には対応していません。「月末処理」の後、手動にて修正をしてください。"]
[null,37,{"$f":"IF(VLOOKUP(B44,設定!$K$4:$P$43,$BL$16+2,0)=0,\"\",VLOOKUP(B44,設定!$K$4:$P$43,$BL$16+2,0))","v":""}]
[null,38,{"$f":"IF(VLOOKUP(B45,設定!$K$4:$P$43,$BL$16+2,0)=0,\"\",VLOOKUP(B45,設定!$K$4:$P$43,$BL$16+2,0))","v":""},null,null,null,null,null,null,null,null,null,null,null,null,null,null,null,null,null,null,null,null,null,null,null,null,null,null,null,null,null,null,null,null,null,null,null,null,null,null,null,null,null,null,null,null,null,null,"児童生徒数",{"$f":"40-BB45-BC45","v":4},null,null,{"$f":"COUNTIF(C6:C25,\"\")","v":16},{"$f":"COUNTIF(C28:C47,\"\")","v":20},"児童生徒欄の空白セル"]
[null,39,{"$f":"IF(VLOOKUP(B46,設定!$K$4:$P$43,$BL$16+2,0)=0,\"\",VLOOKUP(B46,設定!$K$4:$P$43,$BL$16+2,0))","v":""},null,null,null,null,null,null,null,null,null,null,null,null,null,null,null,null,null,null,null,null,null,null,null,null,null,null,null,null,null,null,null,null,null,null,null,null,null,null,null,null,null,null,null,null,null,null,"授業日数",null,"←月始め処理で授業日数が入力される"]
[null,40,{"$f":"IF(VLOOKUP(B47,設定!$K$4:$P$43,$BL$16+2,0)=0,\"\",VLOOKUP(B47,設定!$K$4:$P$43,$BL$16+2,0))","v":""},null,null,null,null,null,null,null,null,null,null,null,null,null,null,null,null,null,null,null,null,null,null,null,null,null,null,null,null,null,null,null,null,null,null,null,null,null,null,null,null,null,null,null,null,null,null,"出席者数",22,"←月末処理で入力される",null,"出席日数0のカウント"]
[null,"計","出  席  者  数",null,null,null,null,null,null,null,null,null,null,null,null,null,null,null,null,null,null,null,null,null,null,null,null,null,null,null,null,null,null,null,null,null,null,null,null,null,null,null,null,null,null,null,null,null,null,"全欠席者数",{"$f":"SUM(BH53:BH92)","v":0},"←月末処理で入力される",null,{"$f":"COUNTIF(AV6:AV25,0)","v":0},{"$f":"COUNTIF(AV28:AV47,0)","v":0},{"$f":"BB48+BC48","v":0}]
[null,null,"欠  席  者  数",null,null,null,null,null,null,null,null,null,null,null,null,null,null,null,null,null,null,null,null,null,null,null,null,null,null,null,null,null,null,null,null,null,null,null,null,null,null,null,null,null,null,null,null,null,null,"転入学者数",0,"←月末処理で入力される"]
[null,"授業","日数",null,null,null,null,"在籍","者数",null,null,null,null,null,null,"出席","者数",null,null,null,null,null,null,"全欠席","者　数",null,null,null,null,null,null,null,"転入学","者　数",null,null,null,null,null,"転学退",null,"学者数",null,null,null,null,null,null,null,"転学退学者数",0,"←月末処理で入力される"]
[]
[null,null,null,null,null,null,null,null,null,null,null,null,null,null,null,null,null,null,null,null,null,null,null,null,null,null,null,null,null,null,null,null,null,null,null,null,null,null,null,null,null,null,null,null,null,null,null,null,null,"長期休業間隔",{"$f":"IF(BK19=\"狭く\",9,IF(BK19=\"やや狭く\",8,IF(BK19=\"やや広く\",6,IF(BK19=\"広く\",5,7))))","v":6},null,"長期休業間隔",null,"標準",null,null,null,"全欠処理"]
[null,null,null,null,null,null,null,null,null,null,null,null,null,null,null,null,null,null,null,null,null,null,null,null,null,null,null,null,null,null,null,null,null,null,null,null,null,null,null,null,null,null,null,null,null,null,null,null,null,"長期休業処理",null,null,null,null,"狭く",null,null,null,1,{"$f":"IF(AV6<>\"\",IF(AM6-AR6-AS6=0,1,0),0)","v":0}]
[null,null,null,null,null,null,null,null,null,null,null,null,null,null,null,null,null,null,null,null,null,null,null,null,null,null,null,null,null,null,null,null,null,null,null,null,null,null,null,null,null,null,null,null,null,null,null,null,null,"長期休業Ⅰ",{"$f":"BO19","v":0},null,null,null,"やや狭く",null,null,null,2,{"$f":"IF(AV7<>\"\",IF(AM7-AR7-AS7=0,1,0),0)","v":0}]
[null,null,null,null,null,null,null,null,null,null,null,null,null,null,null,null,null,null,null,null,null,null,null,null,null,null,null,null,null,null,null,null,null,null,null,null,null,null,null,null,null,null,null,null,null,null,null,null,null,null,{"$f":"BO20","v":0},null,null,null,"やや広く",null,null,null,3,0]
[null,null,null,null,null,null,null,null,null,null,null,null,null,null,null,null,null,null,null,null,null,null,null,null,null,null,null,null,null,null,null,null,null,null,null,null,null,null,null,null,null,null,null,null,null,null,null,null,null,null,{"$f":"BO21","v":0},null,null,null,{"$f":"IF(F3=4,\"\",IF(F3=3,\"\",\"広く\"))","v":"広く"},null,null,null,4,0]
[null,null,null,null,null,null,null,null,null,null,null,null,null,null,null,null,null,null,null,null,null,null,null,null,null,null,null,null,null,null,null,null,null,null,null,null,null,null,null,null,null,null,null,null,null,null,null,null,null,"長期休業Ⅱ",{"$f":"BO23","v":0},null,null,null,null,null,null,null,5,0]
[null,null,null,null,null,null,null,null,null,null,null,null,null,null,null,null,null,null,null,null,null,null,null,null,null,null,null,null,null,null,null,null,null,null,null,null,null,null,null,null,null,null,null,null,null,null,null,null,null,null,{"$f":"BO24","v":0},null,null,null,null,null,null,null,6,0]
[null,null,null,null,null,null,null,null,null,null,null,null,null,null,null,null,null,null,null,null,null,null,null,null,null,null,null,null,null,null,null,null,null,null,null,null,null,null,null,null,null,null,null,null,null,null,null,null,null,null,{"$f":"BO25","v":0},null,null,null,null,null,null,null,7,0]
[null,null,null,null,null,null,null,null,null,null,null,null,null,null,null,null,null,null,null,null,null,null,null,null,null,null,null,null,null,null,null,null,null,null,null,null,null,null,null,null,null,null,null,null,null,null,null,null,null,"長期休業Ⅲ",{"$f":"BO27","v":0},null,null,null,null,null,null,null,8,0]
[null,null,null,null,null,null,null,null,null,null,null,null,null,null,null,null,null,null,null,null,null,null,null,null,null,null,null,null,null,null,null,null,null,null,null,null,null,null,null,null,null,null,null,null,null,null,null,null,null,null,{"$f":"BO28","v":0},null,null,null,null,null,null,null,9,0]
[null,null,null,null,null,null,null,null,null,null,null,null,null,null,null,null,null,null,null,null,null,null,null,null,null,null,null,null,null,null,null,null,null,null,null,null,null,null,null,null,null,null,null,null,null,null,null,null,null,null,{"$f":"BO29","v":0},null,null,null,null,null,null,null,10,0]
[null,null,null,null,null,null,null,null,null,null,null,null,null,null,null,null,null,null,null,null,null,null,null,null,null,null,null,null,null,null,null,null,null,null,null,null,null,null,null,null,null,null,null,null,null,null,null,null,null,null,{"$f":"MAX(AY55,AY58,AY61)","v":0},null,null,null,null,null,null,null,11,0]
[null,null,null,null,null,null,null,null,null,null,null,null,null,null,null,null,null,null,null,null,null,null,null,null,null,null,null,null,null,null,null,null,null,null,null,null,null,null,null,null,null,null,null,null,null,null,null,null,null,null,null,null,null,null,null,null,null,null,12,0]
[null,null,null,null,null,null,null,null,null,null,null,null,null,null,null,null,null,null,null,null,null,null,null,null,null,null,null,null,null,null,null,null,null,null,null,null,null,null,null,null,null,null,null,null,null,null,null,null,null,null,null,null,null,null,null,null,null,null,13,0]
[null,null,null,null,null,null,null,null,null,null,null,null,null,null,null,null,null,null,null,null,null,null,null,null,null,null,null,null,null,null,null,null,null,null,null,null,null,null,null,null,null,null,null,null,null,null,null,null,null,null,null,null,null,null,null,null,null,null,14,0]
[null,null,null,null,null,null,null,null,null,null,null,null,null,null,null,null,null,null,null,null,null,null,null,null,null,null,null,null,null,null,null,null,null,null,null,null,null,null,null,null,null,null,null,null,null,null,null,null,null,null,null,null,null,null,null,null,null,null,15,0]
[null,null,null,null,null,null,null,null,null,null,null,null,null,null,null,null,null,null,null,null,null,null,null,null,null,null,null,null,null,null,null,null,null,null,null,null,null,null,null,null,null,null,null,null,null,null,null,null,null,null,null,null,null,null,null,null,null,null,16,0]
[null,null,null,null,null,null,null,null,null,null,null,null,null,null,null,null,null,null,null,null,null,null,null,null,null,null,null,null,null,null,null,null,null,null,null,null,null,null,null,null,null,null,null,null,null,null,null,null,null,"入力規則","／",null,null,null,null,null,null,null,17,0]
[null,null,null,null,null,null,null,null,null,null,null,null,null,null,null,null,null,null,null,null,null,null,null,null,null,null,null,null,null,null,null,null,null,null,null,null,null,null,null,null,null,null,null,null,null,null,null,null,null,null,"〃",null,null,null,null,null,null,null,18,0]
[null,null,null,null,null,null,null,null,null,null,null,null,null,null,null,null,null,null,null,null,null,null,null,null,null,null,null,null,null,null,null,null,null,null,null,null,null,null,null,null,null,null,null,null,null,null,null,null,null,null,"×",null,null,null,null,null,null,null,19,0]
[null,null,null,null,null,null,null,null,null,null,null,null,null,null,null,null,null,null,null,null,null,null,null,null,null,null,null,null,null,null,null,null,null,null,null,null,null,null,null,null,null,null,null,null,null,null,null,null,null,null,"○",null,null,null,null,null,null,null,20,0]
[null,null,null,null,null,null,null,null,null,null,null,null,null,null,null,null,null,null,null,null,null,null,null,null,null,null,null,null,null,null,null,null,null,null,null,null,null,null,null,null,null,null,null,null,null,null,null,null,null,null,"×○",null,null,null,null,null,null,null,21,{"$f":"IF(AV28<>\"\",IF(AM28-AR28-AS28=0,1,0),0)","v":0}]
[null,null,null,null,null,null,null,null,null,null,null,null,null,null,null,null,null,null,null,null,null,null,null,null,null,null,null,null,null,null,null,null,null,null,null,null,null,null,null,null,null,null,null,null,null,null,null,null,null,null,"キ",null,null,null,null,null,null,null,22,{"$f":"IF(AV29<>\"\",IF(AM29-AR29-AS29=0,1,0),0)","v":0}]
[null,null,null,null,null,null,null,null,null,null,null,null,null,null,null,null,null,null,null,null,null,null,null,null,null,null,null,null,null,null,null,null,null,null,null,null,null,null,null,null,null,null,null,null,null,null,null,null,null,null,"テ",null,null,null,null,null,null,null,23,0]
[null,null,null,null,null,null,null,null,null,null,null,null,null,null,null,null,null,null,null,null,null,null,null,null,null,null,null,null,null,null,null,null,null,null,null,null,null,null,null,null,null,null,null,null,null,null,null,null,null,null,"タ",null,null,null,null,null,null,null,24,0]
[null,null,null,null,null,null,null,null,null,null,null,null,null,null,null,null,null,null,null,null,null,null,null,null,null,null,null,null,null,null,null,null,null,null,null,null,null,null,null,null,null,null,null,null,null,null,null,null,null,null,"◎",null,null,null,null,null,null,null,25,0]
[null,null,null,null,null,null,null,null,null,null,null,null,null,null,null,null,null,null,null,null,null,null,null,null,null,null,null,null,null,null,null,null,null,null,null,null,null,null,null,null,null,null,null,null,null,null,null,null,null,null,null,null,null,null,null,null,null,null,26,0]
[null,null,null,null,null,null,null,null,null,null,null,null,null,null,null,null,null,null,null,null,null,null,null,null,null,null,null,null,null,null,null,null,null,null,null,null,null,null,null,null,null,null,null,null,null,null,null,null,null,null,null,null,null,null,null,null,null,null,27,0]
[null,null,null,null,null,null,null,null,null,null,null,null,null,null,null,null,null,null,null,null,null,null,null,null,null,null,null,null,null,null,null,null,null,null,null,null,null,null,null,null,null,null,null,null,null,null,null,null,null,null,null,null,null,null,null,null,null,null,28,0]
[null,null,null,null,null,null,null,null,null,null,null,null,null,null,null,null,null,null,null,null,null,null,null,null,null,null,null,null,null,null,null,null,null,null,null,null,null,null,null,null,null,null,null,null,null,null,null,null,null,null,null,null,null,null,null,null,null,null,29,0]
[null,null,null,null,null,null,null,null,null,null,null,null,null,null,null,null,null,null,null,null,null,null,null,null,null,null,null,null,null,null,null,null,null,null,null,null,null,null,null,null,null,null,null,null,null,null,null,null,null,null,null,null,null,null,null,null,null,null,30,0]
[null,null,null,null,null,null,null,null,null,null,null,null,null,null,null,null,null,null,null,null,null,null,null,null,null,null,null,null,null,null,null,null,null,null,null,null,null,null,null,null,null,null,null,null,null,null,null,null,null,null,null,null,null,null,null,null,null,null,31,0]
[null,null,null,null,null,null,null,null,null,null,null,null,null,null,null,null,null,null,null,null,null,null,null,null,null,null,null,null,null,null,null,null,null,null,null,null,null,null,null,null,null,null,null,null,null,null,null,null,null,"追加休業","臨時休業",null,null,null,null,null,null,null,32,0]
[null,null,null,null,null,null,null,null,null,null,null,null,null,null,null,null,null,null,null,null,null,null,null,null,null,null,null,null,null,null,null,null,null,null,null,null,null,null,null,null,null,null,null,null,null,null,null,null,null,null,"学年閉鎖",null,null,null,null,null,null,null,33,0]
[null,null,null,null,null,null,null,null,null,null,null,null,null,null,null,null,null,null,null,null,null,null,null,null,null,null,null,null,null,null,null,null,null,null,null,null,null,null,null,null,null,null,null,null,null,null,null,null,null,null,"学級閉鎖",null,null,null,null,null,null,null,34,0]
[null,null,null,null,null,null,null,null,null,null,null,null,null,null,null,null,null,null,null,null,null,null,null,null,null,null,null,null,null,null,null,null,null,null,null,null,null,null,null,null,null,null,null,null,null,null,null,null,null,null,null,null,null,null,null,null,null,null,35,0]
[null,null,null,null,null,null,null,null,null,null,null,null,null,null,null,null,null,null,null,null,null,null,null,null,null,null,null,null,null,null,null,null,null,null,null,null,null,null,null,null,null,null,null,null,null,null,null,null,null,null,null,null,null,null,null,null,null,null,36,0]
[null,null,null,null,null,null,null,null,null,null,null,null,null,null,null,null,null,null,null,null,null,null,null,null,null,null,null,null,null,null,null,null,null,null,null,null,null,null,null,null,null,null,null,null,null,null,null,null,null,null,null,null,null,null,null,null,null,null,37,0]
[null,null,null,null,null,null,null,null,null,null,null,null,null,null,null,null,null,null,null,null,null,null,null,null,null,null,null,null,null,null,null,null,null,null,null,null,null,null,null,null,null,null,null,null,null,null,null,null,null,"長期休業","学年始休業",null,null,null,null,null,null,null,38,0]
[null,null,null,null,null,null,null,null,null,null,null,null,null,null,null,null,null,null,null,null,null,null,null,null,null,null,null,null,null,null,null,null,null,null,null,null,null,null,null,null,null,null,null,null,null,null,null,null,null,null,"夏季休業",null,null,null,null,null,null,null,39,0]
[null,null,null,null,null,null,null,null,null,null,null,null,null,null,null,null,null,null,null,null,null,null,null,null,null,null,null,null,null,null,null,null,null,null,null,null,null,null,null,null,null,null,null,null,null,null,null,null,null,null,"秋季休業",null,null,null,null,null,null,null,40,{"$f":"IF(AV47<>\"\",IF(AM47-AR47-AS47=0,1,0),0)","v":0}]
[null,null,null,null,null,null,null,null,null,null,null,null,null,null,null,null,null,null,null,null,null,null,null,null,null,null,null,null,null,null,null,null,null,null,null,null,null,null,null,null,null,null,null,null,null,null,null,null,null,null,"冬季休業"]
[null,null,null,null,null,null,null,null,null,null,null,null,null,null,null,null,null,null,null,null,null,null,null,null,null,null,null,null,null,null,null,null,null,null,null,null,null,null,null,null,null,null,null,null,null,null,null,null,null,null,"学年末休業"]
[null,null,null,null,null,null,null,null,null,null,null,null,null,null,null,null,null,null,null,null,null,null,null,null,null,null,null,null,null,null,null,null,null,null,null,null,null,null,null,null,null,null,null,null,null,null,null,null,null,null,"臨時休業"]
[null,null,null,null,null,null,null,null,null,null,null,null,null,null,null,null,null,null,null,null,null,null,null,null,null,null,null,null,null,null,null,null,null,null,null,null,null,null,null,null,null,null,null,null,null,null,null,null,null,null,"学年閉鎖"]

{"sheet":"12月","index":10,"n_rows":96,"n_cols":67,"rows_kept":96,"cut":false,"hidden":false,"merged":[[49,41,49,42],[49,44,49,46],[51,52,51,53],[49,4,49,5],[49,10,49,13],[49,18,49,21],[49,26,49,30],[49,35,49,37],[49,39,49,40],[46,2,46,6],[46,39,46,40],[46,41,46,42],[47,1,48,1],[47,2,47,6],[47,39,47,40],[47,41,47,42],[48,2,48,6],[48,39,48,40],[48,41,48,42],[42,62,45,63],[43,2,43,6],[43,39,43,40],[43,41,43,42],[44,2,44,6],[44,39,44,40],[44,41,44,42],[45,2,45,6],[45,39,45,40],[45,41,45,42],[41,2,41,6],[41,39,41,40],[41,41,41,42],[42,2,42,6],[42,39,42,40],[42,41,42,42],[39,2,39,6],[39,39,39,40],[39,41,39,42],[40,2,40,6],[40,39,40,40],[40,41,40,42],[37,2,37,6],[37,39,37,40],[37,41,37,42],[38,2,38,6],[38,39,38,40],[38,41,38,42],[35,2,35,6],[35,39,35,40],[35,41,35,42],[36,2,36,6],[36,39,36,40],[36,41,36,42],[33,2,33,6],[33,39,33,40],[33,41,33,42],[34,2,34,6],[34,39,34,40],[34,41,34,42],[31,2,31,6],[31,39,31,40],[31,41,31,42],[32,2,32,6],[32,39,32,40],[32,41,32,42],[28,41,28,42],[29,2,29,6],[29,39,29,40],[29,41,29,42],[30,2,30,6],[30,39,30,40],[30,41,30,42],[25,39,25,40],[25,41,25,42],[26,39,26,40],[26,41,26,42],[22,2,22,6],[22,39,22,40],[22,41,22,42],[18,2,18,6],[18,39,18,40],[18,41,18,42],[27,0,37,0],[27,2,27,6],[27,39,27,40],[27,41,27,42],[28,2,28,6],[28,39,28,40],[23,2,23,6],[23,39,23,40],[23,41,23,42],[24,2,24,6],[24,39,24,40],[24,41,24,42],[5,0,24,0],[5,2,5,6],[5,39,5,40],[5,41,5,42],[6,2,6,6],[6,39,6,40],[10,2,10,6],[10,39,10,40],[10,41,10,42],[11,2,11,6],[11,39,11,40],[11,41,11,42],[8,2,8,6],[18,62,18,63],[19,2,19,6],[19,39,19,40],[19,41,19,42],[19,62,21,63],[20,2,20,6],[20,39,20,40],[16,2,16,6],[16,39,16,40],[16,41,16,42],[17,2,17,6],[17,39,17,40],[17,41,17,42],[20,41,20,42],[21,2,21,6],[21,39,21,40],[21,41,21,42],[14,2,14,6],[14,39,14,40],[14,41,14,42],[15,2,15,6],[15,39,15,40],[15,41,15,42],[12,2,12,6],[12,39,12,40],[12,41,12,42],[13,2,13,6],[13,39,13,40],[13,41,13,42],[8,39,8,40],[8,41,8,42],[9,2,9,6],[9,39,9,40],[9,41,9,42],[3,1,4,1],[3,38,4,38],[3,39,4,39],[3,40,4,40],[3,41,4,41],[6,41,6,42],[7,2,7,6],[7,39,7,40],[7,41,7,42],[0,49,0,60],[1,39,1,44],[1,53,1,54],[1,55,1,56],[1,57,1,58],[2,1,2,2],[3,42,4,42],[3,43,4,43],[3,44,4,44],[3,45,4,45],[3,46,4,46],[3,47,4,47],[2,19,2,27],[2,31,2,36],[2,38,2,40],[2,41,2,46],[2,9,2,14]]}
[null,null,null,null,null,null,null,null,null,null,null,null,null,null,null,null,null,null,null,null,null,null,null,null,null,null,null,null,null,null,null,null,null,null,null,null,null,null,null,null,null,null,null,null,null,null,null,null,null,"【注意】 この範囲は、処理のために使用しています。"]
[null,null,null,null,null,null,null,null,null,null,null,null,null,null,null,null,null,null,null,null,null,null,null,null,null,null,null,null,null,null,null,null,null,null,null,null,null,null,null,"校 長 検 印",null,null,null,null,null,null,null,null,null,"処理用セル",null,null,null,"土日",null,"祝日",null,"長期休業",null,"学級閉鎖","赤線"]
[null,{"$f":"設定!C47","v":"令和"},null,{"$f":"IF(F3>3,設定!B49,設定!C49)","v":3},"年",12,"月",null,null,{"$f":"IF(設定!H3=\"\",\"\",設定!H3)","v":"みどり学級"},null,null,null,null,null,null,null,null,null,"出　　席　　簿",null,null,null,null,null,null,null,null,null,null,null,{"$f":"設定!C2&\"学校\"","v":"松岡小学校"},null,null,null,null,null,null,"担任名",null,null,{"$f":"設定!H6","v":"永平寺 太郎"},null,null,null,null,null,null,null,"日にちの合成",{"$f":"IF(D3=\"元\",設定!C48,D3+設定!C48-1)&\"/\"&F3&\"/\"&H4","v":"2021/12/1"},{"$f":"WEEKDAY(AY3)","v":4},"日","(1,?)","(2,?)","(3,?)","(4,?)","(5,?)","(6,?)","(7,?)"]
[null,"番号",null,null,null,null,"日",1,2,3,4,5,6,7,8,9,10,11,12,13,14,15,16,17,18,19,20,21,22,23,24,25,26,27,28,29,30,31,"授業日数","出席停止忌引","等の日数","出席しなければ","ならない日数","病気欠席","事故欠席","遅刻回数","早退回数","出席日数",null,"西暦に変換",{"$f":"DATE(YEAR(AY3),MONTH(AY3),DAY(AY3))","v":"2021-12-01"},{"$f":"YEAR(AY3)","v":2021},1,null,null,null,null,null,null,null,{"$f":"BB4-BC4+BD4-BE4+BF4-BG4","v":0}]
[null,null,null,"氏    名",null,null,"曜日",null,null,null,null,null,null,null,null,null,null,null,null,null,null,null,null,null,null,null,null,null,null,null,null,null,null,null,null,null,null,null,null,null,null,null,null,null,null,null,null,null,null,"曜日決定",{"$f":"TEXT(AY4,\"aaa\")","v":"水"},{"$f":"TEXT(AZ3,\"aaa\")","v":"水"},2,null,null,null,null,null,null,null,{"$f":"BB5-BC5+BD5-BE5+BF5-BG5","v":0}]
["〈記号〉出席空欄　病欠／ 事故欠〃 遅刻× 早退○ 忌引キ 出席停止テ",1,{"$f":"IF(VLOOKUP(B6,設定!$K$4:$P$43,$BL$16+2,0)=0,\"\",VLOOKUP(B6,設定!$K$4:$P$43,$BL$16+2,0))","v":"西郷隆盛　１年"},null,null,null,null,null,null,null,null,null,null,null,null,null,null,null,null,null,null,null,null,null,null,null,null,null,null,null,null,null,null,null,null,null,null,null,null,null,null,null,null,null,null,null,null,null,null,"今月の日数",31,null,3,null,null,null,null,null,null,null,0]
[null,2,{"$f":"IF(VLOOKUP(B7,設定!$K$4:$P$43,$BL$16+2,0)=0,\"\",VLOOKUP(B7,設定!$K$4:$P$43,$BL$16+2,0))","v":"伊達政宗　３年"},null,null,null,null,null,null,null,null,null,null,null,null,null,null,null,null,null,null,null,null,null,null,null,null,null,null,null,null,null,null,null,null,null,null,null,null,null,null,null,null,null,null,null,null,null,null,null,null,null,4,null,null,null,null,null,null,null,0,null,null,null,null,"◆休業追加"]
[null,3,{"$f":"IF(VLOOKUP(B8,設定!$K$4:$P$43,$BL$16+2,0)=0,\"\",VLOOKUP(B8,設定!$K$4:$P$43,$BL$16+2,0))","v":"井伊直弼　５年"},null,null,null,null,null,null,null,null,null,null,null,null,null,null,null,null,null,null,null,null,null,null,null,null,null,null,null,null,null,null,null,null,null,null,null,null,null,null,null,null,null,null,null,null,null,null,null,null,null,5,null,null,null,null,null,null,null,0,null,null,null,null,"名称","日"]
[null,4,{"$f":"IF(VLOOKUP(B9,設定!$K$4:$P$43,$BL$16+2,0)=0,\"\",VLOOKUP(B9,設定!$K$4:$P$43,$BL$16+2,0))","v":"桓武天皇　５年"},null,null,null,null,null,null,null,null,null,null,null,null,null,null,null,null,null,null,null,null,null,null,null,null,null,null,null,null,null,null,null,null,null,null,null,null,null,null,null,null,null,null,null,null,null,null,"祝日",{"$f":"IF(設定!B10=\"\",\"\",設定!B10)","v":"2021-04-29"},{"$f":"IF(設定!C10=\"\",\"\",設定!C10)","v":"昭和の日"},6,null,null,null,null,null,null,null,0,null,null,null,null,"学年閉鎖",20]
[null,5,{"$f":"IF(VLOOKUP(B10,設定!$K$4:$P$43,$BL$16+2,0)=0,\"\",VLOOKUP(B10,設定!$K$4:$P$43,$BL$16+2,0))","v":""},null,null,null,null,null,null,null,null,null,null,null,null,null,null,null,null,null,null,null,null,null,null,null,null,null,null,null,null,null,null,null,null,null,null,null,null,null,null,null,null,null,null,null,null,null,null,null,{"$f":"IF(設定!B11=\"\",\"\",設定!B11)","v":"2021-05-03"},{"$f":"IF(設定!C11=\"\",\"\",設定!C11)","v":"憲法記念日"},7,null,null,null,null,null,null,null,0]
[null,6,{"$f":"IF(VLOOKUP(B11,設定!$K$4:$P$43,$BL$16+2,0)=0,\"\",VLOOKUP(B11,設定!$K$4:$P$43,$BL$16+2,0))","v":""},null,null,null,null,null,null,null,null,null,null,null,null,null,null,null,null,null,null,null,null,null,null,null,null,null,null,null,null,null,null,null,null,null,null,null,null,null,null,null,null,null,null,null,null,null,null,null,{"$f":"IF(設定!B12=\"\",\"\",設定!B12)","v":"2021-05-04"},{"$f":"IF(設定!C12=\"\",\"\",設定!C12)","v":"みどりの日"},8,null,null,null,null,null,null,null,0]
[null,7,{"$f":"IF(VLOOKUP(B12,設定!$K$4:$P$43,$BL$16+2,0)=0,\"\",VLOOKUP(B12,設定!$K$4:$P$43,$BL$16+2,0))","v":""},null,null,null,null,null,null,null,null,null,null,null,null,null,null,null,null,null,null,null,null,null,null,null,null,null,null,null,null,null,null,null,null,null,null,null,null,null,null,null,null,null,null,null,null,null,null,null,{"$f":"IF(設定!B13=\"\",\"\",設定!B13)","v":"2021-05-05"},{"$f":"IF(設定!C13=\"\",\"\",設定!C13)","v":"こどもの日"},9,null,null,null,null,null,null,null,0]
[null,8,{"$f":"IF(VLOOKUP(B13,設定!$K$4:$P$43,$BL$16+2,0)=0,\"\",VLOOKUP(B13,設定!$K$4:$P$43,$BL$16+2,0))","v":""},null,null,null,null,null,null,null,null,null,null,null,null,null,null,null,null,null,null,null,null,null,null,null,null,null,null,null,null,null,null,null,null,null,null,null,null,null,null,null,null,null,null,null,null,null,null,null,{"$f":"IF(設定!B14=\"\",\"\",設定!B14)","v":"2021-07-22"},{"$f":"IF(設定!C14=\"\",\"\",設定!C14)","v":"海の日"},10,null,null,null,null,null,null,null,0]
[null,9,{"$f":"IF(VLOOKUP(B14,設定!$K$4:$P$43,$BL$16+2,0)=0,\"\",VLOOKUP(B14,設定!$K$4:$P$43,$BL$16+2,0))","v":""},null,null,null,null,null,null,null,null,null,null,null,null,null,null,null,null,null,null,null,null,null,null,null,null,null,null,null,null,null,null,null,null,null,null,null,null,null,null,null,null,null,null,null,null,null,null,null,{"$f":"IF(設定!B15=\"\",\"\",設定!B15)","v":"2021-07-23"},{"$f":"IF(設定!C15=\"\",\"\",設定!C15)","v":"スポーツの日"},11,null,null,null,null,null,null,null,0]
[null,10,{"$f":"IF(VLOOKUP(B15,設定!$K$4:$P$43,$BL$16+2,0)=0,\"\",VLOOKUP(B15,設定!$K$4:$P$43,$BL$16+2,0))","v":""},null,null,null,null,null,null,null,null,null,null,null,null,null,null,null,null,null,null,null,null,null,null,null,null,null,null,null,null,null,null,null,null,null,null,null,null,null,null,null,null,null,null,null,null,null,null,null,{"$f":"IF(設定!B16=\"\",\"\",設定!B16)","v":"2021-08-08"},{"$f":"IF(設定!C16=\"\",\"\",設定!C16)","v":"山の日"},12,null,null,null,null,null,null,null,0]
[null,11,{"$f":"IF(VLOOKUP(B16,設定!$K$4:$P$43,$BL$16+2,0)=0,\"\",VLOOKUP(B16,設定!$K$4:$P$43,$BL$16+2,0))","v":""},null,null,null,null,null,null,null,null,null,null,null,null,null,null,null,null,null,null,null,null,null,null,null,null,null,null,null,null,null,null,null,null,null,null,null,null,null,null,null,null,null,null,null,null,null,null,null,{"$f":"IF(設定!B17=\"\",\"\",設定!B17)","v":"2021-08-09"},{"$f":"IF(設定!C17=\"\",\"\",設定!C17)","v":"休　　日"},13,null,null,null,null,null,null,null,0,null,"使用名列",0]
[null,12,{"$f":"IF(VLOOKUP(B17,設定!$K$4:$P$43,$BL$16+2,0)=0,\"\",VLOOKUP(B17,設定!$K$4:$P$43,$BL$16+2,0))","v":""},null,null,null,null,null,null,null,null,null,null,null,null,null,null,null,null,null,null,null,null,null,null,null,null,null,null,null,null,null,null,null,null,null,null,null,null,null,null,null,null,null,null,null,null,null,null,null,{"$f":"IF(設定!B18=\"\",\"\",設定!B18)","v":"2021-09-20"},{"$f":"IF(設定!C18=\"\",\"\",設定!C18)","v":"敬老の日"},14,null,null,null,null,null,null,null,0,null,null,null,null,"※「月始め処理」の前に入力"]
[null,13,{"$f":"IF(VLOOKUP(B18,設定!$K$4:$P$43,$BL$16+2,0)=0,\"\",VLOOKUP(B18,設定!$K$4:$P$43,$BL$16+2,0))","v":""},null,null,null,null,null,null,null,null,null,null,null,null,null,null,null,null,null,null,null,null,null,null,null,null,null,null,null,null,null,null,null,null,null,null,null,null,null,null,null,null,null,null,null,null,null,null,null,{"$f":"IF(設定!B19=\"\",\"\",設定!B19)","v":"2021-09-23"},{"$f":"IF(設定!C19=\"\",\"\",設定!C19)","v":"秋分の日"},15,null,null,null,null,null,null,null,0,null,"◆長期休業の文字間隔",null,null,"◆長期休業Ⅰ"]
[null,14,{"$f":"IF(VLOOKUP(B19,設定!$K$4:$P$43,$BL$16+2,0)=0,\"\",VLOOKUP(B19,設定!$K$4:$P$43,$BL$16+2,0))","v":""},null,null,null,null,null,null,null,null,null,null,null,null,null,null,null,null,null,null,null,null,null,null,null,null,null,null,null,null,null,null,null,null,null,null,null,null,null,null,null,null,null,null,null,null,null,null,null,{"$f":"IF(設定!B20=\"\",\"\",設定!B20)","v":"2021-11-03"},{"$f":"IF(設定!C20=\"\",\"\",設定!C20)","v":"文化の日"},16,null,null,null,null,null,null,null,0,null,"やや広く",null,null,"名称","冬季休業"]
[null,15,{"$f":"IF(VLOOKUP(B20,設定!$K$4:$P$43,$BL$16+2,0)=0,\"\",VLOOKUP(B20,設定!$K$4:$P$43,$BL$16+2,0))","v":""},null,null,null,null,null,null,null,null,null,null,null,null,null,null,null,null,null,null,null,null,null,null,null,null,null,null,null,null,null,null,null,null,null,null,null,null,null,null,null,null,null,null,null,null,null,null,null,{"$f":"IF(設定!B21=\"\",\"\",設定!B21)","v":"2021-11-23"},{"$f":"IF(設定!C21=\"\",\"\",設定!C21)","v":"勤労感謝の日"},17,null,null,null,null,null,null,null,0,null,"※長期休業の文字間隔を調節します。祝日との文字の重なりを回避することができます。",null,null,"開始日",24]
[null,16,{"$f":"IF(VLOOKUP(B21,設定!$K$4:$P$43,$BL$16+2,0)=0,\"\",VLOOKUP(B21,設定!$K$4:$P$43,$BL$16+2,0))","v":""},null,null,null,null,null,null,null,null,null,null,null,null,null,null,null,null,null,null,null,null,null,null,null,null,null,null,null,null,null,null,null,null,null,null,null,null,null,null,null,null,null,null,null,null,null,null,null,{"$f":"IF(設定!B22=\"\",\"\",設定!B22)","v":"2022-01-01"},{"$f":"IF(設定!C22=\"\",\"\",設定!C22)","v":"元　　日"},18,null,null,null,null,null,null,null,0,null,null,null,null,"終了日",31]
[null,17,{"$f":"IF(VLOOKUP(B22,設定!$K$4:$P$43,$BL$16+2,0)=0,\"\",VLOOKUP(B22,設定!$K$4:$P$43,$BL$16+2,0))","v":""},null,null,null,null,null,null,null,null,null,null,null,null,null,null,null,null,null,null,null,null,null,null,null,null,null,null,null,null,null,null,null,null,null,null,null,null,null,null,null,null,null,null,null,null,null,null,null,{"$f":"IF(設定!B23=\"\",\"\",設定!B23)","v":"2022-01-10"},{"$f":"IF(設定!C23=\"\",\"\",設定!C23)","v":"成人の日"},19,null,null,null,null,null,null,null,0,null,null,null,null,"◆長期休業Ⅱ"]
[null,18,{"$f":"IF(VLOOKUP(B23,設定!$K$4:$P$43,$BL$16+2,0)=0,\"\",VLOOKUP(B23,設定!$K$4:$P$43,$BL$16+2,0))","v":""},null,null,null,null,null,null,null,null,null,null,null,null,null,null,null,null,null,null,null,null,null,null,null,null,null,null,null,null,null,null,null,null,null,null,null,null,null,null,null,null,null,null,null,null,null,null,null,{"$f":"IF(設定!B24=\"\",\"\",設定!B24)","v":"2022-02-11"},{"$f":"IF(設定!C24=\"\",\"\",設定!C24)","v":"建国記念の日"},20,null,null,null,null,null,null,null,0,null,null,null,null,"名称"]
[null,19,{"$f":"IF(VLOOKUP(B24,設定!$K$4:$P$43,$BL$16+2,0)=0,\"\",VLOOKUP(B24,設定!$K$4:$P$43,$BL$16+2,0))","v":""},null,null,null,null,null,null,null,null,null,null,null,null,null,null,null,null,null,null,null,null,null,null,null,null,null,null,null,null,null,null,null,null,null,null,null,null,null,null,null,null,null,null,null,null,null,null,null,{"$f":"IF(設定!B25=\"\",\"\",設定!B25)","v":"2022-02-23"},{"$f":"IF(設定!C25=\"\",\"\",設定!C25)","v":"天皇誕生日"},21,null,null,null,null,null,null,null,0,null,"◆各処理にて再計算",null,null,"開始日"]
[null,20,{"$f":"IF(VLOOKUP(B25,設定!$K$4:$P$43,$BL$16+2,0)=0,\"\",VLOOKUP(B25,設定!$K$4:$P$43,$BL$16+2,0))","v":""},null,null,null,null,null,null,null,null,null,null,null,null,null,null,null,null,null,null,null,null,null,null,null,null,null,null,null,null,null,null,null,null,null,null,null,null,null,null,null,null,null,null,null,null,null,null,null,{"$f":"IF(設定!B26=\"\",\"\",設定!B26)","v":"2022-03-19"},{"$f":"IF(設定!C26=\"\",\"\",設定!C26)","v":"春分の日"},22,null,null,null,null,null,null,null,0,null,"児童生徒数",{"$f":"AY45","v":4},null,"終了日"]
[null,null,null,null,null,null,null,null,null,null,null,null,null,null,null,null,null,null,null,null,null,null,null,null,null,null,null,null,null,null,null,null,null,null,null,null,null,null,null,null,null,null,null,null,null,null,null,null,null,null,{"$f":"IF(設定!B27=\"\",\"\",設定!B27)","v":""},{"$f":"IF(設定!C27=\"\",\"\",設定!C27)","v":""},23,null,null,null,null,null,null,null,0,null,"授業日数",{"$f":"IF(AY46=\"\",\"\",AY46)","v":""},null,"◆長期休業Ⅲ"]
[null,null,null,null,null,null,null,1,2,3,4,5,6,7,8,9,10,11,12,13,14,15,16,17,18,19,20,21,22,23,24,25,26,27,28,29,30,31,null,null,null,null,null,null,null,null,null,null,null,null,{"$f":"IF(設定!B28=\"\",\"\",設定!B28)","v":""},{"$f":"IF(設定!C28=\"\",\"\",設定!C28)","v":""},24,null,null,null,null,null,null,null,0,null,"出席者数",22,null,"名称"]
["その他教育上特に必要と認めた日タ",21,{"$f":"IF(VLOOKUP(B28,設定!$K$4:$P$43,$BL$16+2,0)=0,\"\",VLOOKUP(B28,設定!$K$4:$P$43,$BL$16+2,0))","v":""},null,null,null,null,null,null,null,null,null,null,null,null,null,null,null,null,null,null,null,null,null,null,null,null,null,null,null,null,null,null,null,null,null,null,null,null,null,null,null,null,null,null,null,null,null,null,null,{"$f":"IF(設定!B29=\"\",\"\",設定!B29)","v":""},{"$f":"IF(設定!C29=\"\",\"\",設定!C29)","v":""},25,null,null,null,null,null,null,null,0,null,"全欠席者数",0,null,"開始日"]
[null,22,{"$f":"IF(VLOOKUP(B29,設定!$K$4:$P$43,$BL$16+2,0)=0,\"\",VLOOKUP(B29,設定!$K$4:$P$43,$BL$16+2,0))","v":""},null,null,null,null,null,null,null,null,null,null,null,null,null,null,null,null,null,null,null,null,null,null,null,null,null,null,null,null,null,null,null,null,null,null,null,null,null,null,null,null,null,null,null,null,null,null,null,{"$f":"IF(設定!B30=\"\",\"\",設定!B30)","v":""},{"$f":"IF(設定!C30=\"\",\"\",設定!C30)","v":""},26,null,null,null,null,null,null,null,0,null,"転入学者数",0,null,"終了日"]
[null,23,{"$f":"IF(VLOOKUP(B30,設定!$K$4:$P$43,$BL$16+2,0)=0,\"\",VLOOKUP(B30,設定!$K$4:$P$43,$BL$16+2,0))","v":""},null,null,null,null,null,null,null,null,null,null,null,null,null,null,null,null,null,null,null,null,null,null,null,null,null,null,null,null,null,null,null,null,null,null,null,null,null,null,null,null,null,null,null,null,null,null,null,{"$f":"IF(設定!B31=\"\",\"\",設定!B31)","v":""},{"$f":"IF(設定!C31=\"\",\"\",設定!C31)","v":""},27,null,null,null,null,null,null,null,0,null,"転学退学者数",0]
[null,24,{"$f":"IF(VLOOKUP(B31,設定!$K$4:$P$43,$BL$16+2,0)=0,\"\",VLOOKUP(B31,設定!$K$4:$P$43,$BL$16+2,0))","v":""},null,null,null,null,null,null,null,null,null,null,null,null,null,null,null,null,null,null,null,null,null,null,null,null,null,null,null,null,null,null,null,null,null,null,null,null,null,null,null,null,null,null,null,null,null,null,null,{"$f":"IF(設定!B32=\"\",\"\",設定!B32)","v":""},{"$f":"IF(設定!C32=\"\",\"\",設定!C32)","v":""},28,null,null,null,null,null,null,null,0]
[null,25,{"$f":"IF(VLOOKUP(B32,設定!$K$4:$P$43,$BL$16+2,0)=0,\"\",VLOOKUP(B32,設定!$K$4:$P$43,$BL$16+2,0))","v":""},null,null,null,null,null,null,null,null,null,null,null,null,null,null,null,null,null,null,null,null,null,null,null,null,null,null,null,null,null,null,null,null,null,null,null,null,null,null,null,null,null,null,null,null,null,null,null,{"$f":"IF(設定!B33=\"\",\"\",設定!B33)","v":""},{"$f":"IF(設定!C33=\"\",\"\",設定!C33)","v":""},29,null,null,null,null,null,null,null,0,null,"◆入力記号"]
[null,26,{"$f":"IF(VLOOKUP(B33,設定!$K$4:$P$43,$BL$16+2,0)=0,\"\",VLOOKUP(B33,設定!$K$4:$P$43,$BL$16+2,0))","v":""},null,null,null,null,null,null,null,null,null,null,null,null,null,null,null,null,null,null,null,null,null,null,null,null,null,null,null,null,null,null,null,null,null,null,null,null,null,null,null,null,null,null,null,null,null,null,null,{"$f":"IF(設定!B34=\"\",\"\",設定!B34)","v":""},{"$f":"IF(設定!C34=\"\",\"\",設定!C34)","v":""},30,null,null,null,null,null,null,null,0,null,"病欠","／"]
[null,27,{"$f":"IF(VLOOKUP(B34,設定!$K$4:$P$43,$BL$16+2,0)=0,\"\",VLOOKUP(B34,設定!$K$4:$P$43,$BL$16+2,0))","v":""},null,null,null,null,null,null,null,null,null,null,null,null,null,null,null,null,null,null,null,null,null,null,null,null,null,null,null,null,null,null,null,null,null,null,null,null,null,null,null,null,null,null,null,null,null,null,null,{"$f":"IF(設定!B35=\"\",\"\",設定!B35)","v":""},{"$f":"IF(設定!C35=\"\",\"\",設定!C35)","v":""},31,null,null,null,null,null,null,null,0,null,"事故欠","〃"]
[null,28,{"$f":"IF(VLOOKUP(B35,設定!$K$4:$P$43,$BL$16+2,0)=0,\"\",VLOOKUP(B35,設定!$K$4:$P$43,$BL$16+2,0))","v":""},null,null,null,null,null,null,null,null,null,null,null,null,null,null,null,null,null,null,null,null,null,null,null,null,null,null,null,null,null,null,null,null,null,null,null,null,null,null,null,null,null,null,null,null,null,null,null,{"$f":"IF(設定!B36=\"\",\"\",設定!B36)","v":""},{"$f":"IF(設定!C36=\"\",\"\",設定!C36)","v":""},null,null,null,null,null,null,null,null,null,null,"遅刻","×"]
[null,29,{"$f":"IF(VLOOKUP(B36,設定!$K$4:$P$43,$BL$16+2,0)=0,\"\",VLOOKUP(B36,設定!$K$4:$P$43,$BL$16+2,0))","v":""},null,null,null,null,null,null,null,null,null,null,null,null,null,null,null,null,null,null,null,null,null,null,null,null,null,null,null,null,null,null,null,null,null,null,null,null,null,null,null,null,null,null,null,null,null,null,null,{"$f":"IF(設定!B37=\"\",\"\",設定!B37)","v":""},{"$f":"IF(設定!C37=\"\",\"\",設定!C37)","v":""},null,31,"data(tu)　その月の日数",null,null,null,null,null,null,null,"早退","○"]
[null,30,{"$f":"IF(VLOOKUP(B37,設定!$K$4:$P$43,$BL$16+2,0)=0,\"\",VLOOKUP(B37,設定!$K$4:$P$43,$BL$16+2,0))","v":""},null,null,null,null,null,null,null,null,null,null,null,null,null,null,null,null,null,null,null,null,null,null,null,null,null,null,null,null,null,null,null,null,null,null,null,null,null,null,null,null,null,null,null,null,null,null,null,{"$f":"IF(設定!B38=\"\",\"\",設定!B38)","v":""},{"$f":"IF(設定!C38=\"\",\"\",設定!C38)","v":""},null,8,"hi　月の長期休業の日数",null,null,null,null,null,null,null,"遅刻・早退","×○"]
[null,31,{"$f":"IF(VLOOKUP(B38,設定!$K$4:$P$43,$BL$16+2,0)=0,\"\",VLOOKUP(B38,設定!$K$4:$P$43,$BL$16+2,0))","v":""},null,null,null,null,null,null,null,null,null,null,null,null,null,null,null,null,null,null,null,null,null,null,null,null,null,null,null,null,null,null,null,null,null,null,null,null,null,null,null,null,null,null,null,null,null,null,null,{"$f":"IF(設定!B39=\"\",\"\",設定!B39)","v":""},{"$f":"IF(設定!C39=\"\",\"\",設定!C39)","v":""},null,0,"hj　月の祝日の日数",null,null,null,null,null,null,null,"忌引","キ"]
[null,32,{"$f":"IF(VLOOKUP(B39,設定!$K$4:$P$43,$BL$16+2,0)=0,\"\",VLOOKUP(B39,設定!$K$4:$P$43,$BL$16+2,0))","v":""},null,null,null,null,null,null,null,null,null,null,null,null,null,null,null,null,null,null,null,null,null,null,null,null,null,null,null,null,null,null,null,null,null,null,null,null,null,null,null,null,null,null,null,null,null,null,null,{"$f":"IF(設定!B40=\"\",\"\",設定!B40)","v":""},{"$f":"IF(設定!C40=\"\",\"\",設定!C40)","v":""},null,6,"hk　月の祝日ではない土日の数",null,null,null,null,null,null,null,"出席停止","テ"]
[null,33,{"$f":"IF(VLOOKUP(B40,設定!$K$4:$P$43,$BL$16+2,0)=0,\"\",VLOOKUP(B40,設定!$K$4:$P$43,$BL$16+2,0))","v":""},null,null,null,null,null,null,null,null,null,null,null,null,null,null,null,null,null,null,null,null,null,null,null,null,null,null,null,null,null,null,null,null,null,null,null,null,null,null,null,null,null,null,null,null,null,null,null,{"$f":"IF(設定!B41=\"\",\"\",設定!B41)","v":""},{"$f":"IF(設定!C41=\"\",\"\",設定!C41)","v":""},null,0,"hl　長期休業で祝日と重複する数",null,null,null,null,null,null,null,"その他","タ"]
[null,34,{"$f":"IF(VLOOKUP(B41,設定!$K$4:$P$43,$BL$16+2,0)=0,\"\",VLOOKUP(B41,設定!$K$4:$P$43,$BL$16+2,0))","v":""},null,null,null,null,null,null,null,null,null,null,null,null,null,null,null,null,null,null,null,null,null,null,null,null,null,null,null,null,null,null,null,null,null,null,null,null,null,null,null,null,null,null,null,null,null,null,null,{"$f":"IF(設定!B42=\"\",\"\",設定!B42)","v":""},{"$f":"IF(設定!C42=\"\",\"\",設定!C42)","v":""},null,0,"so　卒業式後の日数",null,null,null,null,null,null,null,"転手転確転入","◎"]
[null,35,{"$f":"IF(VLOOKUP(B42,設定!$K$4:$P$43,$BL$16+2,0)=0,\"\",VLOOKUP(B42,設定!$K$4:$P$43,$BL$16+2,0))","v":""},null,null,null,null,null,null,null,null,null,null,null,null,null,null,null,null,null,null,null,null,null,null,null,null,null,null,null,null,null,null,null,null,null,null,null,null,null,null,null,null,null,null,null,null,null,null,null,{"$f":"IF(設定!B43=\"\",\"\",設定!B43)","v":""},{"$f":"IF(設定!C43=\"\",\"\",設定!C43)","v":""},null,0,"gh　学級閉鎖の日数"]
[null,36,{"$f":"IF(VLOOKUP(B43,設定!$K$4:$P$43,$BL$16+2,0)=0,\"\",VLOOKUP(B43,設定!$K$4:$P$43,$BL$16+2,0))","v":""},null,null,null,null,null,null,null,null,null,null,null,null,null,null,null,null,null,null,null,null,null,null,null,null,null,null,null,null,null,null,null,null,null,null,null,null,null,null,null,null,null,null,null,null,null,null,null,{"$f":"IF(設定!B44=\"\",\"\",設定!B44)","v":""},{"$f":"IF(設定!C44=\"\",\"\",設定!C44)","v":""},null,null,null,null,null,null,null,null,null,null,"※転出入については、集計欄の自動計算には対応していません。「月末処理」の後、手動にて修正をしてください。"]
[null,37,{"$f":"IF(VLOOKUP(B44,設定!$K$4:$P$43,$BL$16+2,0)=0,\"\",VLOOKUP(B44,設定!$K$4:$P$43,$BL$16+2,0))","v":""}]
[null,38,{"$f":"IF(VLOOKUP(B45,設定!$K$4:$P$43,$BL$16+2,0)=0,\"\",VLOOKUP(B45,設定!$K$4:$P$43,$BL$16+2,0))","v":""},null,null,null,null,null,null,null,null,null,null,null,null,null,null,null,null,null,null,null,null,null,null,null,null,null,null,null,null,null,null,null,null,null,null,null,null,null,null,null,null,null,null,null,null,null,null,"児童生徒数",{"$f":"40-BB45-BC45","v":4},null,null,{"$f":"COUNTIF(C6:C25,\"\")","v":16},{"$f":"COUNTIF(C28:C47,\"\")","v":20},"児童生徒欄の空白セル"]
[null,39,{"$f":"IF(VLOOKUP(B46,設定!$K$4:$P$43,$BL$16+2,0)=0,\"\",VLOOKUP(B46,設定!$K$4:$P$43,$BL$16+2,0))","v":""},null,null,null,null,null,null,null,null,null,null,null,null,null,null,null,null,null,null,null,null,null,null,null,null,null,null,null,null,null,null,null,null,null,null,null,null,null,null,null,null,null,null,null,null,null,null,"授業日数",null,"←月始め処理で授業日数が入力される"]
[null,40,{"$f":"IF(VLOOKUP(B47,設定!$K$4:$P$43,$BL$16+2,0)=0,\"\",VLOOKUP(B47,設定!$K$4:$P$43,$BL$16+2,0))","v":""},null,null,null,null,null,null,null,null,null,null,null,null,null,null,null,null,null,null,null,null,null,null,null,null,null,null,null,null,null,null,null,null,null,null,null,null,null,null,null,null,null,null,null,null,null,null,"出席者数",22,"←月末処理で入力される",null,"出席日数0のカウント"]
[null,"計","出  席  者  数",null,null,null,null,null,null,null,null,null,null,null,null,null,null,null,null,null,null,null,null,null,null,null,null,null,null,null,null,null,null,null,null,null,null,null,null,null,null,null,null,null,null,null,null,null,null,"全欠席者数",{"$f":"SUM(BH53:BH92)","v":0},"←月末処理で入力される",null,{"$f":"COUNTIF(AV6:AV25,0)","v":0},{"$f":"COUNTIF(AV28:AV47,0)","v":0},{"$f":"BB48+BC48","v":0}]
[null,null,"欠  席  者  数",null,null,null,null,null,null,null,null,null,null,null,null,null,null,null,null,null,null,null,null,null,null,null,null,null,null,null,null,null,null,null,null,null,null,null,null,null,null,null,null,null,null,null,null,null,null,"転入学者数",0,"←月末処理で入力される"]
[null,"授業","日数",null,null,null,null,"在籍","者数",null,null,null,null,null,null,"出席","者数",null,null,null,null,null,null,"全欠席","者　数",null,null,null,null,null,null,null,"転入学","者　数",null,null,null,null,null,"転学退",null,"学者数",null,null,null,null,null,null,null,"転学退学者数",0,"←月末処理で入力される"]
[]
[null,null,null,null,null,null,null,null,null,null,null,null,null,null,null,null,null,null,null,null,null,null,null,null,null,null,null,null,null,null,null,null,null,null,null,null,null,null,null,null,null,null,null,null,null,null,null,null,null,"長期休業間隔",{"$f":"IF(BK19=\"狭く\",9,IF(BK19=\"やや狭く\",8,IF(BK19=\"やや広く\",6,IF(BK19=\"広く\",5,7))))","v":6},null,"長期休業間隔",null,"標準",null,null,null,"全欠処理"]
[null,null,null,null,null,null,null,null,null,null,null,null,null,null,null,null,null,null,null,null,null,null,null,null,null,null,null,null,null,null,null,null,null,null,null,null,null,null,null,null,null,null,null,null,null,null,null,null,null,"長期休業処理",null,null,null,null,"狭く",null,null,null,1,{"$f":"IF(AV6<>\"\",IF(AM6-AR6-AS6=0,1,0),0)","v":0}]
[null,null,null,null,null,null,null,null,null,null,null,null,null,null,null,null,null,null,null,null,null,null,null,null,null,null,null,null,null,null,null,null,null,null,null,null,null,null,null,null,null,null,null,null,null,null,null,null,null,"長期休業Ⅰ",{"$f":"BO19","v":"冬季休業"},null,null,null,"やや狭く",null,null,null,2,{"$f":"IF(AV7<>\"\",IF(AM7-AR7-AS7=0,1,0),0)","v":0}]
[null,null,null,null,null,null,null,null,null,null,null,null,null,null,null,null,null,null,null,null,null,null,null,null,null,null,null,null,null,null,null,null,null,null,null,null,null,null,null,null,null,null,null,null,null,null,null,null,null,null,{"$f":"BO20","v":24},null,null,null,"やや広く",null,null,null,3,0]
[null,null,null,null,null,null,null,null,null,null,null,null,null,null,null,null,null,null,null,null,null,null,null,null,null,null,null,null,null,null,null,null,null,null,null,null,null,null,null,null,null,null,null,null,null,null,null,null,null,null,{"$f":"BO21","v":31},null,null,null,{"$f":"IF(F3=4,\"\",IF(F3=3,\"\",\"広く\"))","v":"広く"},null,null,null,4,0]
[null,null,null,null,null,null,null,null,null,null,null,null,null,null,null,null,null,null,null,null,null,null,null,null,null,null,null,null,null,null,null,null,null,null,null,null,null,null,null,null,null,null,null,null,null,null,null,null,null,"長期休業Ⅱ",{"$f":"BO23","v":0},null,null,null,null,null,null,null,5,0]
[null,null,null,null,null,null,null,null,null,null,null,null,null,null,null,null,null,null,null,null,null,null,null,null,null,null,null,null,null,null,null,null,null,null,null,null,null,null,null,null,null,null,null,null,null,null,null,null,null,null,{"$f":"BO24","v":0},null,null,null,null,null,null,null,6,0]
[null,null,null,null,null,null,null,null,null,null,null,null,null,null,null,null,null,null,null,null,null,null,null,null,null,null,null,null,null,null,null,null,null,null,null,null,null,null,null,null,null,null,null,null,null,null,null,null,null,null,{"$f":"BO25","v":0},null,null,null,null,null,null,null,7,0]
[null,null,null,null,null,null,null,null,null,null,null,null,null,null,null,null,null,null,null,null,null,null,null,null,null,null,null,null,null,null,null,null,null,null,null,null,null,null,null,null,null,null,null,null,null,null,null,null,null,"長期休業Ⅲ",{"$f":"BO27","v":0},null,null,null,null,null,null,null,8,0]
[null,null,null,null,null,null,null,null,null,null,null,null,null,null,null,null,null,null,null,null,null,null,null,null,null,null,null,null,null,null,null,null,null,null,null,null,null,null,null,null,null,null,null,null,null,null,null,null,null,null,{"$f":"BO28","v":0},null,null,null,null,null,null,null,9,0]
[null,null,null,null,null,null,null,null,null,null,null,null,null,null,null,null,null,null,null,null,null,null,null,null,null,null,null,null,null,null,null,null,null,null,null,null,null,null,null,null,null,null,null,null,null,null,null,null,null,null,{"$f":"BO29","v":0},null,null,null,null,null,null,null,10,0]
[null,null,null,null,null,null,null,null,null,null,null,null,null,null,null,null,null,null,null,null,null,null,null,null,null,null,null,null,null,null,null,null,null,null,null,null,null,null,null,null,null,null,null,null,null,null,null,null,null,null,{"$f":"MAX(AY55,AY58,AY61)","v":24},null,null,null,null,null,null,null,11,0]
[null,null,null,null,null,null,null,null,null,null,null,null,null,null,null,null,null,null,null,null,null,null,null,null,null,null,null,null,null,null,null,null,null,null,null,null,null,null,null,null,null,null,null,null,null,null,null,null,null,null,null,null,null,null,null,null,null,null,12,0]
[null,null,null,null,null,null,null,null,null,null,null,null,null,null,null,null,null,null,null,null,null,null,null,null,null,null,null,null,null,null,null,null,null,null,null,null,null,null,null,null,null,null,null,null,null,null,null,null,null,null,null,null,null,null,null,null,null,null,13,0]
[null,null,null,null,null,null,null,null,null,null,null,null,null,null,null,null,null,null,null,null,null,null,null,null,null,null,null,null,null,null,null,null,null,null,null,null,null,null,null,null,null,null,null,null,null,null,null,null,null,null,null,null,null,null,null,null,null,null,14,0]
[null,null,null,null,null,null,null,null,null,null,null,null,null,null,null,null,null,null,null,null,null,null,null,null,null,null,null,null,null,null,null,null,null,null,null,null,null,null,null,null,null,null,null,null,null,null,null,null,null,null,null,null,null,null,null,null,null,null,15,0]
[null,null,null,null,null,null,null,null,null,null,null,null,null,null,null,null,null,null,null,null,null,null,null,null,null,null,null,null,null,null,null,null,null,null,null,null,null,null,null,null,null,null,null,null,null,null,null,null,null,null,null,null,null,null,null,null,null,null,16,0]
[null,null,null,null,null,null,null,null,null,null,null,null,null,null,null,null,null,null,null,null,null,null,null,null,null,null,null,null,null,null,null,null,null,null,null,null,null,null,null,null,null,null,null,null,null,null,null,null,null,"入力規則","／",null,null,null,null,null,null,null,17,0]
[null,null,null,null,null,null,null,null,null,null,null,null,null,null,null,null,null,null,null,null,null,null,null,null,null,null,null,null,null,null,null,null,null,null,null,null,null,null,null,null,null,null,null,null,null,null,null,null,null,null,"〃",null,null,null,null,null,null,null,18,0]
[null,null,null,null,null,null,null,null,null,null,null,null,null,null,null,null,null,null,null,null,null,null,null,null,null,null,null,null,null,null,null,null,null,null,null,null,null,null,null,null,null,null,null,null,null,null,null,null,null,null,"×",null,null,null,null,null,null,null,19,0]
[null,null,null,null,null,null,null,null,null,null,null,null,null,null,null,null,null,null,null,null,null,null,null,null,null,null,null,null,null,null,null,null,null,null,null,null,null,null,null,null,null,null,null,null,null,null,null,null,null,null,"○",null,null,null,null,null,null,null,20,0]
[null,null,null,null,null,null,null,null,null,null,null,null,null,null,null,null,null,null,null,null,null,null,null,null,null,null,null,null,null,null,null,null,null,null,null,null,null,null,null,null,null,null,null,null,null,null,null,null,null,null,"×○",null,null,null,null,null,null,null,21,{"$f":"IF(AV28<>\"\",IF(AM28-AR28-AS28=0,1,0),0)","v":0}]
[null,null,null,null,null,null,null,null,null,null,null,null,null,null,null,null,null,null,null,null,null,null,null,null,null,null,null,null,null,null,null,null,null,null,null,null,null,null,null,null,null,null,null,null,null,null,null,null,null,null,"キ",null,null,null,null,null,null,null,22,{"$f":"IF(AV29<>\"\",IF(AM29-AR29-AS29=0,1,0),0)","v":0}]
[null,null,null,null,null,null,null,null,null,null,null,null,null,null,null,null,null,null,null,null,null,null,null,null,null,null,null,null,null,null,null,null,null,null,null,null,null,null,null,null,null,null,null,null,null,null,null,null,null,null,"テ",null,null,null,null,null,null,null,23,0]
[null,null,null,null,null,null,null,null,null,null,null,null,null,null,null,null,null,null,null,null,null,null,null,null,null,null,null,null,null,null,null,null,null,null,null,null,null,null,null,null,null,null,null,null,null,null,null,null,null,null,"タ",null,null,null,null,null,null,null,24,0]
[null,null,null,null,null,null,null,null,null,null,null,null,null,null,null,null,null,null,null,null,null,null,null,null,null,null,null,null,null,null,null,null,null,null,null,null,null,null,null,null,null,null,null,null,null,null,null,null,null,null,"◎",null,null,null,null,null,null,null,25,0]
[null,null,null,null,null,null,null,null,null,null,null,null,null,null,null,null,null,null,null,null,null,null,null,null,null,null,null,null,null,null,null,null,null,null,null,null,null,null,null,null,null,null,null,null,null,null,null,null,null,null,null,null,null,null,null,null,null,null,26,0]
[null,null,null,null,null,null,null,null,null,null,null,null,null,null,null,null,null,null,null,null,null,null,null,null,null,null,null,null,null,null,null,null,null,null,null,null,null,null,null,null,null,null,null,null,null,null,null,null,null,null,null,null,null,null,null,null,null,null,27,0]
[null,null,null,null,null,null,null,null,null,null,null,null,null,null,null,null,null,null,null,null,null,null,null,null,null,null,null,null,null,null,null,null,null,null,null,null,null,null,null,null,null,null,null,null,null,null,null,null,null,null,null,null,null,null,null,null,null,null,28,0]
[null,null,null,null,null,null,null,null,null,null,null,null,null,null,null,null,null,null,null,null,null,null,null,null,null,null,null,null,null,null,null,null,null,null,null,null,null,null,null,null,null,null,null,null,null,null,null,null,null,null,null,null,null,null,null,null,null,null,29,0]
[null,null,null,null,null,null,null,null,null,null,null,null,null,null,null,null,null,null,null,null,null,null,null,null,null,null,null,null,null,null,null,null,null,null,null,null,null,null,null,null,null,null,null,null,null,null,null,null,null,null,null,null,null,null,null,null,null,null,30,0]
[null,null,null,null,null,null,null,null,null,null,null,null,null,null,null,null,null,null,null,null,null,null,null,null,null,null,null,null,null,null,null,null,null,null,null,null,null,null,null,null,null,null,null,null,null,null,null,null,null,null,null,null,null,null,null,null,null,null,31,0]
[null,null,null,null,null,null,null,null,null,null,null,null,null,null,null,null,null,null,null,null,null,null,null,null,null,null,null,null,null,null,null,null,null,null,null,null,null,null,null,null,null,null,null,null,null,null,null,null,null,"追加休業","臨時休業",null,null,null,null,null,null,null,32,0]
[null,null,null,null,null,null,null,null,null,null,null,null,null,null,null,null,null,null,null,null,null,null,null,null,null,null,null,null,null,null,null,null,null,null,null,null,null,null,null,null,null,null,null,null,null,null,null,null,null,null,"学年閉鎖",null,null,null,null,null,null,null,33,0]
[null,null,null,null,null,null,null,null,null,null,null,null,null,null,null,null,null,null,null,null,null,null,null,null,null,null,null,null,null,null,null,null,null,null,null,null,null,null,null,null,null,null,null,null,null,null,null,null,null,null,"学級閉鎖",null,null,null,null,null,null,null,34,0]
[null,null,null,null,null,null,null,null,null,null,null,null,null,null,null,null,null,null,null,null,null,null,null,null,null,null,null,null,null,null,null,null,null,null,null,null,null,null,null,null,null,null,null,null,null,null,null,null,null,null,null,null,null,null,null,null,null,null,35,0]
[null,null,null,null,null,null,null,null,null,null,null,null,null,null,null,null,null,null,null,null,null,null,null,null,null,null,null,null,null,null,null,null,null,null,null,null,null,null,null,null,null,null,null,null,null,null,null,null,null,null,null,null,null,null,null,null,null,null,36,0]
[null,null,null,null,null,null,null,null,null,null,null,null,null,null,null,null,null,null,null,null,null,null,null,null,null,null,null,null,null,null,null,null,null,null,null,null,null,null,null,null,null,null,null,null,null,null,null,null,null,null,null,null,null,null,null,null,null,null,37,0]
[null,null,null,null,null,null,null,null,null,null,null,null,null,null,null,null,null,null,null,null,null,null,null,null,null,null,null,null,null,null,null,null,null,null,null,null,null,null,null,null,null,null,null,null,null,null,null,null,null,"長期休業","学年始休業",null,null,null,null,null,null,null,38,0]
[null,null,null,null,null,null,null,null,null,null,null,null,null,null,null,null,null,null,null,null,null,null,null,null,null,null,null,null,null,null,null,null,null,null,null,null,null,null,null,null,null,null,null,null,null,null,null,null,null,null,"夏季休業",null,null,null,null,null,null,null,39,0]
[null,null,null,null,null,null,null,null,null,null,null,null,null,null,null,null,null,null,null,null,null,null,null,null,null,null,null,null,null,null,null,null,null,null,null,null,null,null,null,null,null,null,null,null,null,null,null,null,null,null,"秋季休業",null,null,null,null,null,null,null,40,{"$f":"IF(AV47<>\"\",IF(AM47-AR47-AS47=0,1,0),0)","v":0}]
[null,null,null,null,null,null,null,null,null,null,null,null,null,null,null,null,null,null,null,null,null,null,null,null,null,null,null,null,null,null,null,null,null,null,null,null,null,null,null,null,null,null,null,null,null,null,null,null,null,null,"冬季休業"]
[null,null,null,null,null,null,null,null,null,null,null,null,null,null,null,null,null,null,null,null,null,null,null,null,null,null,null,null,null,null,null,null,null,null,null,null,null,null,null,null,null,null,null,null,null,null,null,null,null,null,"学年末休業"]
[null,null,null,null,null,null,null,null,null,null,null,null,null,null,null,null,null,null,null,null,null,null,null,null,null,null,null,null,null,null,null,null,null,null,null,null,null,null,null,null,null,null,null,null,null,null,null,null,null,null,"臨時休業"]
[null,null,null,null,null,null,null,null,null,null,null,null,null,null,null,null,null,null,null,null,null,null,null,null,null,null,null,null,null,null,null,null,null,null,null,null,null,null,null,null,null,null,null,null,null,null,null,null,null,null,"学年閉鎖"]

{"sheet":"1月","index":11,"n_rows":96,"n_cols":67,"rows_kept":96,"cut":false,"hidden":false,"merged":[[49,41,49,42],[49,44,49,46],[51,52,51,53],[49,4,49,5],[49,10,49,13],[49,18,49,21],[49,26,49,30],[49,35,49,37],[49,39,49,40],[46,2,46,6],[46,39,46,40],[46,41,46,42],[47,1,48,1],[47,2,47,6],[47,39,47,40],[47,41,47,42],[48,2,48,6],[48,39,48,40],[48,41,48,42],[42,62,45,63],[43,2,43,6],[43,39,43,40],[43,41,43,42],[44,2,44,6],[44,39,44,40],[44,41,44,42],[45,2,45,6],[45,39,45,40],[45,41,45,42],[41,2,41,6],[41,39,41,40],[41,41,41,42],[42,2,42,6],[42,39,42,40],[42,41,42,42],[39,2,39,6],[39,39,39,40],[39,41,39,42],[40,2,40,6],[40,39,40,40],[40,41,40,42],[37,2,37,6],[37,39,37,40],[37,41,37,42],[38,2,38,6],[38,39,38,40],[38,41,38,42],[35,2,35,6],[35,39,35,40],[35,41,35,42],[36,2,36,6],[36,39,36,40],[36,41,36,42],[33,2,33,6],[33,39,33,40],[33,41,33,42],[34,2,34,6],[34,39,34,40],[34,41,34,42],[31,2,31,6],[31,39,31,40],[31,41,31,42],[32,2,32,6],[32,39,32,40],[32,41,32,42],[28,41,28,42],[29,2,29,6],[29,39,29,40],[29,41,29,42],[30,2,30,6],[30,39,30,40],[30,41,30,42],[25,39,25,40],[25,41,25,42],[26,39,26,40],[26,41,26,42],[22,2,22,6],[22,39,22,40],[22,41,22,42],[18,2,18,6],[18,39,18,40],[18,41,18,42],[27,0,37,0],[27,2,27,6],[27,39,27,40],[27,41,27,42],[28,2,28,6],[28,39,28,40],[23,2,23,6],[23,39,23,40],[23,41,23,42],[24,2,24,6],[24,39,24,40],[24,41,24,42],[5,0,24,0],[5,2,5,6],[5,39,5,40],[5,41,5,42],[6,2,6,6],[6,39,6,40],[10,2,10,6],[10,39,10,40],[10,41,10,42],[11,2,11,6],[11,39,11,40],[11,41,11,42],[8,2,8,6],[18,62,18,63],[19,2,19,6],[19,39,19,40],[19,41,19,42],[19,62,21,63],[20,2,20,6],[20,39,20,40],[16,2,16,6],[16,39,16,40],[16,41,16,42],[17,2,17,6],[17,39,17,40],[17,41,17,42],[20,41,20,42],[21,2,21,6],[21,39,21,40],[21,41,21,42],[14,2,14,6],[14,39,14,40],[14,41,14,42],[15,2,15,6],[15,39,15,40],[15,41,15,42],[12,2,12,6],[12,39,12,40],[12,41,12,42],[13,2,13,6],[13,39,13,40],[13,41,13,42],[8,39,8,40],[8,41,8,42],[9,2,9,6],[9,39,9,40],[9,41,9,42],[3,1,4,1],[3,38,4,38],[3,39,4,39],[3,40,4,40],[3,41,4,41],[6,41,6,42],[7,2,7,6],[7,39,7,40],[7,41,7,42],[0,49,0,60],[1,39,1,44],[1,53,1,54],[1,55,1,56],[1,57,1,58],[2,1,2,2],[3,42,4,42],[3,43,4,43],[3,44,4,44],[3,45,4,45],[3,46,4,46],[3,47,4,47],[2,19,2,27],[2,31,2,36],[2,38,2,40],[2,41,2,46],[2,9,2,14]]}
[null,null,null,null,null,null,null,null,null,null,null,null,null,null,null,null,null,null,null,null,null,null,null,null,null,null,null,null,null,null,null,null,null,null,null,null,null,null,null,null,null,null,null,null,null,null,null,null,null,"【注意】 この範囲は、処理のために使用しています。"]
[null,null,null,null,null,null,null,null,null,null,null,null,null,null,null,null,null,null,null,null,null,null,null,null,null,null,null,null,null,null,null,null,null,null,null,null,null,null,null,"校 長 検 印",null,null,null,null,null,null,null,null,null,"処理用セル",null,null,null,"土日",null,"祝日",null,"長期休業",null,"学級閉鎖","赤線"]
[null,{"$f":"設定!C47","v":"令和"},null,{"$f":"IF(F3>3,設定!B49,設定!C49)","v":4},"年",1,"月",null,null,{"$f":"IF(設定!H3=\"\",\"\",設定!H3)","v":"みどり学級"},null,null,null,null,null,null,null,null,null,"出　　席　　簿",null,null,null,null,null,null,null,null,null,null,null,{"$f":"設定!C2&\"学校\"","v":"松岡小学校"},null,null,null,null,null,null,"担任名",null,null,{"$f":"設定!H6","v":"永平寺 太郎"},null,null,null,null,null,null,null,"日にちの合成",{"$f":"IF(D3=\"元\",設定!C48,D3+設定!C48-1)&\"/\"&F3&\"/\"&H4","v":"2022/1/1"},{"$f":"WEEKDAY(AY3)","v":7},"日","(1,?)","(2,?)","(3,?)","(4,?)","(5,?)","(6,?)","(7,?)"]
[null,"番号",null,null,null,null,"日",1,2,3,4,5,6,7,8,9,10,11,12,13,14,15,16,17,18,19,20,21,22,23,24,25,26,27,28,29,30,31,"授業日数","出席停止忌引","等の日数","出席しなければ","ならない日数","病気欠席","事故欠席","遅刻回数","早退回数","出席日数",null,"西暦に変換",{"$f":"DATE(YEAR(AY3),MONTH(AY3),DAY(AY3))","v":"2022-01-01"},{"$f":"YEAR(AY3)","v":2022},1,null,null,null,null,null,null,null,{"$f":"BB4-BC4+BD4-BE4+BF4-BG4","v":0}]
[null,null,null,"氏    名",null,null,"曜日",null,null,null,null,null,null,null,null,null,null,null,null,null,null,null,null,null,null,null,null,null,null,null,null,null,null,null,null,null,null,null,null,null,null,null,null,null,null,null,null,null,null,"曜日決定",{"$f":"TEXT(AY4,\"aaa\")","v":"土"},{"$f":"TEXT(AZ3,\"aaa\")","v":"土"},2,null,null,null,null,null,null,null,{"$f":"BB5-BC5+BD5-BE5+BF5-BG5","v":0}]
["〈記号〉出席空欄　病欠／ 事故欠〃 遅刻× 早退○ 忌引キ 出席停止テ",1,{"$f":"IF(VLOOKUP(B6,設定!$K$4:$P$43,$BL$16+2,0)=0,\"\",VLOOKUP(B6,設定!$K$4:$P$43,$BL$16+2,0))","v":"西郷隆盛　１年"},null,null,null,null,null,null,null,null,null,null,null,null,null,null,null,null,null,null,null,null,null,null,null,null,null,null,null,null,null,null,null,null,null,null,null,null,null,null,null,null,null,null,null,null,null,null,"今月の日数",31,null,3,null,null,null,null,null,null,null,0]
[null,2,{"$f":"IF(VLOOKUP(B7,設定!$K$4:$P$43,$BL$16+2,0)=0,\"\",VLOOKUP(B7,設定!$K$4:$P$43,$BL$16+2,0))","v":"伊達政宗　３年"},null,null,null,null,null,null,null,null,null,null,null,null,null,null,null,null,null,null,null,null,null,null,null,null,null,null,null,null,null,null,null,null,null,null,null,null,null,null,null,null,null,null,null,null,null,null,null,null,null,4,null,null,null,null,null,null,null,0,null,null,null,null,"◆休業追加"]
[null,3,{"$f":"IF(VLOOKUP(B8,設定!$K$4:$P$43,$BL$16+2,0)=0,\"\",VLOOKUP(B8,設定!$K$4:$P$43,$BL$16+2,0))","v":"井伊直弼　５年"},null,null,null,null,null,null,null,null,null,null,null,null,null,null,null,null,null,null,null,null,null,null,null,null,null,null,null,null,null,null,null,null,null,null,null,null,null,null,null,null,null,null,null,null,null,null,null,null,null,5,null,null,null,null,null,null,null,0,null,null,null,null,"名称","日"]
[null,4,{"$f":"IF(VLOOKUP(B9,設定!$K$4:$P$43,$BL$16+2,0)=0,\"\",VLOOKUP(B9,設定!$K$4:$P$43,$BL$16+2,0))","v":"桓武天皇　５年"},null,null,null,null,null,null,null,null,null,null,null,null,null,null,null,null,null,null,null,null,null,null,null,null,null,null,null,null,null,null,null,null,null,null,null,null,null,null,null,null,null,null,null,null,null,null,"祝日",{"$f":"IF(設定!B10=\"\",\"\",設定!B10)","v":"2021-04-29"},{"$f":"IF(設定!C10=\"\",\"\",設定!C10)","v":"昭和の日"},6,null,null,null,null,null,null,null,0,null,null,null,null,"学年閉鎖",20]
[null,5,{"$f":"IF(VLOOKUP(B10,設定!$K$4:$P$43,$BL$16+2,0)=0,\"\",VLOOKUP(B10,設定!$K$4:$P$43,$BL$16+2,0))","v":""},null,null,null,null,null,null,null,null,null,null,null,null,null,null,null,null,null,null,null,null,null,null,null,null,null,null,null,null,null,null,null,null,null,null,null,null,null,null,null,null,null,null,null,null,null,null,null,{"$f":"IF(設定!B11=\"\",\"\",設定!B11)","v":"2021-05-03"},{"$f":"IF(設定!C11=\"\",\"\",設定!C11)","v":"憲法記念日"},7,null,null,null,null,null,null,null,0]
[null,6,{"$f":"IF(VLOOKUP(B11,設定!$K$4:$P$43,$BL$16+2,0)=0,\"\",VLOOKUP(B11,設定!$K$4:$P$43,$BL$16+2,0))","v":""},null,null,null,null,null,null,null,null,null,null,null,null,null,null,null,null,null,null,null,null,null,null,null,null,null,null,null,null,null,null,null,null,null,null,null,null,null,null,null,null,null,null,null,null,null,null,null,{"$f":"IF(設定!B12=\"\",\"\",設定!B12)","v":"2021-05-04"},{"$f":"IF(設定!C12=\"\",\"\",設定!C12)","v":"みどりの日"},8,null,null,null,null,null,null,null,0]
[null,7,{"$f":"IF(VLOOKUP(B12,設定!$K$4:$P$43,$BL$16+2,0)=0,\"\",VLOOKUP(B12,設定!$K$4:$P$43,$BL$16+2,0))","v":""},null,null,null,null,null,null,null,null,null,null,null,null,null,null,null,null,null,null,null,null,null,null,null,null,null,null,null,null,null,null,null,null,null,null,null,null,null,null,null,null,null,null,null,null,null,null,null,{"$f":"IF(設定!B13=\"\",\"\",設定!B13)","v":"2021-05-05"},{"$f":"IF(設定!C13=\"\",\"\",設定!C13)","v":"こどもの日"},9,null,null,null,null,null,null,null,0]
[null,8,{"$f":"IF(VLOOKUP(B13,設定!$K$4:$P$43,$BL$16+2,0)=0,\"\",VLOOKUP(B13,設定!$K$4:$P$43,$BL$16+2,0))","v":""},null,null,null,null,null,null,null,null,null,null,null,null,null,null,null,null,null,null,null,null,null,null,null,null,null,null,null,null,null,null,null,null,null,null,null,null,null,null,null,null,null,null,null,null,null,null,null,{"$f":"IF(設定!B14=\"\",\"\",設定!B14)","v":"2021-07-22"},{"$f":"IF(設定!C14=\"\",\"\",設定!C14)","v":"海の日"},10,null,null,null,null,null,null,null,0]
[null,9,{"$f":"IF(VLOOKUP(B14,設定!$K$4:$P$43,$BL$16+2,0)=0,\"\",VLOOKUP(B14,設定!$K$4:$P$43,$BL$16+2,0))","v":""},null,null,null,null,null,null,null,null,null,null,null,null,null,null,null,null,null,null,null,null,null,null,null,null,null,null,null,null,null,null,null,null,null,null,null,null,null,null,null,null,null,null,null,null,null,null,null,{"$f":"IF(設定!B15=\"\",\"\",設定!B15)","v":"2021-07-23"},{"$f":"IF(設定!C15=\"\",\"\",設定!C15)","v":"スポーツの日"},11,null,null,null,null,null,null,null,0]
[null,10,{"$f":"IF(VLOOKUP(B15,設定!$K$4:$P$43,$BL$16+2,0)=0,\"\",VLOOKUP(B15,設定!$K$4:$P$43,$BL$16+2,0))","v":""},null,null,null,null,null,null,null,null,null,null,null,null,null,null,null,null,null,null,null,null,null,null,null,null,null,null,null,null,null,null,null,null,null,null,null,null,null,null,null,null,null,null,null,null,null,null,null,{"$f":"IF(設定!B16=\"\",\"\",設定!B16)","v":"2021-08-08"},{"$f":"IF(設定!C16=\"\",\"\",設定!C16)","v":"山の日"},12,null,null,null,null,null,null,null,0]
[null,11,{"$f":"IF(VLOOKUP(B16,設定!$K$4:$P$43,$BL$16+2,0)=0,\"\",VLOOKUP(B16,設定!$K$4:$P$43,$BL$16+2,0))","v":""},null,null,null,null,null,null,null,null,null,null,null,null,null,null,null,null,null,null,null,null,null,null,null,null,null,null,null,null,null,null,null,null,null,null,null,null,null,null,null,null,null,null,null,null,null,null,null,{"$f":"IF(設定!B17=\"\",\"\",設定!B17)","v":"2021-08-09"},{"$f":"IF(設定!C17=\"\",\"\",設定!C17)","v":"休　　日"},13,null,null,null,null,null,null,null,0,null,"使用名列",0]
[null,12,{"$f":"IF(VLOOKUP(B17,設定!$K$4:$P$43,$BL$16+2,0)=0,\"\",VLOOKUP(B17,設定!$K$4:$P$43,$BL$16+2,0))","v":""},null,null,null,null,null,null,null,null,null,null,null,null,null,null,null,null,null,null,null,null,null,null,null,null,null,null,null,null,null,null,null,null,null,null,null,null,null,null,null,null,null,null,null,null,null,null,null,{"$f":"IF(設定!B18=\"\",\"\",設定!B18)","v":"2021-09-20"},{"$f":"IF(設定!C18=\"\",\"\",設定!C18)","v":"敬老の日"},14,null,null,null,null,null,null,null,0,null,null,null,null,"※「月始め処理」の前に入力"]
[null,13,{"$f":"IF(VLOOKUP(B18,設定!$K$4:$P$43,$BL$16+2,0)=0,\"\",VLOOKUP(B18,設定!$K$4:$P$43,$BL$16+2,0))","v":""},null,null,null,null,null,null,null,null,null,null,null,null,null,null,null,null,null,null,null,null,null,null,null,null,null,null,null,null,null,null,null,null,null,null,null,null,null,null,null,null,null,null,null,null,null,null,null,{"$f":"IF(設定!B19=\"\",\"\",設定!B19)","v":"2021-09-23"},{"$f":"IF(設定!C19=\"\",\"\",設定!C19)","v":"秋分の日"},15,null,null,null,null,null,null,null,0,null,"◆長期休業の文字間隔",null,null,"◆長期休業Ⅰ"]
[null,14,{"$f":"IF(VLOOKUP(B19,設定!$K$4:$P$43,$BL$16+2,0)=0,\"\",VLOOKUP(B19,設定!$K$4:$P$43,$BL$16+2,0))","v":""},null,null,null,null,null,null,null,null,null,null,null,null,null,null,null,null,null,null,null,null,null,null,null,null,null,null,null,null,null,null,null,null,null,null,null,null,null,null,null,null,null,null,null,null,null,null,null,{"$f":"IF(設定!B20=\"\",\"\",設定!B20)","v":"2021-11-03"},{"$f":"IF(設定!C20=\"\",\"\",設定!C20)","v":"文化の日"},16,null,null,null,null,null,null,null,0,null,"やや広く",null,null,"名称","冬季休業"]
[null,15,{"$f":"IF(VLOOKUP(B20,設定!$K$4:$P$43,$BL$16+2,0)=0,\"\",VLOOKUP(B20,設定!$K$4:$P$43,$BL$16+2,0))","v":""},null,null,null,null,null,null,null,null,null,null,null,null,null,null,null,null,null,null,null,null,null,null,null,null,null,null,null,null,null,null,null,null,null,null,null,null,null,null,null,null,null,null,null,null,null,null,null,{"$f":"IF(設定!B21=\"\",\"\",設定!B21)","v":"2021-11-23"},{"$f":"IF(設定!C21=\"\",\"\",設定!C21)","v":"勤労感謝の日"},17,null,null,null,null,null,null,null,0,null,"※長期休業の文字間隔を調節します。祝日との文字の重なりを回避することができます。",null,null,"開始日",1]
[null,16,{"$f":"IF(VLOOKUP(B21,設定!$K$4:$P$43,$BL$16+2,0)=0,\"\",VLOOKUP(B21,設定!$K$4:$P$43,$BL$16+2,0))","v":""},null,null,null,null,null,null,null,null,null,null,null,null,null,null,null,null,null,null,null,null,null,null,null,null,null,null,null,null,null,null,null,null,null,null,null,null,null,null,null,null,null,null,null,null,null,null,null,{"$f":"IF(設定!B22=\"\",\"\",設定!B22)","v":"2022-01-01"},{"$f":"IF(設定!C22=\"\",\"\",設定!C22)","v":"元　　日"},18,null,null,null,null,null,null,null,0,null,null,null,null,"終了日",7]
[null,17,{"$f":"IF(VLOOKUP(B22,設定!$K$4:$P$43,$BL$16+2,0)=0,\"\",VLOOKUP(B22,設定!$K$4:$P$43,$BL$16+2,0))","v":""},null,null,null,null,null,null,null,null,null,null,null,null,null,null,null,null,null,null,null,null,null,null,null,null,null,null,null,null,null,null,null,null,null,null,null,null,null,null,null,null,null,null,null,null,null,null,null,{"$f":"IF(設定!B23=\"\",\"\",設定!B23)","v":"2022-01-10"},{"$f":"IF(設定!C23=\"\",\"\",設定!C23)","v":"成人の日"},19,null,null,null,null,null,null,null,0,null,null,null,null,"◆長期休業Ⅱ"]
[null,18,{"$f":"IF(VLOOKUP(B23,設定!$K$4:$P$43,$BL$16+2,0)=0,\"\",VLOOKUP(B23,設定!$K$4:$P$43,$BL$16+2,0))","v":""},null,null,null,null,null,null,null,null,null,null,null,null,null,null,null,null,null,null,null,null,null,null,null,null,null,null,null,null,null,null,null,null,null,null,null,null,null,null,null,null,null,null,null,null,null,null,null,{"$f":"IF(設定!B24=\"\",\"\",設定!B24)","v":"2022-02-11"},{"$f":"IF(設定!C24=\"\",\"\",設定!C24)","v":"建国記念の日"},20,null,null,null,null,null,null,null,0,null,null,null,null,"名称"]
[null,19,{"$f":"IF(VLOOKUP(B24,設定!$K$4:$P$43,$BL$16+2,0)=0,\"\",VLOOKUP(B24,設定!$K$4:$P$43,$BL$16+2,0))","v":""},null,null,null,null,null,null,null,null,null,null,null,null,null,null,null,null,null,null,null,null,null,null,null,null,null,null,null,null,null,null,null,null,null,null,null,null,null,null,null,null,null,null,null,null,null,null,null,{"$f":"IF(設定!B25=\"\",\"\",設定!B25)","v":"2022-02-23"},{"$f":"IF(設定!C25=\"\",\"\",設定!C25)","v":"天皇誕生日"},21,null,null,null,null,null,null,null,0,null,"◆各処理にて再計算",null,null,"開始日"]
[null,20,{"$f":"IF(VLOOKUP(B25,設定!$K$4:$P$43,$BL$16+2,0)=0,\"\",VLOOKUP(B25,設定!$K$4:$P$43,$BL$16+2,0))","v":""},null,null,null,null,null,null,null,null,null,null,null,null,null,null,null,null,null,null,null,null,null,null,null,null,null,null,null,null,null,null,null,null,null,null,null,null,null,null,null,null,null,null,null,null,null,null,null,{"$f":"IF(設定!B26=\"\",\"\",設定!B26)","v":"2022-03-19"},{"$f":"IF(設定!C26=\"\",\"\",設定!C26)","v":"春分の日"},22,null,null,null,null,null,null,null,0,null,"児童生徒数",{"$f":"AY45","v":4},null,"終了日"]
[null,null,null,null,null,null,null,null,null,null,null,null,null,null,null,null,null,null,null,null,null,null,null,null,null,null,null,null,null,null,null,null,null,null,null,null,null,null,null,null,null,null,null,null,null,null,null,null,null,null,{"$f":"IF(設定!B27=\"\",\"\",設定!B27)","v":""},{"$f":"IF(設定!C27=\"\",\"\",設定!C27)","v":""},23,null,null,null,null,null,null,null,0,null,"授業日数",{"$f":"IF(AY46=\"\",\"\",AY46)","v":""},null,"◆長期休業Ⅲ"]
[null,null,null,null,null,null,null,1,2,3,4,5,6,7,8,9,10,11,12,13,14,15,16,17,18,19,20,21,22,23,24,25,26,27,28,29,30,31,null,null,null,null,null,null,null,null,null,null,null,null,{"$f":"IF(設定!B28=\"\",\"\",設定!B28)","v":""},{"$f":"IF(設定!C28=\"\",\"\",設定!C28)","v":""},24,null,null,null,null,null,null,null,0,null,"出席者数",22,null,"名称"]
["その他教育上特に必要と認めた日タ",21,{"$f":"IF(VLOOKUP(B28,設定!$K$4:$P$43,$BL$16+2,0)=0,\"\",VLOOKUP(B28,設定!$K$4:$P$43,$BL$16+2,0))","v":""},null,null,null,null,null,null,null,null,null,null,null,null,null,null,null,null,null,null,null,null,null,null,null,null,null,null,null,null,null,null,null,null,null,null,null,null,null,null,null,null,null,null,null,null,null,null,null,{"$f":"IF(設定!B29=\"\",\"\",設定!B29)","v":""},{"$f":"IF(設定!C29=\"\",\"\",設定!C29)","v":""},25,null,null,null,null,null,null,null,0,null,"全欠席者数",0,null,"開始日"]
[null,22,{"$f":"IF(VLOOKUP(B29,設定!$K$4:$P$43,$BL$16+2,0)=0,\"\",VLOOKUP(B29,設定!$K$4:$P$43,$BL$16+2,0))","v":""},null,null,null,null,null,null,null,null,null,null,null,null,null,null,null,null,null,null,null,null,null,null,null,null,null,null,null,null,null,null,null,null,null,null,null,null,null,null,null,null,null,null,null,null,null,null,null,{"$f":"IF(設定!B30=\"\",\"\",設定!B30)","v":""},{"$f":"IF(設定!C30=\"\",\"\",設定!C30)","v":""},26,null,null,null,null,null,null,null,0,null,"転入学者数",0,null,"終了日"]
[null,23,{"$f":"IF(VLOOKUP(B30,設定!$K$4:$P$43,$BL$16+2,0)=0,\"\",VLOOKUP(B30,設定!$K$4:$P$43,$BL$16+2,0))","v":""},null,null,null,null,null,null,null,null,null,null,null,null,null,null,null,null,null,null,null,null,null,null,null,null,null,null,null,null,null,null,null,null,null,null,null,null,null,null,null,null,null,null,null,null,null,null,null,{"$f":"IF(設定!B31=\"\",\"\",設定!B31)","v":""},{"$f":"IF(設定!C31=\"\",\"\",設定!C31)","v":""},27,null,null,null,null,null,null,null,0,null,"転学退学者数",0]
[null,24,{"$f":"IF(VLOOKUP(B31,設定!$K$4:$P$43,$BL$16+2,0)=0,\"\",VLOOKUP(B31,設定!$K$4:$P$43,$BL$16+2,0))","v":""},null,null,null,null,null,null,null,null,null,null,null,null,null,null,null,null,null,null,null,null,null,null,null,null,null,null,null,null,null,null,null,null,null,null,null,null,null,null,null,null,null,null,null,null,null,null,null,{"$f":"IF(設定!B32=\"\",\"\",設定!B32)","v":""},{"$f":"IF(設定!C32=\"\",\"\",設定!C32)","v":""},28,null,null,null,null,null,null,null,0]
[null,25,{"$f":"IF(VLOOKUP(B32,設定!$K$4:$P$43,$BL$16+2,0)=0,\"\",VLOOKUP(B32,設定!$K$4:$P$43,$BL$16+2,0))","v":""},null,null,null,null,null,null,null,null,null,null,null,null,null,null,null,null,null,null,null,null,null,null,null,null,null,null,null,null,null,null,null,null,null,null,null,null,null,null,null,null,null,null,null,null,null,null,null,{"$f":"IF(設定!B33=\"\",\"\",設定!B33)","v":""},{"$f":"IF(設定!C33=\"\",\"\",設定!C33)","v":""},29,null,null,null,null,null,null,null,0,null,"◆入力記号"]
[null,26,{"$f":"IF(VLOOKUP(B33,設定!$K$4:$P$43,$BL$16+2,0)=0,\"\",VLOOKUP(B33,設定!$K$4:$P$43,$BL$16+2,0))","v":""},null,null,null,null,null,null,null,null,null,null,null,null,null,null,null,null,null,null,null,null,null,null,null,null,null,null,null,null,null,null,null,null,null,null,null,null,null,null,null,null,null,null,null,null,null,null,null,{"$f":"IF(設定!B34=\"\",\"\",設定!B34)","v":""},{"$f":"IF(設定!C34=\"\",\"\",設定!C34)","v":""},30,null,null,null,null,null,null,null,0,null,"病欠","／"]
[null,27,{"$f":"IF(VLOOKUP(B34,設定!$K$4:$P$43,$BL$16+2,0)=0,\"\",VLOOKUP(B34,設定!$K$4:$P$43,$BL$16+2,0))","v":""},null,null,null,null,null,null,null,null,null,null,null,null,null,null,null,null,null,null,null,null,null,null,null,null,null,null,null,null,null,null,null,null,null,null,null,null,null,null,null,null,null,null,null,null,null,null,null,{"$f":"IF(設定!B35=\"\",\"\",設定!B35)","v":""},{"$f":"IF(設定!C35=\"\",\"\",設定!C35)","v":""},31,null,null,null,null,null,null,null,0,null,"事故欠","〃"]
[null,28,{"$f":"IF(VLOOKUP(B35,設定!$K$4:$P$43,$BL$16+2,0)=0,\"\",VLOOKUP(B35,設定!$K$4:$P$43,$BL$16+2,0))","v":""},null,null,null,null,null,null,null,null,null,null,null,null,null,null,null,null,null,null,null,null,null,null,null,null,null,null,null,null,null,null,null,null,null,null,null,null,null,null,null,null,null,null,null,null,null,null,null,{"$f":"IF(設定!B36=\"\",\"\",設定!B36)","v":""},{"$f":"IF(設定!C36=\"\",\"\",設定!C36)","v":""},null,null,null,null,null,null,null,null,null,null,"遅刻","×"]
[null,29,{"$f":"IF(VLOOKUP(B36,設定!$K$4:$P$43,$BL$16+2,0)=0,\"\",VLOOKUP(B36,設定!$K$4:$P$43,$BL$16+2,0))","v":""},null,null,null,null,null,null,null,null,null,null,null,null,null,null,null,null,null,null,null,null,null,null,null,null,null,null,null,null,null,null,null,null,null,null,null,null,null,null,null,null,null,null,null,null,null,null,null,{"$f":"IF(設定!B37=\"\",\"\",設定!B37)","v":""},{"$f":"IF(設定!C37=\"\",\"\",設定!C37)","v":""},null,31,"data(tu)　その月の日数",null,null,null,null,null,null,null,"早退","○"]
[null,30,{"$f":"IF(VLOOKUP(B37,設定!$K$4:$P$43,$BL$16+2,0)=0,\"\",VLOOKUP(B37,設定!$K$4:$P$43,$BL$16+2,0))","v":""},null,null,null,null,null,null,null,null,null,null,null,null,null,null,null,null,null,null,null,null,null,null,null,null,null,null,null,null,null,null,null,null,null,null,null,null,null,null,null,null,null,null,null,null,null,null,null,{"$f":"IF(設定!B38=\"\",\"\",設定!B38)","v":""},{"$f":"IF(設定!C38=\"\",\"\",設定!C38)","v":""},null,7,"hi　月の長期休業の日数",null,null,null,null,null,null,null,"遅刻・早退","×○"]
[null,31,{"$f":"IF(VLOOKUP(B38,設定!$K$4:$P$43,$BL$16+2,0)=0,\"\",VLOOKUP(B38,設定!$K$4:$P$43,$BL$16+2,0))","v":""},null,null,null,null,null,null,null,null,null,null,null,null,null,null,null,null,null,null,null,null,null,null,null,null,null,null,null,null,null,null,null,null,null,null,null,null,null,null,null,null,null,null,null,null,null,null,null,{"$f":"IF(設定!B39=\"\",\"\",設定!B39)","v":""},{"$f":"IF(設定!C39=\"\",\"\",設定!C39)","v":""},null,2,"hj　月の祝日の日数",null,null,null,null,null,null,null,"忌引","キ"]
[null,32,{"$f":"IF(VLOOKUP(B39,設定!$K$4:$P$43,$BL$16+2,0)=0,\"\",VLOOKUP(B39,設定!$K$4:$P$43,$BL$16+2,0))","v":""},null,null,null,null,null,null,null,null,null,null,null,null,null,null,null,null,null,null,null,null,null,null,null,null,null,null,null,null,null,null,null,null,null,null,null,null,null,null,null,null,null,null,null,null,null,null,null,{"$f":"IF(設定!B40=\"\",\"\",設定!B40)","v":""},{"$f":"IF(設定!C40=\"\",\"\",設定!C40)","v":""},null,8,"hk　月の祝日ではない土日の数",null,null,null,null,null,null,null,"出席停止","テ"]
[null,33,{"$f":"IF(VLOOKUP(B40,設定!$K$4:$P$43,$BL$16+2,0)=0,\"\",VLOOKUP(B40,設定!$K$4:$P$43,$BL$16+2,0))","v":""},null,null,null,null,null,null,null,null,null,null,null,null,null,null,null,null,null,null,null,null,null,null,null,null,null,null,null,null,null,null,null,null,null,null,null,null,null,null,null,null,null,null,null,null,null,null,null,{"$f":"IF(設定!B41=\"\",\"\",設定!B41)","v":""},{"$f":"IF(設定!C41=\"\",\"\",設定!C41)","v":""},null,1,"hl　長期休業で祝日と重複する数",null,null,null,null,null,null,null,"その他","タ"]
[null,34,{"$f":"IF(VLOOKUP(B41,設定!$K$4:$P$43,$BL$16+2,0)=0,\"\",VLOOKUP(B41,設定!$K$4:$P$43,$BL$16+2,0))","v":""},null,null,null,null,null,null,null,null,null,null,null,null,null,null,null,null,null,null,null,null,null,null,null,null,null,null,null,null,null,null,null,null,null,null,null,null,null,null,null,null,null,null,null,null,null,null,null,{"$f":"IF(設定!B42=\"\",\"\",設定!B42)","v":""},{"$f":"IF(設定!C42=\"\",\"\",設定!C42)","v":""},null,0,"so　卒業式後の日数",null,null,null,null,null,null,null,"転手転確転入","◎"]
[null,35,{"$f":"IF(VLOOKUP(B42,設定!$K$4:$P$43,$BL$16+2,0)=0,\"\",VLOOKUP(B42,設定!$K$4:$P$43,$BL$16+2,0))","v":""},null,null,null,null,null,null,null,null,null,null,null,null,null,null,null,null,null,null,null,null,null,null,null,null,null,null,null,null,null,null,null,null,null,null,null,null,null,null,null,null,null,null,null,null,null,null,null,{"$f":"IF(設定!B43=\"\",\"\",設定!B43)","v":""},{"$f":"IF(設定!C43=\"\",\"\",設定!C43)","v":""},null,0,"gh　学級閉鎖の日数"]
[null,36,{"$f":"IF(VLOOKUP(B43,設定!$K$4:$P$43,$BL$16+2,0)=0,\"\",VLOOKUP(B43,設定!$K$4:$P$43,$BL$16+2,0))","v":""},null,null,null,null,null,null,null,null,null,null,null,null,null,null,null,null,null,null,null,null,null,null,null,null,null,null,null,null,null,null,null,null,null,null,null,null,null,null,null,null,null,null,null,null,null,null,null,{"$f":"IF(設定!B44=\"\",\"\",設定!B44)","v":""},{"$f":"IF(設定!C44=\"\",\"\",設定!C44)","v":""},null,null,null,null,null,null,null,null,null,null,"※転出入については、集計欄の自動計算には対応していません。「月末処理」の後、手動にて修正をしてください。"]
[null,37,{"$f":"IF(VLOOKUP(B44,設定!$K$4:$P$43,$BL$16+2,0)=0,\"\",VLOOKUP(B44,設定!$K$4:$P$43,$BL$16+2,0))","v":""}]
[null,38,{"$f":"IF(VLOOKUP(B45,設定!$K$4:$P$43,$BL$16+2,0)=0,\"\",VLOOKUP(B45,設定!$K$4:$P$43,$BL$16+2,0))","v":""},null,null,null,null,null,null,null,null,null,null,null,null,null,null,null,null,null,null,null,null,null,null,null,null,null,null,null,null,null,null,null,null,null,null,null,null,null,null,null,null,null,null,null,null,null,null,"児童生徒数",{"$f":"40-BB45-BC45","v":4},null,null,{"$f":"COUNTIF(C6:C25,\"\")","v":16},{"$f":"COUNTIF(C28:C47,\"\")","v":20},"児童生徒欄の空白セル"]
[null,39,{"$f":"IF(VLOOKUP(B46,設定!$K$4:$P$43,$BL$16+2,0)=0,\"\",VLOOKUP(B46,設定!$K$4:$P$43,$BL$16+2,0))","v":""},null,null,null,null,null,null,null,null,null,null,null,null,null,null,null,null,null,null,null,null,null,null,null,null,null,null,null,null,null,null,null,null,null,null,null,null,null,null,null,null,null,null,null,null,null,null,"授業日数",null,"←月始め処理で授業日数が入力される"]
[null,40,{"$f":"IF(VLOOKUP(B47,設定!$K$4:$P$43,$BL$16+2,0)=0,\"\",VLOOKUP(B47,設定!$K$4:$P$43,$BL$16+2,0))","v":""},null,null,null,null,null,null,null,null,null,null,null,null,null,null,null,null,null,null,null,null,null,null,null,null,null,null,null,null,null,null,null,null,null,null,null,null,null,null,null,null,null,null,null,null,null,null,"出席者数",22,"←月末処理で入力される",null,"出席日数0のカウント"]
[null,"計","出  席  者  数",null,null,null,null,null,null,null,null,null,null,null,null,null,null,null,null,null,null,null,null,null,null,null,null,null,null,null,null,null,null,null,null,null,null,null,null,null,null,null,null,null,null,null,null,null,null,"全欠席者数",{"$f":"SUM(BH53:BH92)","v":0},"←月末処理で入力される",null,{"$f":"COUNTIF(AV6:AV25,0)","v":0},{"$f":"COUNTIF(AV28:AV47,0)","v":0},{"$f":"BB48+BC48","v":0}]
[null,null,"欠  席  者  数",null,null,null,null,null,null,null,null,null,null,null,null,null,null,null,null,null,null,null,null,null,null,null,null,null,null,null,null,null,null,null,null,null,null,null,null,null,null,null,null,null,null,null,null,null,null,"転入学者数",0,"←月末処理で入力される"]
[null,"授業","日数",null,null,null,null,"在籍","者数",null,null,null,null,null,null,"出席","者数",null,null,null,null,null,null,"全欠席","者　数",null,null,null,null,null,null,null,"転入学","者　数",null,null,null,null,null,"転学退",null,"学者数",null,null,null,null,null,null,null,"転学退学者数",0,"←月末処理で入力される"]
[]
[null,null,null,null,null,null,null,null,null,null,null,null,null,null,null,null,null,null,null,null,null,null,null,null,null,null,null,null,null,null,null,null,null,null,null,null,null,null,null,null,null,null,null,null,null,null,null,null,null,"長期休業間隔",{"$f":"IF(BK19=\"狭く\",9,IF(BK19=\"やや狭く\",8,IF(BK19=\"やや広く\",6,IF(BK19=\"広く\",5,7))))","v":6},null,"長期休業間隔",null,"標準",null,null,null,"全欠処理"]
[null,null,null,null,null,null,null,null,null,null,null,null,null,null,null,null,null,null,null,null,null,null,null,null,null,null,null,null,null,null,null,null,null,null,null,null,null,null,null,null,null,null,null,null,null,null,null,null,null,"長期休業処理",null,null,null,null,"狭く",null,null,null,1,{"$f":"IF(AV6<>\"\",IF(AM6-AR6-AS6=0,1,0),0)","v":0}]
[null,null,null,null,null,null,null,null,null,null,null,null,null,null,null,null,null,null,null,null,null,null,null,null,null,null,null,null,null,null,null,null,null,null,null,null,null,null,null,null,null,null,null,null,null,null,null,null,null,"長期休業Ⅰ",{"$f":"BO19","v":"冬季休業"},null,null,null,"やや狭く",null,null,null,2,{"$f":"IF(AV7<>\"\",IF(AM7-AR7-AS7=0,1,0),0)","v":0}]
[null,null,null,null,null,null,null,null,null,null,null,null,null,null,null,null,null,null,null,null,null,null,null,null,null,null,null,null,null,null,null,null,null,null,null,null,null,null,null,null,null,null,null,null,null,null,null,null,null,null,{"$f":"BO20","v":1},null,null,null,"やや広く",null,null,null,3,0]
[null,null,null,null,null,null,null,null,null,null,null,null,null,null,null,null,null,null,null,null,null,null,null,null,null,null,null,null,null,null,null,null,null,null,null,null,null,null,null,null,null,null,null,null,null,null,null,null,null,null,{"$f":"BO21","v":7},null,null,null,{"$f":"IF(F3=4,\"\",IF(F3=3,\"\",\"広く\"))","v":"広く"},null,null,null,4,0]
[null,null,null,null,null,null,null,null,null,null,null,null,null,null,null,null,null,null,null,null,null,null,null,null,null,null,null,null,null,null,null,null,null,null,null,null,null,null,null,null,null,null,null,null,null,null,null,null,null,"長期休業Ⅱ",{"$f":"BO23","v":0},null,null,null,null,null,null,null,5,0]
[null,null,null,null,null,null,null,null,null,null,null,null,null,null,null,null,null,null,null,null,null,null,null,null,null,null,null,null,null,null,null,null,null,null,null,null,null,null,null,null,null,null,null,null,null,null,null,null,null,null,{"$f":"BO24","v":0},null,null,null,null,null,null,null,6,0]
[null,null,null,null,null,null,null,null,null,null,null,null,null,null,null,null,null,null,null,null,null,null,null,null,null,null,null,null,null,null,null,null,null,null,null,null,null,null,null,null,null,null,null,null,null,null,null,null,null,null,{"$f":"BO25","v":0},null,null,null,null,null,null,null,7,0]
[null,null,null,null,null,null,null,null,null,null,null,null,null,null,null,null,null,null,null,null,null,null,null,null,null,null,null,null,null,null,null,null,null,null,null,null,null,null,null,null,null,null,null,null,null,null,null,null,null,"長期休業Ⅲ",{"$f":"BO27","v":0},null,null,null,null,null,null,null,8,0]
[null,null,null,null,null,null,null,null,null,null,null,null,null,null,null,null,null,null,null,null,null,null,null,null,null,null,null,null,null,null,null,null,null,null,null,null,null,null,null,null,null,null,null,null,null,null,null,null,null,null,{"$f":"BO28","v":0},null,null,null,null,null,null,null,9,0]
[null,null,null,null,null,null,null,null,null,null,null,null,null,null,null,null,null,null,null,null,null,null,null,null,null,null,null,null,null,null,null,null,null,null,null,null,null,null,null,null,null,null,null,null,null,null,null,null,null,null,{"$f":"BO29","v":0},null,null,null,null,null,null,null,10,0]
[null,null,null,null,null,null,null,null,null,null,null,null,null,null,null,null,null,null,null,null,null,null,null,null,null,null,null,null,null,null,null,null,null,null,null,null,null,null,null,null,null,null,null,null,null,null,null,null,null,null,{"$f":"MAX(AY55,AY58,AY61)","v":1},null,null,null,null,null,null,null,11,0]
[null,null,null,null,null,null,null,null,null,null,null,null,null,null,null,null,null,null,null,null,null,null,null,null,null,null,null,null,null,null,null,null,null,null,null,null,null,null,null,null,null,null,null,null,null,null,null,null,null,null,null,null,null,null,null,null,null,null,12,0]
[null,null,null,null,null,null,null,null,null,null,null,null,null,null,null,null,null,null,null,null,null,null,null,null,null,null,null,null,null,null,null,null,null,null,null,null,null,null,null,null,null,null,null,null,null,null,null,null,null,null,null,null,null,null,null,null,null,null,13,0]
[null,null,null,null,null,null,null,null,null,null,null,null,null,null,null,null,null,null,null,null,null,null,null,null,null,null,null,null,null,null,null,null,null,null,null,null,null,null,null,null,null,null,null,null,null,null,null,null,null,null,null,null,null,null,null,null,null,null,14,0]
[null,null,null,null,null,null,null,null,null,null,null,null,null,null,null,null,null,null,null,null,null,null,null,null,null,null,null,null,null,null,null,null,null,null,null,null,null,null,null,null,null,null,null,null,null,null,null,null,null,null,null,null,null,null,null,null,null,null,15,0]
[null,null,null,null,null,null,null,null,null,null,null,null,null,null,null,null,null,null,null,null,null,null,null,null,null,null,null,null,null,null,null,null,null,null,null,null,null,null,null,null,null,null,null,null,null,null,null,null,null,null,null,null,null,null,null,null,null,null,16,0]
[null,null,null,null,null,null,null,null,null,null,null,null,null,null,null,null,null,null,null,null,null,null,null,null,null,null,null,null,null,null,null,null,null,null,null,null,null,null,null,null,null,null,null,null,null,null,null,null,null,"入力規則","／",null,null,null,null,null,null,null,17,0]
[null,null,null,null,null,null,null,null,null,null,null,null,null,null,null,null,null,null,null,null,null,null,null,null,null,null,null,null,null,null,null,null,null,null,null,null,null,null,null,null,null,null,null,null,null,null,null,null,null,null,"〃",null,null,null,null,null,null,null,18,0]
[null,null,null,null,null,null,null,null,null,null,null,null,null,null,null,null,null,null,null,null,null,null,null,null,null,null,null,null,null,null,null,null,null,null,null,null,null,null,null,null,null,null,null,null,null,null,null,null,null,null,"×",null,null,null,null,null,null,null,19,0]
[null,null,null,null,null,null,null,null,null,null,null,null,null,null,null,null,null,null,null,null,null,null,null,null,null,null,null,null,null,null,null,null,null,null,null,null,null,null,null,null,null,null,null,null,null,null,null,null,null,null,"○",null,null,null,null,null,null,null,20,0]
[null,null,null,null,null,null,null,null,null,null,null,null,null,null,null,null,null,null,null,null,null,null,null,null,null,null,null,null,null,null,null,null,null,null,null,null,null,null,null,null,null,null,null,null,null,null,null,null,null,null,"×○",null,null,null,null,null,null,null,21,{"$f":"IF(AV28<>\"\",IF(AM28-AR28-AS28=0,1,0),0)","v":0}]
[null,null,null,null,null,null,null,null,null,null,null,null,null,null,null,null,null,null,null,null,null,null,null,null,null,null,null,null,null,null,null,null,null,null,null,null,null,null,null,null,null,null,null,null,null,null,null,null,null,null,"キ",null,null,null,null,null,null,null,22,{"$f":"IF(AV29<>\"\",IF(AM29-AR29-AS29=0,1,0),0)","v":0}]
[null,null,null,null,null,null,null,null,null,null,null,null,null,null,null,null,null,null,null,null,null,null,null,null,null,null,null,null,null,null,null,null,null,null,null,null,null,null,null,null,null,null,null,null,null,null,null,null,null,null,"テ",null,null,null,null,null,null,null,23,0]
[null,null,null,null,null,null,null,null,null,null,null,null,null,null,null,null,null,null,null,null,null,null,null,null,null,null,null,null,null,null,null,null,null,null,null,null,null,null,null,null,null,null,null,null,null,null,null,null,null,null,"タ",null,null,null,null,null,null,null,24,0]
[null,null,null,null,null,null,null,null,null,null,null,null,null,null,null,null,null,null,null,null,null,null,null,null,null,null,null,null,null,null,null,null,null,null,null,null,null,null,null,null,null,null,null,null,null,null,null,null,null,null,"◎",null,null,null,null,null,null,null,25,0]
[null,null,null,null,null,null,null,null,null,null,null,null,null,null,null,null,null,null,null,null,null,null,null,null,null,null,null,null,null,null,null,null,null,null,null,null,null,null,null,null,null,null,null,null,null,null,null,null,null,null,null,null,null,null,null,null,null,null,26,0]
[null,null,null,null,null,null,null,null,null,null,null,null,null,null,null,null,null,null,null,null,null,null,null,null,null,null,null,null,null,null,null,null,null,null,null,null,null,null,null,null,null,null,null,null,null,null,null,null,null,null,null,null,null,null,null,null,null,null,27,0]
[null,null,null,null,null,null,null,null,null,null,null,null,null,null,null,null,null,null,null,null,null,null,null,null,null,null,null,null,null,null,null,null,null,null,null,null,null,null,null,null,null,null,null,null,null,null,null,null,null,null,null,null,null,null,null,null,null,null,28,0]
[null,null,null,null,null,null,null,null,null,null,null,null,null,null,null,null,null,null,null,null,null,null,null,null,null,null,null,null,null,null,null,null,null,null,null,null,null,null,null,null,null,null,null,null,null,null,null,null,null,null,null,null,null,null,null,null,null,null,29,0]
[null,null,null,null,null,null,null,null,null,null,null,null,null,null,null,null,null,null,null,null,null,null,null,null,null,null,null,null,null,null,null,null,null,null,null,null,null,null,null,null,null,null,null,null,null,null,null,null,null,null,null,null,null,null,null,null,null,null,30,0]
[null,null,null,null,null,null,null,null,null,null,null,null,null,null,null,null,null,null,null,null,null,null,null,null,null,null,null,null,null,null,null,null,null,null,null,null,null,null,null,null,null,null,null,null,null,null,null,null,null,null,null,null,null,null,null,null,null,null,31,0]
[null,null,null,null,null,null,null,null,null,null,null,null,null,null,null,null,null,null,null,null,null,null,null,null,null,null,null,null,null,null,null,null,null,null,null,null,null,null,null,null,null,null,null,null,null,null,null,null,null,"追加休業","臨時休業",null,null,null,null,null,null,null,32,0]
[null,null,null,null,null,null,null,null,null,null,null,null,null,null,null,null,null,null,null,null,null,null,null,null,null,null,null,null,null,null,null,null,null,null,null,null,null,null,null,null,null,null,null,null,null,null,null,null,null,null,"学年閉鎖",null,null,null,null,null,null,null,33,0]
[null,null,null,null,null,null,null,null,null,null,null,null,null,null,null,null,null,null,null,null,null,null,null,null,null,null,null,null,null,null,null,null,null,null,null,null,null,null,null,null,null,null,null,null,null,null,null,null,null,null,"学級閉鎖",null,null,null,null,null,null,null,34,0]
[null,null,null,null,null,null,null,null,null,null,null,null,null,null,null,null,null,null,null,null,null,null,null,null,null,null,null,null,null,null,null,null,null,null,null,null,null,null,null,null,null,null,null,null,null,null,null,null,null,null,null,null,null,null,null,null,null,null,35,0]
[null,null,null,null,null,null,null,null,null,null,null,null,null,null,null,null,null,null,null,null,null,null,null,null,null,null,null,null,null,null,null,null,null,null,null,null,null,null,null,null,null,null,null,null,null,null,null,null,null,null,null,null,null,null,null,null,null,null,36,0]
[null,null,null,null,null,null,null,null,null,null,null,null,null,null,null,null,null,null,null,null,null,null,null,null,null,null,null,null,null,null,null,null,null,null,null,null,null,null,null,null,null,null,null,null,null,null,null,null,null,null,null,null,null,null,null,null,null,null,37,0]
[null,null,null,null,null,null,null,null,null,null,null,null,null,null,null,null,null,null,null,null,null,null,null,null,null,null,null,null,null,null,null,null,null,null,null,null,null,null,null,null,null,null,null,null,null,null,null,null,null,"長期休業","学年始休業",null,null,null,null,null,null,null,38,0]
[null,null,null,null,null,null,null,null,null,null,null,null,null,null,null,null,null,null,null,null,null,null,null,null,null,null,null,null,null,null,null,null,null,null,null,null,null,null,null,null,null,null,null,null,null,null,null,null,null,null,"夏季休業",null,null,null,null,null,null,null,39,0]
[null,null,null,null,null,null,null,null,null,null,null,null,null,null,null,null,null,null,null,null,null,null,null,null,null,null,null,null,null,null,null,null,null,null,null,null,null,null,null,null,null,null,null,null,null,null,null,null,null,null,"秋季休業",null,null,null,null,null,null,null,40,{"$f":"IF(AV47<>\"\",IF(AM47-AR47-AS47=0,1,0),0)","v":0}]
[null,null,null,null,null,null,null,null,null,null,null,null,null,null,null,null,null,null,null,null,null,null,null,null,null,null,null,null,null,null,null,null,null,null,null,null,null,null,null,null,null,null,null,null,null,null,null,null,null,null,"冬季休業"]
[null,null,null,null,null,null,null,null,null,null,null,null,null,null,null,null,null,null,null,null,null,null,null,null,null,null,null,null,null,null,null,null,null,null,null,null,null,null,null,null,null,null,null,null,null,null,null,null,null,null,"学年末休業"]
[null,null,null,null,null,null,null,null,null,null,null,null,null,null,null,null,null,null,null,null,null,null,null,null,null,null,null,null,null,null,null,null,null,null,null,null,null,null,null,null,null,null,null,null,null,null,null,null,null,null,"臨時休業"]
[null,null,null,null,null,null,null,null,null,null,null,null,null,null,null,null,null,null,null,null,null,null,null,null,null,null,null,null,null,null,null,null,null,null,null,null,null,null,null,null,null,null,null,null,null,null,null,null,null,null,"学年閉鎖"]

{"sheet":"2月","index":12,"n_rows":96,"n_cols":67,"rows_kept":96,"cut":false,"hidden":false,"merged":[[49,41,49,42],[49,44,49,46],[51,52,51,53],[49,4,49,5],[49,10,49,13],[49,18,49,21],[49,26,49,30],[49,35,49,37],[49,39,49,40],[46,2,46,6],[46,39,46,40],[46,41,46,42],[47,1,48,1],[47,2,47,6],[47,39,47,40],[47,41,47,42],[48,2,48,6],[48,39,48,40],[48,41,48,42],[42,62,45,63],[43,2,43,6],[43,39,43,40],[43,41,43,42],[44,2,44,6],[44,39,44,40],[44,41,44,42],[45,2,45,6],[45,39,45,40],[45,41,45,42],[41,2,41,6],[41,39,41,40],[41,41,41,42],[42,2,42,6],[42,39,42,40],[42,41,42,42],[39,2,39,6],[39,39,39,40],[39,41,39,42],[40,2,40,6],[40,39,40,40],[40,41,40,42],[37,2,37,6],[37,39,37,40],[37,41,37,42],[38,2,38,6],[38,39,38,40],[38,41,38,42],[35,2,35,6],[35,39,35,40],[35,41,35,42],[36,2,36,6],[36,39,36,40],[36,41,36,42],[33,2,33,6],[33,39,33,40],[33,41,33,42],[34,2,34,6],[34,39,34,40],[34,41,34,42],[31,2,31,6],[31,39,31,40],[31,41,31,42],[32,2,32,6],[32,39,32,40],[32,41,32,42],[28,41,28,42],[29,2,29,6],[29,39,29,40],[29,41,29,42],[30,2,30,6],[30,39,30,40],[30,41,30,42],[25,39,25,40],[25,41,25,42],[26,39,26,40],[26,41,26,42],[22,2,22,6],[22,39,22,40],[22,41,22,42],[18,2,18,6],[18,39,18,40],[18,41,18,42],[27,0,37,0],[27,2,27,6],[27,39,27,40],[27,41,27,42],[28,2,28,6],[28,39,28,40],[23,2,23,6],[23,39,23,40],[23,41,23,42],[24,2,24,6],[24,39,24,40],[24,41,24,42],[5,0,24,0],[5,2,5,6],[5,39,5,40],[5,41,5,42],[6,2,6,6],[6,39,6,40],[10,2,10,6],[10,39,10,40],[10,41,10,42],[11,2,11,6],[11,39,11,40],[11,41,11,42],[8,2,8,6],[18,62,18,63],[19,2,19,6],[19,39,19,40],[19,41,19,42],[19,62,21,63],[20,2,20,6],[20,39,20,40],[16,2,16,6],[16,39,16,40],[16,41,16,42],[17,2,17,6],[17,39,17,40],[17,41,17,42],[20,41,20,42],[21,2,21,6],[21,39,21,40],[21,41,21,42],[14,2,14,6],[14,39,14,40],[14,41,14,42],[15,2,15,6],[15,39,15,40],[15,41,15,42],[12,2,12,6],[12,39,12,40],[12,41,12,42],[13,2,13,6],[13,39,13,40],[13,41,13,42],[8,39,8,40],[8,41,8,42],[9,2,9,6],[9,39,9,40],[9,41,9,42],[3,1,4,1],[3,38,4,38],[3,39,4,39],[3,40,4,40],[3,41,4,41],[6,41,6,42],[7,2,7,6],[7,39,7,40],[7,41,7,42],[0,49,0,60],[1,39,1,44],[1,53,1,54],[1,55,1,56],[1,57,1,58],[2,1,2,2],[3,42,4,42],[3,43,4,43],[3,44,4,44],[3,45,4,45],[3,46,4,46],[3,47,4,47],[2,19,2,27],[2,31,2,36],[2,38,2,40],[2,41,2,46],[2,9,2,14]]}
[null,null,null,null,null,null,null,null,null,null,null,null,null,null,null,null,null,null,null,null,null,null,null,null,null,null,null,null,null,null,null,null,null,null,null,null,null,null,null,null,null,null,null,null,null,null,null,null,null,"【注意】 この範囲は、処理のために使用しています。"]
[null,null,null,null,null,null,null,null,null,null,null,null,null,null,null,null,null,null,null,null,null,null,null,null,null,null,null,null,null,null,null,null,null,null,null,null,null,null,null,"校 長 検 印",null,null,null,null,null,null,null,null,null,"処理用セル",null,null,null,"土日",null,"祝日",null,"長期休業",null,"学級閉鎖","赤線"]
[null,{"$f":"設定!C47","v":"令和"},null,{"$f":"IF(F3>3,設定!B49,設定!C49)","v":4},"年",2,"月",null,null,{"$f":"IF(設定!H3=\"\",\"\",設定!H3)","v":"みどり学級"},null,null,null,null,null,null,null,null,null,"出　　席　　簿",null,null,null,null,null,null,null,null,null,null,null,{"$f":"設定!C2&\"学校\"","v":"松岡小学校"},null,null,null,null,null,null,"担任名",null,null,{"$f":"設定!H6","v":"永平寺 太郎"},null,null,null,null,null,null,null,"日にちの合成",{"$f":"IF(D3=\"元\",設定!C48,D3+設定!C48-1)&\"/\"&F3&\"/\"&H4","v":"2022/2/1"},{"$f":"WEEKDAY(AY3)","v":3},"日","(1,?)","(2,?)","(3,?)","(4,?)","(5,?)","(6,?)","(7,?)"]
[null,"番号",null,null,null,null,"日",1,2,3,4,5,6,7,8,9,10,11,12,13,14,15,16,17,18,19,20,21,22,23,24,25,26,27,28,29,30,31,"授業日数","出席停止忌引","等の日数","出席しなければ","ならない日数","病気欠席","事故欠席","遅刻回数","早退回数","出席日数",null,"西暦に変換",{"$f":"DATE(YEAR(AY3),MONTH(AY3),DAY(AY3))","v":"2022-02-01"},{"$f":"YEAR(AY3)","v":2022},1,null,null,null,null,null,null,null,{"$f":"BB4-BC4+BD4-BE4+BF4-BG4","v":0}]
[null,null,null,"氏    名",null,null,"曜日",null,null,null,null,null,null,null,null,null,null,null,null,null,null,null,null,null,null,null,null,null,null,null,null,null,null,null,null,null,null,null,null,null,null,null,null,null,null,null,null,null,null,"曜日決定",{"$f":"TEXT(AY4,\"aaa\")","v":"火"},{"$f":"TEXT(AZ3,\"aaa\")","v":"火"},2,null,null,null,null,null,null,null,{"$f":"BB5-BC5+BD5-BE5+BF5-BG5","v":0}]
["〈記号〉出席空欄　病欠／ 事故欠〃 遅刻× 早退○ 忌引キ 出席停止テ",1,{"$f":"IF(VLOOKUP(B6,設定!$K$4:$P$43,$BL$16+2,0)=0,\"\",VLOOKUP(B6,設定!$K$4:$P$43,$BL$16+2,0))","v":"西郷隆盛　１年"},null,null,null,null,null,null,null,null,null,null,null,null,null,null,null,null,null,null,null,null,null,null,null,null,null,null,null,null,null,null,null,null,null,null,null,null,null,null,null,null,null,null,null,null,null,null,"今月の日数",28,null,3,null,null,null,null,null,null,null,0]
[null,2,{"$f":"IF(VLOOKUP(B7,設定!$K$4:$P$43,$BL$16+2,0)=0,\"\",VLOOKUP(B7,設定!$K$4:$P$43,$BL$16+2,0))","v":"伊達政宗　３年"},null,null,null,null,null,null,null,null,null,null,null,null,null,null,null,null,null,null,null,null,null,null,null,null,null,null,null,null,null,null,null,null,null,null,null,null,null,null,null,null,null,null,null,null,null,null,null,null,null,4,null,null,null,null,null,null,null,0,null,null,null,null,"◆休業追加"]
[null,3,{"$f":"IF(VLOOKUP(B8,設定!$K$4:$P$43,$BL$16+2,0)=0,\"\",VLOOKUP(B8,設定!$K$4:$P$43,$BL$16+2,0))","v":"井伊直弼　５年"},null,null,null,null,null,null,null,null,null,null,null,null,null,null,null,null,null,null,null,null,null,null,null,null,null,null,null,null,null,null,null,null,null,null,null,null,null,null,null,null,null,null,null,null,null,null,null,null,null,5,null,null,null,null,null,null,null,0,null,null,null,null,"名称","日"]
[null,4,{"$f":"IF(VLOOKUP(B9,設定!$K$4:$P$43,$BL$16+2,0)=0,\"\",VLOOKUP(B9,設定!$K$4:$P$43,$BL$16+2,0))","v":"桓武天皇　５年"},null,null,null,null,null,null,null,null,null,null,null,null,null,null,null,null,null,null,null,null,null,null,null,null,null,null,null,null,null,null,null,null,null,null,null,null,null,null,null,null,null,null,null,null,null,null,"祝日",{"$f":"IF(設定!B10=\"\",\"\",設定!B10)","v":"2021-04-29"},{"$f":"IF(設定!C10=\"\",\"\",設定!C10)","v":"昭和の日"},6,null,null,null,null,null,null,null,0,null,null,null,null,"学年閉鎖",20]
[null,5,{"$f":"IF(VLOOKUP(B10,設定!$K$4:$P$43,$BL$16+2,0)=0,\"\",VLOOKUP(B10,設定!$K$4:$P$43,$BL$16+2,0))","v":""},null,null,null,null,null,null,null,null,null,null,null,null,null,null,null,null,null,null,null,null,null,null,null,null,null,null,null,null,null,null,null,null,null,null,null,null,null,null,null,null,null,null,null,null,null,null,null,{"$f":"IF(設定!B11=\"\",\"\",設定!B11)","v":"2021-05-03"},{"$f":"IF(設定!C11=\"\",\"\",設定!C11)","v":"憲法記念日"},7,null,null,null,null,null,null,null,0]
[null,6,{"$f":"IF(VLOOKUP(B11,設定!$K$4:$P$43,$BL$16+2,0)=0,\"\",VLOOKUP(B11,設定!$K$4:$P$43,$BL$16+2,0))","v":""},null,null,null,null,null,null,null,null,null,null,null,null,null,null,null,null,null,null,null,null,null,null,null,null,null,null,null,null,null,null,null,null,null,null,null,null,null,null,null,null,null,null,null,null,null,null,null,{"$f":"IF(設定!B12=\"\",\"\",設定!B12)","v":"2021-05-04"},{"$f":"IF(設定!C12=\"\",\"\",設定!C12)","v":"みどりの日"},8,null,null,null,null,null,null,null,0]
[null,7,{"$f":"IF(VLOOKUP(B12,設定!$K$4:$P$43,$BL$16+2,0)=0,\"\",VLOOKUP(B12,設定!$K$4:$P$43,$BL$16+2,0))","v":""},null,null,null,null,null,null,null,null,null,null,null,null,null,null,null,null,null,null,null,null,null,null,null,null,null,null,null,null,null,null,null,null,null,null,null,null,null,null,null,null,null,null,null,null,null,null,null,{"$f":"IF(設定!B13=\"\",\"\",設定!B13)","v":"2021-05-05"},{"$f":"IF(設定!C13=\"\",\"\",設定!C13)","v":"こどもの日"},9,null,null,null,null,null,null,null,0]
[null,8,{"$f":"IF(VLOOKUP(B13,設定!$K$4:$P$43,$BL$16+2,0)=0,\"\",VLOOKUP(B13,設定!$K$4:$P$43,$BL$16+2,0))","v":""},null,null,null,null,null,null,null,null,null,null,null,null,null,null,null,null,null,null,null,null,null,null,null,null,null,null,null,null,null,null,null,null,null,null,null,null,null,null,null,null,null,null,null,null,null,null,null,{"$f":"IF(設定!B14=\"\",\"\",設定!B14)","v":"2021-07-22"},{"$f":"IF(設定!C14=\"\",\"\",設定!C14)","v":"海の日"},10,null,null,null,null,null,null,null,0]
[null,9,{"$f":"IF(VLOOKUP(B14,設定!$K$4:$P$43,$BL$16+2,0)=0,\"\",VLOOKUP(B14,設定!$K$4:$P$43,$BL$16+2,0))","v":""},null,null,null,null,null,null,null,null,null,null,null,null,null,null,null,null,null,null,null,null,null,null,null,null,null,null,null,null,null,null,null,null,null,null,null,null,null,null,null,null,null,null,null,null,null,null,null,{"$f":"IF(設定!B15=\"\",\"\",設定!B15)","v":"2021-07-23"},{"$f":"IF(設定!C15=\"\",\"\",設定!C15)","v":"スポーツの日"},11,null,null,null,null,null,null,null,0]
[null,10,{"$f":"IF(VLOOKUP(B15,設定!$K$4:$P$43,$BL$16+2,0)=0,\"\",VLOOKUP(B15,設定!$K$4:$P$43,$BL$16+2,0))","v":""},null,null,null,null,null,null,null,null,null,null,null,null,null,null,null,null,null,null,null,null,null,null,null,null,null,null,null,null,null,null,null,null,null,null,null,null,null,null,null,null,null,null,null,null,null,null,null,{"$f":"IF(設定!B16=\"\",\"\",設定!B16)","v":"2021-08-08"},{"$f":"IF(設定!C16=\"\",\"\",設定!C16)","v":"山の日"},12,null,null,null,null,null,null,null,0]
[null,11,{"$f":"IF(VLOOKUP(B16,設定!$K$4:$P$43,$BL$16+2,0)=0,\"\",VLOOKUP(B16,設定!$K$4:$P$43,$BL$16+2,0))","v":""},null,null,null,null,null,null,null,null,null,null,null,null,null,null,null,null,null,null,null,null,null,null,null,null,null,null,null,null,null,null,null,null,null,null,null,null,null,null,null,null,null,null,null,null,null,null,null,{"$f":"IF(設定!B17=\"\",\"\",設定!B17)","v":"2021-08-09"},{"$f":"IF(設定!C17=\"\",\"\",設定!C17)","v":"休　　日"},13,null,null,null,null,null,null,null,0,null,"使用名列",0]
[null,12,{"$f":"IF(VLOOKUP(B17,設定!$K$4:$P$43,$BL$16+2,0)=0,\"\",VLOOKUP(B17,設定!$K$4:$P$43,$BL$16+2,0))","v":""},null,null,null,null,null,null,null,null,null,null,null,null,null,null,null,null,null,null,null,null,null,null,null,null,null,null,null,null,null,null,null,null,null,null,null,null,null,null,null,null,null,null,null,null,null,null,null,{"$f":"IF(設定!B18=\"\",\"\",設定!B18)","v":"2021-09-20"},{"$f":"IF(設定!C18=\"\",\"\",設定!C18)","v":"敬老の日"},14,null,null,null,null,null,null,null,0,null,null,null,null,"※「月始め処理」の前に入力"]
[null,13,{"$f":"IF(VLOOKUP(B18,設定!$K$4:$P$43,$BL$16+2,0)=0,\"\",VLOOKUP(B18,設定!$K$4:$P$43,$BL$16+2,0))","v":""},null,null,null,null,null,null,null,null,null,null,null,null,null,null,null,null,null,null,null,null,null,null,null,null,null,null,null,null,null,null,null,null,null,null,null,null,null,null,null,null,null,null,null,null,null,null,null,{"$f":"IF(設定!B19=\"\",\"\",設定!B19)","v":"2021-09-23"},{"$f":"IF(設定!C19=\"\",\"\",設定!C19)","v":"秋分の日"},15,null,null,null,null,null,null,null,0,null,"◆長期休業の文字間隔",null,null,"◆長期休業Ⅰ"]
[null,14,{"$f":"IF(VLOOKUP(B19,設定!$K$4:$P$43,$BL$16+2,0)=0,\"\",VLOOKUP(B19,設定!$K$4:$P$43,$BL$16+2,0))","v":""},null,null,null,null,null,null,null,null,null,null,null,null,null,null,null,null,null,null,null,null,null,null,null,null,null,null,null,null,null,null,null,null,null,null,null,null,null,null,null,null,null,null,null,null,null,null,null,{"$f":"IF(設定!B20=\"\",\"\",設定!B20)","v":"2021-11-03"},{"$f":"IF(設定!C20=\"\",\"\",設定!C20)","v":"文化の日"},16,null,null,null,null,null,null,null,0,null,"やや広く",null,null,"名称"]
[null,15,{"$f":"IF(VLOOKUP(B20,設定!$K$4:$P$43,$BL$16+2,0)=0,\"\",VLOOKUP(B20,設定!$K$4:$P$43,$BL$16+2,0))","v":""},null,null,null,null,null,null,null,null,null,null,null,null,null,null,null,null,null,null,null,null,null,null,null,null,null,null,null,null,null,null,null,null,null,null,null,null,null,null,null,null,null,null,null,null,null,null,null,{"$f":"IF(設定!B21=\"\",\"\",設定!B21)","v":"2021-11-23"},{"$f":"IF(設定!C21=\"\",\"\",設定!C21)","v":"勤労感謝の日"},17,null,null,null,null,null,null,null,0,null,"※長期休業の文字間隔を調節します。祝日との文字の重なりを回避することができます。",null,null,"開始日"]
[null,16,{"$f":"IF(VLOOKUP(B21,設定!$K$4:$P$43,$BL$16+2,0)=0,\"\",VLOOKUP(B21,設定!$K$4:$P$43,$BL$16+2,0))","v":""},null,null,null,null,null,null,null,null,null,null,null,null,null,null,null,null,null,null,null,null,null,null,null,null,null,null,null,null,null,null,null,null,null,null,null,null,null,null,null,null,null,null,null,null,null,null,null,{"$f":"IF(設定!B22=\"\",\"\",設定!B22)","v":"2022-01-01"},{"$f":"IF(設定!C22=\"\",\"\",設定!C22)","v":"元　　日"},18,null,null,null,null,null,null,null,0,null,null,null,null,"終了日"]
[null,17,{"$f":"IF(VLOOKUP(B22,設定!$K$4:$P$43,$BL$16+2,0)=0,\"\",VLOOKUP(B22,設定!$K$4:$P$43,$BL$16+2,0))","v":""},null,null,null,null,null,null,null,null,null,null,null,null,null,null,null,null,null,null,null,null,null,null,null,null,null,null,null,null,null,null,null,null,null,null,null,null,null,null,null,null,null,null,null,null,null,null,null,{"$f":"IF(設定!B23=\"\",\"\",設定!B23)","v":"2022-01-10"},{"$f":"IF(設定!C23=\"\",\"\",設定!C23)","v":"成人の日"},19,null,null,null,null,null,null,null,0,null,null,null,null,"◆長期休業Ⅱ"]
[null,18,{"$f":"IF(VLOOKUP(B23,設定!$K$4:$P$43,$BL$16+2,0)=0,\"\",VLOOKUP(B23,設定!$K$4:$P$43,$BL$16+2,0))","v":""},null,null,null,null,null,null,null,null,null,null,null,null,null,null,null,null,null,null,null,null,null,null,null,null,null,null,null,null,null,null,null,null,null,null,null,null,null,null,null,null,null,null,null,null,null,null,null,{"$f":"IF(設定!B24=\"\",\"\",設定!B24)","v":"2022-02-11"},{"$f":"IF(設定!C24=\"\",\"\",設定!C24)","v":"建国記念の日"},20,null,null,null,null,null,null,null,0,null,null,null,null,"名称"]
[null,19,{"$f":"IF(VLOOKUP(B24,設定!$K$4:$P$43,$BL$16+2,0)=0,\"\",VLOOKUP(B24,設定!$K$4:$P$43,$BL$16+2,0))","v":""},null,null,null,null,null,null,null,null,null,null,null,null,null,null,null,null,null,null,null,null,null,null,null,null,null,null,null,null,null,null,null,null,null,null,null,null,null,null,null,null,null,null,null,null,null,null,null,{"$f":"IF(設定!B25=\"\",\"\",設定!B25)","v":"2022-02-23"},{"$f":"IF(設定!C25=\"\",\"\",設定!C25)","v":"天皇誕生日"},21,null,null,null,null,null,null,null,0,null,"◆各処理にて再計算",null,null,"開始日"]
[null,20,{"$f":"IF(VLOOKUP(B25,設定!$K$4:$P$43,$BL$16+2,0)=0,\"\",VLOOKUP(B25,設定!$K$4:$P$43,$BL$16+2,0))","v":""},null,null,null,null,null,null,null,null,null,null,null,null,null,null,null,null,null,null,null,null,null,null,null,null,null,null,null,null,null,null,null,null,null,null,null,null,null,null,null,null,null,null,null,null,null,null,null,{"$f":"IF(設定!B26=\"\",\"\",設定!B26)","v":"2022-03-19"},{"$f":"IF(設定!C26=\"\",\"\",設定!C26)","v":"春分の日"},22,null,null,null,null,null,null,null,0,null,"児童生徒数",{"$f":"AY45","v":4},null,"終了日"]
[null,null,null,null,null,null,null,null,null,null,null,null,null,null,null,null,null,null,null,null,null,null,null,null,null,null,null,null,null,null,null,null,null,null,null,null,null,null,null,null,null,null,null,null,null,null,null,null,null,null,{"$f":"IF(設定!B27=\"\",\"\",設定!B27)","v":""},{"$f":"IF(設定!C27=\"\",\"\",設定!C27)","v":""},23,null,null,null,null,null,null,null,0,null,"授業日数",{"$f":"IF(AY46=\"\",\"\",AY46)","v":""},null,"◆長期休業Ⅲ"]
[null,null,null,null,null,null,null,1,2,3,4,5,6,7,8,9,10,11,12,13,14,15,16,17,18,19,20,21,22,23,24,25,26,27,28,29,30,31,null,null,null,null,null,null,null,null,null,null,null,null,{"$f":"IF(設定!B28=\"\",\"\",設定!B28)","v":""},{"$f":"IF(設定!C28=\"\",\"\",設定!C28)","v":""},24,null,null,null,null,null,null,null,0,null,"出席者数",22,null,"名称"]
["その他教育上特に必要と認めた日タ",21,{"$f":"IF(VLOOKUP(B28,設定!$K$4:$P$43,$BL$16+2,0)=0,\"\",VLOOKUP(B28,設定!$K$4:$P$43,$BL$16+2,0))","v":""},null,null,null,null,null,null,null,null,null,null,null,null,null,null,null,null,null,null,null,null,null,null,null,null,null,null,null,null,null,null,null,null,null,null,null,null,null,null,null,null,null,null,null,null,null,null,null,{"$f":"IF(設定!B29=\"\",\"\",設定!B29)","v":""},{"$f":"IF(設定!C29=\"\",\"\",設定!C29)","v":""},25,null,null,null,null,null,null,null,0,null,"全欠席者数",0,null,"開始日"]
[null,22,{"$f":"IF(VLOOKUP(B29,設定!$K$4:$P$43,$BL$16+2,0)=0,\"\",VLOOKUP(B29,設定!$K$4:$P$43,$BL$16+2,0))","v":""},null,null,null,null,null,null,null,null,null,null,null,null,null,null,null,null,null,null,null,null,null,null,null,null,null,null,null,null,null,null,null,null,null,null,null,null,null,null,null,null,null,null,null,null,null,null,null,{"$f":"IF(設定!B30=\"\",\"\",設定!B30)","v":""},{"$f":"IF(設定!C30=\"\",\"\",設定!C30)","v":""},26,null,null,null,null,null,null,null,0,null,"転入学者数",0,null,"終了日"]
[null,23,{"$f":"IF(VLOOKUP(B30,設定!$K$4:$P$43,$BL$16+2,0)=0,\"\",VLOOKUP(B30,設定!$K$4:$P$43,$BL$16+2,0))","v":""},null,null,null,null,null,null,null,null,null,null,null,null,null,null,null,null,null,null,null,null,null,null,null,null,null,null,null,null,null,null,null,null,null,null,null,null,null,null,null,null,null,null,null,null,null,null,null,{"$f":"IF(設定!B31=\"\",\"\",設定!B31)","v":""},{"$f":"IF(設定!C31=\"\",\"\",設定!C31)","v":""},27,null,null,null,null,null,null,null,0,null,"転学退学者数",0]
[null,24,{"$f":"IF(VLOOKUP(B31,設定!$K$4:$P$43,$BL$16+2,0)=0,\"\",VLOOKUP(B31,設定!$K$4:$P$43,$BL$16+2,0))","v":""},null,null,null,null,null,null,null,null,null,null,null,null,null,null,null,null,null,null,null,null,null,null,null,null,null,null,null,null,null,null,null,null,null,null,null,null,null,null,null,null,null,null,null,null,null,null,null,{"$f":"IF(設定!B32=\"\",\"\",設定!B32)","v":""},{"$f":"IF(設定!C32=\"\",\"\",設定!C32)","v":""},28,null,null,null,null,null,null,null,0]
[null,25,{"$f":"IF(VLOOKUP(B32,設定!$K$4:$P$43,$BL$16+2,0)=0,\"\",VLOOKUP(B32,設定!$K$4:$P$43,$BL$16+2,0))","v":""},null,null,null,null,null,null,null,null,null,null,null,null,null,null,null,null,null,null,null,null,null,null,null,null,null,null,null,null,null,null,null,null,null,null,null,null,null,null,null,null,null,null,null,null,null,null,null,{"$f":"IF(設定!B33=\"\",\"\",設定!B33)","v":""},{"$f":"IF(設定!C33=\"\",\"\",設定!C33)","v":""},29,null,null,null,null,null,null,null,0,null,"◆入力記号"]
[null,26,{"$f":"IF(VLOOKUP(B33,設定!$K$4:$P$43,$BL$16+2,0)=0,\"\",VLOOKUP(B33,設定!$K$4:$P$43,$BL$16+2,0))","v":""},null,null,null,null,null,null,null,null,null,null,null,null,null,null,null,null,null,null,null,null,null,null,null,null,null,null,null,null,null,null,null,null,null,null,null,null,null,null,null,null,null,null,null,null,null,null,null,{"$f":"IF(設定!B34=\"\",\"\",設定!B34)","v":""},{"$f":"IF(設定!C34=\"\",\"\",設定!C34)","v":""},30,null,null,null,null,null,null,null,0,null,"病欠","／"]
[null,27,{"$f":"IF(VLOOKUP(B34,設定!$K$4:$P$43,$BL$16+2,0)=0,\"\",VLOOKUP(B34,設定!$K$4:$P$43,$BL$16+2,0))","v":""},null,null,null,null,null,null,null,null,null,null,null,null,null,null,null,null,null,null,null,null,null,null,null,null,null,null,null,null,null,null,null,null,null,null,null,null,null,null,null,null,null,null,null,null,null,null,null,{"$f":"IF(設定!B35=\"\",\"\",設定!B35)","v":""},{"$f":"IF(設定!C35=\"\",\"\",設定!C35)","v":""},31,null,null,null,null,null,null,null,0,null,"事故欠","〃"]
[null,28,{"$f":"IF(VLOOKUP(B35,設定!$K$4:$P$43,$BL$16+2,0)=0,\"\",VLOOKUP(B35,設定!$K$4:$P$43,$BL$16+2,0))","v":""},null,null,null,null,null,null,null,null,null,null,null,null,null,null,null,null,null,null,null,null,null,null,null,null,null,null,null,null,null,null,null,null,null,null,null,null,null,null,null,null,null,null,null,null,null,null,null,{"$f":"IF(設定!B36=\"\",\"\",設定!B36)","v":""},{"$f":"IF(設定!C36=\"\",\"\",設定!C36)","v":""},null,null,null,null,null,null,null,null,null,null,"遅刻","×"]
[null,29,{"$f":"IF(VLOOKUP(B36,設定!$K$4:$P$43,$BL$16+2,0)=0,\"\",VLOOKUP(B36,設定!$K$4:$P$43,$BL$16+2,0))","v":""},null,null,null,null,null,null,null,null,null,null,null,null,null,null,null,null,null,null,null,null,null,null,null,null,null,null,null,null,null,null,null,null,null,null,null,null,null,null,null,null,null,null,null,null,null,null,null,{"$f":"IF(設定!B37=\"\",\"\",設定!B37)","v":""},{"$f":"IF(設定!C37=\"\",\"\",設定!C37)","v":""},null,28,"data(tu)　その月の日数",null,null,null,null,null,null,null,"早退","○"]
[null,30,{"$f":"IF(VLOOKUP(B37,設定!$K$4:$P$43,$BL$16+2,0)=0,\"\",VLOOKUP(B37,設定!$K$4:$P$43,$BL$16+2,0))","v":""},null,null,null,null,null,null,null,null,null,null,null,null,null,null,null,null,null,null,null,null,null,null,null,null,null,null,null,null,null,null,null,null,null,null,null,null,null,null,null,null,null,null,null,null,null,null,null,{"$f":"IF(設定!B38=\"\",\"\",設定!B38)","v":""},{"$f":"IF(設定!C38=\"\",\"\",設定!C38)","v":""},null,0,"hi　月の長期休業の日数",null,null,null,null,null,null,null,"遅刻・早退","×○"]
[null,31,{"$f":"IF(VLOOKUP(B38,設定!$K$4:$P$43,$BL$16+2,0)=0,\"\",VLOOKUP(B38,設定!$K$4:$P$43,$BL$16+2,0))","v":""},null,null,null,null,null,null,null,null,null,null,null,null,null,null,null,null,null,null,null,null,null,null,null,null,null,null,null,null,null,null,null,null,null,null,null,null,null,null,null,null,null,null,null,null,null,null,null,{"$f":"IF(設定!B39=\"\",\"\",設定!B39)","v":""},{"$f":"IF(設定!C39=\"\",\"\",設定!C39)","v":""},null,2,"hj　月の祝日の日数",null,null,null,null,null,null,null,"忌引","キ"]
[null,32,{"$f":"IF(VLOOKUP(B39,設定!$K$4:$P$43,$BL$16+2,0)=0,\"\",VLOOKUP(B39,設定!$K$4:$P$43,$BL$16+2,0))","v":""},null,null,null,null,null,null,null,null,null,null,null,null,null,null,null,null,null,null,null,null,null,null,null,null,null,null,null,null,null,null,null,null,null,null,null,null,null,null,null,null,null,null,null,null,null,null,null,{"$f":"IF(設定!B40=\"\",\"\",設定!B40)","v":""},{"$f":"IF(設定!C40=\"\",\"\",設定!C40)","v":""},null,8,"hk　月の祝日ではない土日の数",null,null,null,null,null,null,null,"出席停止","テ"]
[null,33,{"$f":"IF(VLOOKUP(B40,設定!$K$4:$P$43,$BL$16+2,0)=0,\"\",VLOOKUP(B40,設定!$K$4:$P$43,$BL$16+2,0))","v":""},null,null,null,null,null,null,null,null,null,null,null,null,null,null,null,null,null,null,null,null,null,null,null,null,null,null,null,null,null,null,null,null,null,null,null,null,null,null,null,null,null,null,null,null,null,null,null,{"$f":"IF(設定!B41=\"\",\"\",設定!B41)","v":""},{"$f":"IF(設定!C41=\"\",\"\",設定!C41)","v":""},null,0,"hl　長期休業で祝日と重複する数",null,null,null,null,null,null,null,"その他","タ"]
[null,34,{"$f":"IF(VLOOKUP(B41,設定!$K$4:$P$43,$BL$16+2,0)=0,\"\",VLOOKUP(B41,設定!$K$4:$P$43,$BL$16+2,0))","v":""},null,null,null,null,null,null,null,null,null,null,null,null,null,null,null,null,null,null,null,null,null,null,null,null,null,null,null,null,null,null,null,null,null,null,null,null,null,null,null,null,null,null,null,null,null,null,null,{"$f":"IF(設定!B42=\"\",\"\",設定!B42)","v":""},{"$f":"IF(設定!C42=\"\",\"\",設定!C42)","v":""},null,0,"so　卒業式後の日数",null,null,null,null,null,null,null,"転手転確転入","◎"]
[null,35,{"$f":"IF(VLOOKUP(B42,設定!$K$4:$P$43,$BL$16+2,0)=0,\"\",VLOOKUP(B42,設定!$K$4:$P$43,$BL$16+2,0))","v":""},null,null,null,null,null,null,null,null,null,null,null,null,null,null,null,null,null,null,null,null,null,null,null,null,null,null,null,null,null,null,null,null,null,null,null,null,null,null,null,null,null,null,null,null,null,null,null,{"$f":"IF(設定!B43=\"\",\"\",設定!B43)","v":""},{"$f":"IF(設定!C43=\"\",\"\",設定!C43)","v":""},null,0,"gh　学級閉鎖の日数"]
[null,36,{"$f":"IF(VLOOKUP(B43,設定!$K$4:$P$43,$BL$16+2,0)=0,\"\",VLOOKUP(B43,設定!$K$4:$P$43,$BL$16+2,0))","v":""},null,null,null,null,null,null,null,null,null,null,null,null,null,null,null,null,null,null,null,null,null,null,null,null,null,null,null,null,null,null,null,null,null,null,null,null,null,null,null,null,null,null,null,null,null,null,null,{"$f":"IF(設定!B44=\"\",\"\",設定!B44)","v":""},{"$f":"IF(設定!C44=\"\",\"\",設定!C44)","v":""},null,null,null,null,null,null,null,null,null,null,"※転出入については、集計欄の自動計算には対応していません。「月末処理」の後、手動にて修正をしてください。"]
[null,37,{"$f":"IF(VLOOKUP(B44,設定!$K$4:$P$43,$BL$16+2,0)=0,\"\",VLOOKUP(B44,設定!$K$4:$P$43,$BL$16+2,0))","v":""}]
[null,38,{"$f":"IF(VLOOKUP(B45,設定!$K$4:$P$43,$BL$16+2,0)=0,\"\",VLOOKUP(B45,設定!$K$4:$P$43,$BL$16+2,0))","v":""},null,null,null,null,null,null,null,null,null,null,null,null,null,null,null,null,null,null,null,null,null,null,null,null,null,null,null,null,null,null,null,null,null,null,null,null,null,null,null,null,null,null,null,null,null,null,"児童生徒数",{"$f":"40-BB45-BC45","v":4},null,null,{"$f":"COUNTIF(C6:C25,\"\")","v":16},{"$f":"COUNTIF(C28:C47,\"\")","v":20},"児童生徒欄の空白セル"]
[null,39,{"$f":"IF(VLOOKUP(B46,設定!$K$4:$P$43,$BL$16+2,0)=0,\"\",VLOOKUP(B46,設定!$K$4:$P$43,$BL$16+2,0))","v":""},null,null,null,null,null,null,null,null,null,null,null,null,null,null,null,null,null,null,null,null,null,null,null,null,null,null,null,null,null,null,null,null,null,null,null,null,null,null,null,null,null,null,null,null,null,null,"授業日数",null,"←月始め処理で授業日数が入力される"]
[null,40,{"$f":"IF(VLOOKUP(B47,設定!$K$4:$P$43,$BL$16+2,0)=0,\"\",VLOOKUP(B47,設定!$K$4:$P$43,$BL$16+2,0))","v":""},null,null,null,null,null,null,null,null,null,null,null,null,null,null,null,null,null,null,null,null,null,null,null,null,null,null,null,null,null,null,null,null,null,null,null,null,null,null,null,null,null,null,null,null,null,null,"出席者数",22,"←月末処理で入力される",null,"出席日数0のカウント"]
[null,"計","出  席  者  数",null,null,null,null,null,null,null,null,null,null,null,null,null,null,null,null,null,null,null,null,null,null,null,null,null,null,null,null,null,null,null,null,null,null,null,null,null,null,null,null,null,null,null,null,null,null,"全欠席者数",{"$f":"SUM(BH53:BH92)","v":0},"←月末処理で入力される",null,{"$f":"COUNTIF(AV6:AV25,0)","v":0},{"$f":"COUNTIF(AV28:AV47,0)","v":0},{"$f":"BB48+BC48","v":0}]
[null,null,"欠  席  者  数",null,null,null,null,null,null,null,null,null,null,null,null,null,null,null,null,null,null,null,null,null,null,null,null,null,null,null,null,null,null,null,null,null,null,null,null,null,null,null,null,null,null,null,null,null,null,"転入学者数",0,"←月末処理で入力される"]
[null,"授業","日数",null,null,null,null,"在籍","者数",null,null,null,null,null,null,"出席","者数",null,null,null,null,null,null,"全欠席","者　数",null,null,null,null,null,null,null,"転入学","者　数",null,null,null,null,null,"転学退",null,"学者数",null,null,null,null,null,null,null,"転学退学者数",0,"←月末処理で入力される"]
[]
[null,null,null,null,null,null,null,null,null,null,null,null,null,null,null,null,null,null,null,null,null,null,null,null,null,null,null,null,null,null,null,null,null,null,null,null,null,null,null,null,null,null,null,null,null,null,null,null,null,"長期休業間隔",{"$f":"IF(BK19=\"狭く\",9,IF(BK19=\"やや狭く\",8,IF(BK19=\"やや広く\",6,IF(BK19=\"広く\",5,7))))","v":6},null,"長期休業間隔",null,"標準",null,null,null,"全欠処理"]
[null,null,null,null,null,null,null,null,null,null,null,null,null,null,null,null,null,null,null,null,null,null,null,null,null,null,null,null,null,null,null,null,null,null,null,null,null,null,null,null,null,null,null,null,null,null,null,null,null,"長期休業処理",null,null,null,null,"狭く",null,null,null,1,{"$f":"IF(AV6<>\"\",IF(AM6-AR6-AS6=0,1,0),0)","v":0}]
[null,null,null,null,null,null,null,null,null,null,null,null,null,null,null,null,null,null,null,null,null,null,null,null,null,null,null,null,null,null,null,null,null,null,null,null,null,null,null,null,null,null,null,null,null,null,null,null,null,"長期休業Ⅰ",{"$f":"BO19","v":0},null,null,null,"やや狭く",null,null,null,2,{"$f":"IF(AV7<>\"\",IF(AM7-AR7-AS7=0,1,0),0)","v":0}]
[null,null,null,null,null,null,null,null,null,null,null,null,null,null,null,null,null,null,null,null,null,null,null,null,null,null,null,null,null,null,null,null,null,null,null,null,null,null,null,null,null,null,null,null,null,null,null,null,null,null,{"$f":"BO20","v":0},null,null,null,"やや広く",null,null,null,3,0]
[null,null,null,null,null,null,null,null,null,null,null,null,null,null,null,null,null,null,null,null,null,null,null,null,null,null,null,null,null,null,null,null,null,null,null,null,null,null,null,null,null,null,null,null,null,null,null,null,null,null,{"$f":"BO21","v":0},null,null,null,{"$f":"IF(F3=4,\"\",IF(F3=3,\"\",\"広く\"))","v":"広く"},null,null,null,4,0]
[null,null,null,null,null,null,null,null,null,null,null,null,null,null,null,null,null,null,null,null,null,null,null,null,null,null,null,null,null,null,null,null,null,null,null,null,null,null,null,null,null,null,null,null,null,null,null,null,null,"長期休業Ⅱ",{"$f":"BO23","v":0},null,null,null,null,null,null,null,5,0]
[null,null,null,null,null,null,null,null,null,null,null,null,null,null,null,null,null,null,null,null,null,null,null,null,null,null,null,null,null,null,null,null,null,null,null,null,null,null,null,null,null,null,null,null,null,null,null,null,null,null,{"$f":"BO24","v":0},null,null,null,null,null,null,null,6,0]
[null,null,null,null,null,null,null,null,null,null,null,null,null,null,null,null,null,null,null,null,null,null,null,null,null,null,null,null,null,null,null,null,null,null,null,null,null,null,null,null,null,null,null,null,null,null,null,null,null,null,{"$f":"BO25","v":0},null,null,null,null,null,null,null,7,0]
[null,null,null,null,null,null,null,null,null,null,null,null,null,null,null,null,null,null,null,null,null,null,null,null,null,null,null,null,null,null,null,null,null,null,null,null,null,null,null,null,null,null,null,null,null,null,null,null,null,"長期休業Ⅲ",{"$f":"BO27","v":0},null,null,null,null,null,null,null,8,0]
[null,null,null,null,null,null,null,null,null,null,null,null,null,null,null,null,null,null,null,null,null,null,null,null,null,null,null,null,null,null,null,null,null,null,null,null,null,null,null,null,null,null,null,null,null,null,null,null,null,null,{"$f":"BO28","v":0},null,null,null,null,null,null,null,9,0]
[null,null,null,null,null,null,null,null,null,null,null,null,null,null,null,null,null,null,null,null,null,null,null,null,null,null,null,null,null,null,null,null,null,null,null,null,null,null,null,null,null,null,null,null,null,null,null,null,null,null,{"$f":"BO29","v":0},null,null,null,null,null,null,null,10,0]
[null,null,null,null,null,null,null,null,null,null,null,null,null,null,null,null,null,null,null,null,null,null,null,null,null,null,null,null,null,null,null,null,null,null,null,null,null,null,null,null,null,null,null,null,null,null,null,null,null,null,{"$f":"MAX(AY55,AY58,AY61)","v":0},null,null,null,null,null,null,null,11,0]
[null,null,null,null,null,null,null,null,null,null,null,null,null,null,null,null,null,null,null,null,null,null,null,null,null,null,null,null,null,null,null,null,null,null,null,null,null,null,null,null,null,null,null,null,null,null,null,null,null,null,null,null,null,null,null,null,null,null,12,0]
[null,null,null,null,null,null,null,null,null,null,null,null,null,null,null,null,null,null,null,null,null,null,null,null,null,null,null,null,null,null,null,null,null,null,null,null,null,null,null,null,null,null,null,null,null,null,null,null,null,null,null,null,null,null,null,null,null,null,13,0]
[null,null,null,null,null,null,null,null,null,null,null,null,null,null,null,null,null,null,null,null,null,null,null,null,null,null,null,null,null,null,null,null,null,null,null,null,null,null,null,null,null,null,null,null,null,null,null,null,null,null,null,null,null,null,null,null,null,null,14,0]
[null,null,null,null,null,null,null,null,null,null,null,null,null,null,null,null,null,null,null,null,null,null,null,null,null,null,null,null,null,null,null,null,null,null,null,null,null,null,null,null,null,null,null,null,null,null,null,null,null,null,null,null,null,null,null,null,null,null,15,0]
[null,null,null,null,null,null,null,null,null,null,null,null,null,null,null,null,null,null,null,null,null,null,null,null,null,null,null,null,null,null,null,null,null,null,null,null,null,null,null,null,null,null,null,null,null,null,null,null,null,null,null,null,null,null,null,null,null,null,16,0]
[null,null,null,null,null,null,null,null,null,null,null,null,null,null,null,null,null,null,null,null,null,null,null,null,null,null,null,null,null,null,null,null,null,null,null,null,null,null,null,null,null,null,null,null,null,null,null,null,null,"入力規則","／",null,null,null,null,null,null,null,17,0]
[null,null,null,null,null,null,null,null,null,null,null,null,null,null,null,null,null,null,null,null,null,null,null,null,null,null,null,null,null,null,null,null,null,null,null,null,null,null,null,null,null,null,null,null,null,null,null,null,null,null,"〃",null,null,null,null,null,null,null,18,0]
[null,null,null,null,null,null,null,null,null,null,null,null,null,null,null,null,null,null,null,null,null,null,null,null,null,null,null,null,null,null,null,null,null,null,null,null,null,null,null,null,null,null,null,null,null,null,null,null,null,null,"×",null,null,null,null,null,null,null,19,0]
[null,null,null,null,null,null,null,null,null,null,null,null,null,null,null,null,null,null,null,null,null,null,null,null,null,null,null,null,null,null,null,null,null,null,null,null,null,null,null,null,null,null,null,null,null,null,null,null,null,null,"○",null,null,null,null,null,null,null,20,0]
[null,null,null,null,null,null,null,null,null,null,null,null,null,null,null,null,null,null,null,null,null,null,null,null,null,null,null,null,null,null,null,null,null,null,null,null,null,null,null,null,null,null,null,null,null,null,null,null,null,null,"×○",null,null,null,null,null,null,null,21,{"$f":"IF(AV28<>\"\",IF(AM28-AR28-AS28=0,1,0),0)","v":0}]
[null,null,null,null,null,null,null,null,null,null,null,null,null,null,null,null,null,null,null,null,null,null,null,null,null,null,null,null,null,null,null,null,null,null,null,null,null,null,null,null,null,null,null,null,null,null,null,null,null,null,"キ",null,null,null,null,null,null,null,22,{"$f":"IF(AV29<>\"\",IF(AM29-AR29-AS29=0,1,0),0)","v":0}]
[null,null,null,null,null,null,null,null,null,null,null,null,null,null,null,null,null,null,null,null,null,null,null,null,null,null,null,null,null,null,null,null,null,null,null,null,null,null,null,null,null,null,null,null,null,null,null,null,null,null,"テ",null,null,null,null,null,null,null,23,0]
[null,null,null,null,null,null,null,null,null,null,null,null,null,null,null,null,null,null,null,null,null,null,null,null,null,null,null,null,null,null,null,null,null,null,null,null,null,null,null,null,null,null,null,null,null,null,null,null,null,null,"タ",null,null,null,null,null,null,null,24,0]
[null,null,null,null,null,null,null,null,null,null,null,null,null,null,null,null,null,null,null,null,null,null,null,null,null,null,null,null,null,null,null,null,null,null,null,null,null,null,null,null,null,null,null,null,null,null,null,null,null,null,"◎",null,null,null,null,null,null,null,25,0]
[null,null,null,null,null,null,null,null,null,null,null,null,null,null,null,null,null,null,null,null,null,null,null,null,null,null,null,null,null,null,null,null,null,null,null,null,null,null,null,null,null,null,null,null,null,null,null,null,null,null,null,null,null,null,null,null,null,null,26,0]
[null,null,null,null,null,null,null,null,null,null,null,null,null,null,null,null,null,null,null,null,null,null,null,null,null,null,null,null,null,null,null,null,null,null,null,null,null,null,null,null,null,null,null,null,null,null,null,null,null,null,null,null,null,null,null,null,null,null,27,0]
[null,null,null,null,null,null,null,null,null,null,null,null,null,null,null,null,null,null,null,null,null,null,null,null,null,null,null,null,null,null,null,null,null,null,null,null,null,null,null,null,null,null,null,null,null,null,null,null,null,null,null,null,null,null,null,null,null,null,28,0]
[null,null,null,null,null,null,null,null,null,null,null,null,null,null,null,null,null,null,null,null,null,null,null,null,null,null,null,null,null,null,null,null,null,null,null,null,null,null,null,null,null,null,null,null,null,null,null,null,null,null,null,null,null,null,null,null,null,null,29,0]
[null,null,null,null,null,null,null,null,null,null,null,null,null,null,null,null,null,null,null,null,null,null,null,null,null,null,null,null,null,null,null,null,null,null,null,null,null,null,null,null,null,null,null,null,null,null,null,null,null,null,null,null,null,null,null,null,null,null,30,0]
[null,null,null,null,null,null,null,null,null,null,null,null,null,null,null,null,null,null,null,null,null,null,null,null,null,null,null,null,null,null,null,null,null,null,null,null,null,null,null,null,null,null,null,null,null,null,null,null,null,null,null,null,null,null,null,null,null,null,31,0]
[null,null,null,null,null,null,null,null,null,null,null,null,null,null,null,null,null,null,null,null,null,null,null,null,null,null,null,null,null,null,null,null,null,null,null,null,null,null,null,null,null,null,null,null,null,null,null,null,null,"追加休業","臨時休業",null,null,null,null,null,null,null,32,0]
[null,null,null,null,null,null,null,null,null,null,null,null,null,null,null,null,null,null,null,null,null,null,null,null,null,null,null,null,null,null,null,null,null,null,null,null,null,null,null,null,null,null,null,null,null,null,null,null,null,null,"学年閉鎖",null,null,null,null,null,null,null,33,0]
[null,null,null,null,null,null,null,null,null,null,null,null,null,null,null,null,null,null,null,null,null,null,null,null,null,null,null,null,null,null,null,null,null,null,null,null,null,null,null,null,null,null,null,null,null,null,null,null,null,null,"学級閉鎖",null,null,null,null,null,null,null,34,0]
[null,null,null,null,null,null,null,null,null,null,null,null,null,null,null,null,null,null,null,null,null,null,null,null,null,null,null,null,null,null,null,null,null,null,null,null,null,null,null,null,null,null,null,null,null,null,null,null,null,null,null,null,null,null,null,null,null,null,35,0]
[null,null,null,null,null,null,null,null,null,null,null,null,null,null,null,null,null,null,null,null,null,null,null,null,null,null,null,null,null,null,null,null,null,null,null,null,null,null,null,null,null,null,null,null,null,null,null,null,null,null,null,null,null,null,null,null,null,null,36,0]
[null,null,null,null,null,null,null,null,null,null,null,null,null,null,null,null,null,null,null,null,null,null,null,null,null,null,null,null,null,null,null,null,null,null,null,null,null,null,null,null,null,null,null,null,null,null,null,null,null,null,null,null,null,null,null,null,null,null,37,0]
[null,null,null,null,null,null,null,null,null,null,null,null,null,null,null,null,null,null,null,null,null,null,null,null,null,null,null,null,null,null,null,null,null,null,null,null,null,null,null,null,null,null,null,null,null,null,null,null,null,"長期休業","学年始休業",null,null,null,null,null,null,null,38,0]
[null,null,null,null,null,null,null,null,null,null,null,null,null,null,null,null,null,null,null,null,null,null,null,null,null,null,null,null,null,null,null,null,null,null,null,null,null,null,null,null,null,null,null,null,null,null,null,null,null,null,"夏季休業",null,null,null,null,null,null,null,39,0]
[null,null,null,null,null,null,null,null,null,null,null,null,null,null,null,null,null,null,null,null,null,null,null,null,null,null,null,null,null,null,null,null,null,null,null,null,null,null,null,null,null,null,null,null,null,null,null,null,null,null,"秋季休業",null,null,null,null,null,null,null,40,{"$f":"IF(AV47<>\"\",IF(AM47-AR47-AS47=0,1,0),0)","v":0}]
[null,null,null,null,null,null,null,null,null,null,null,null,null,null,null,null,null,null,null,null,null,null,null,null,null,null,null,null,null,null,null,null,null,null,null,null,null,null,null,null,null,null,null,null,null,null,null,null,null,null,"冬季休業"]
[null,null,null,null,null,null,null,null,null,null,null,null,null,null,null,null,null,null,null,null,null,null,null,null,null,null,null,null,null,null,null,null,null,null,null,null,null,null,null,null,null,null,null,null,null,null,null,null,null,null,"学年末休業"]
[null,null,null,null,null,null,null,null,null,null,null,null,null,null,null,null,null,null,null,null,null,null,null,null,null,null,null,null,null,null,null,null,null,null,null,null,null,null,null,null,null,null,null,null,null,null,null,null,null,null,"臨時休業"]
[null,null,null,null,null,null,null,null,null,null,null,null,null,null,null,null,null,null,null,null,null,null,null,null,null,null,null,null,null,null,null,null,null,null,null,null,null,null,null,null,null,null,null,null,null,null,null,null,null,null,"学年閉鎖"]

{"sheet":"3月","index":13,"n_rows":96,"n_cols":67,"rows_kept":96,"cut":false,"hidden":false,"merged":[[49,41,49,42],[49,44,49,46],[51,52,51,53],[49,4,49,5],[49,10,49,13],[49,18,49,21],[49,26,49,30],[49,35,49,37],[49,39,49,40],[46,2,46,6],[46,39,46,40],[46,41,46,42],[47,1,48,1],[47,2,47,6],[47,39,47,40],[47,41,47,42],[48,2,48,6],[48,39,48,40],[48,41,48,42],[42,62,45,63],[43,2,43,6],[43,39,43,40],[43,41,43,42],[44,2,44,6],[44,39,44,40],[44,41,44,42],[45,2,45,6],[45,39,45,40],[45,41,45,42],[41,2,41,6],[41,39,41,40],[41,41,41,42],[42,2,42,6],[42,39,42,40],[42,41,42,42],[39,2,39,6],[39,39,39,40],[39,41,39,42],[40,2,40,6],[40,39,40,40],[40,41,40,42],[37,2,37,6],[37,39,37,40],[37,41,37,42],[38,2,38,6],[38,39,38,40],[38,41,38,42],[35,2,35,6],[35,39,35,40],[35,41,35,42],[36,2,36,6],[36,39,36,40],[36,41,36,42],[33,2,33,6],[33,39,33,40],[33,41,33,42],[34,2,34,6],[34,39,34,40],[34,41,34,42],[31,2,31,6],[31,39,31,40],[31,41,31,42],[32,2,32,6],[32,39,32,40],[32,41,32,42],[28,41,28,42],[29,2,29,6],[29,39,29,40],[29,41,29,42],[30,2,30,6],[30,39,30,40],[30,41,30,42],[25,39,25,40],[25,41,25,42],[26,39,26,40],[26,41,26,42],[22,2,22,6],[22,39,22,40],[22,41,22,42],[18,2,18,6],[18,39,18,40],[18,41,18,42],[27,0,37,0],[27,2,27,6],[27,39,27,40],[27,41,27,42],[28,2,28,6],[28,39,28,40],[23,2,23,6],[23,39,23,40],[23,41,23,42],[24,2,24,6],[24,39,24,40],[24,41,24,42],[5,0,24,0],[5,2,5,6],[5,39,5,40],[5,41,5,42],[6,2,6,6],[6,39,6,40],[10,2,10,6],[10,39,10,40],[10,41,10,42],[11,2,11,6],[11,39,11,40],[11,41,11,42],[8,2,8,6],[18,62,18,63],[19,2,19,6],[19,39,19,40],[19,41,19,42],[19,62,21,63],[20,2,20,6],[20,39,20,40],[16,2,16,6],[16,39,16,40],[16,41,16,42],[17,2,17,6],[17,39,17,40],[17,41,17,42],[20,41,20,42],[21,2,21,6],[21,39,21,40],[21,41,21,42],[14,2,14,6],[14,39,14,40],[14,41,14,42],[15,2,15,6],[15,39,15,40],[15,41,15,42],[12,2,12,6],[12,39,12,40],[12,41,12,42],[13,2,13,6],[13,39,13,40],[13,41,13,42],[8,39,8,40],[8,41,8,42],[9,2,9,6],[9,39,9,40],[9,41,9,42],[3,1,4,1],[3,38,4,38],[3,39,4,39],[3,40,4,40],[3,41,4,41],[6,41,6,42],[7,2,7,6],[7,39,7,40],[7,41,7,42],[0,49,0,60],[1,39,1,44],[1,53,1,54],[1,55,1,56],[1,57,1,58],[2,1,2,2],[3,42,4,42],[3,43,4,43],[3,44,4,44],[3,45,4,45],[3,46,4,46],[3,47,4,47],[2,19,2,27],[2,31,2,36],[2,38,2,40],[2,41,2,46],[2,9,2,14]]}
[null,null,null,null,null,null,null,null,null,null,null,null,null,null,null,null,null,null,null,null,null,null,null,null,null,null,null,null,null,null,null,null,null,null,null,null,null,null,null,null,null,null,null,null,null,null,null,null,null,"【注意】 この範囲は、処理のために使用しています。"]
[null,null,null,null,null,null,null,null,null,null,null,null,null,null,null,null,null,null,null,null,null,null,null,null,null,null,null,null,null,null,null,null,null,null,null,null,null,null,null,"校 長 検 印",null,null,null,null,null,null,null,null,null,"処理用セル",null,null,null,"土日",null,"祝日",null,"長期休業",null,"学級閉鎖","赤線"]
[null,{"$f":"設定!C47","v":"令和"},null,{"$f":"IF(F3>3,設定!B49,設定!C49)","v":4},"年",3,"月",null,null,{"$f":"IF(設定!H3=\"\",\"\",設定!H3)","v":"みどり学級"},null,null,null,null,null,null,null,null,null,"出　　席　　簿",null,null,null,null,null,null,null,null,null,null,null,{"$f":"設定!C2&\"学校\"","v":"松岡小学校"},null,null,null,null,null,null,"担任名",null,null,{"$f":"設定!H6","v":"永平寺 太郎"},null,null,null,null,null,null,null,"日にちの合成",{"$f":"IF(D3=\"元\",設定!C48,D3+設定!C48-1)&\"/\"&F3&\"/\"&H4","v":"2022/3/1"},{"$f":"WEEKDAY(AY3)","v":3},"日","(1,?)","(2,?)","(3,?)","(4,?)","(5,?)","(6,?)","(7,?)"]
[null,"番号",null,null,null,null,"日",1,2,3,4,5,6,7,8,9,10,11,12,13,14,15,16,17,18,19,20,21,22,23,24,25,26,27,28,29,30,31,"授業日数","出席停止忌引","等の日数","出席しなければ","ならない日数","病気欠席","事故欠席","遅刻回数","早退回数","出席日数",null,"西暦に変換",{"$f":"DATE(YEAR(AY3),MONTH(AY3),DAY(AY3))","v":"2022-03-01"},{"$f":"YEAR(AY3)","v":2022},1,null,null,null,null,null,null,null,{"$f":"BB4-BC4+BD4-BE4+BF4-BG4","v":0}]
[null,null,null,"氏    名",null,null,"曜日",null,null,null,null,null,null,null,null,null,null,null,null,null,null,null,null,null,null,null,null,null,null,null,null,null,null,null,null,null,null,null,null,null,null,null,null,null,null,null,null,null,null,"曜日決定",{"$f":"TEXT(AY4,\"aaa\")","v":"火"},{"$f":"TEXT(AZ3,\"aaa\")","v":"火"},2,null,null,null,null,null,null,null,{"$f":"BB5-BC5+BD5-BE5+BF5-BG5","v":0}]
["〈記号〉出席空欄　病欠／ 事故欠〃 遅刻× 早退○ 忌引キ 出席停止テ",1,{"$f":"IF(VLOOKUP(B6,設定!$K$4:$P$43,$BL$16+2,0)=0,\"\",VLOOKUP(B6,設定!$K$4:$P$43,$BL$16+2,0))","v":"西郷隆盛　１年"},null,null,null,null,null,null,null,null,null,null,null,null,null,null,null,null,null,null,null,null,null,null,null,null,null,null,null,null,null,null,null,null,null,null,null,null,null,null,null,null,null,null,null,null,null,null,"今月の日数",31,null,3,null,null,null,null,null,null,null,0]
[null,2,{"$f":"IF(VLOOKUP(B7,設定!$K$4:$P$43,$BL$16+2,0)=0,\"\",VLOOKUP(B7,設定!$K$4:$P$43,$BL$16+2,0))","v":"伊達政宗　３年"},null,null,null,null,null,null,null,null,null,null,null,null,null,null,null,null,null,null,null,null,null,null,null,null,null,null,null,null,null,null,null,null,null,null,null,null,null,null,null,null,null,null,null,null,null,null,null,17,null,4,null,null,null,null,null,null,null,0,null,null,null,null,"◆休業追加"]
[null,3,{"$f":"IF(VLOOKUP(B8,設定!$K$4:$P$43,$BL$16+2,0)=0,\"\",VLOOKUP(B8,設定!$K$4:$P$43,$BL$16+2,0))","v":"井伊直弼　５年"},null,null,null,null,null,null,null,null,null,null,null,null,null,null,null,null,null,null,null,null,null,null,null,null,null,null,null,null,null,null,null,null,null,null,null,null,null,null,null,null,null,null,null,null,null,null,null,"1900-01-05",null,5,null,null,null,null,null,null,null,0,null,null,null,null,"名称","日"]
[null,4,{"$f":"IF(VLOOKUP(B9,設定!$K$4:$P$43,$BL$16+2,0)=0,\"\",VLOOKUP(B9,設定!$K$4:$P$43,$BL$16+2,0))","v":"桓武天皇　５年"},null,null,null,null,null,null,null,null,null,null,null,null,null,null,null,null,null,null,null,null,null,null,null,null,null,null,null,null,null,null,null,null,null,null,null,null,null,null,null,null,null,null,null,null,null,null,"祝日",{"$f":"IF(設定!B10=\"\",\"\",設定!B10)","v":"2021-04-29"},{"$f":"IF(設定!C10=\"\",\"\",設定!C10)","v":"昭和の日"},6,null,null,null,null,null,null,null,0,null,null,null,null,"学年閉鎖",20]
[null,5,{"$f":"IF(VLOOKUP(B10,設定!$K$4:$P$43,$BL$16+2,0)=0,\"\",VLOOKUP(B10,設定!$K$4:$P$43,$BL$16+2,0))","v":""},null,null,null,null,null,null,null,null,null,null,null,null,null,null,null,null,null,null,null,null,null,null,null,null,null,null,null,null,null,null,null,null,null,null,null,null,null,null,null,null,null,null,null,null,null,null,null,{"$f":"IF(設定!B11=\"\",\"\",設定!B11)","v":"2021-05-03"},{"$f":"IF(設定!C11=\"\",\"\",設定!C11)","v":"憲法記念日"},7,null,null,null,null,null,null,null,0]
[null,6,{"$f":"IF(VLOOKUP(B11,設定!$K$4:$P$43,$BL$16+2,0)=0,\"\",VLOOKUP(B11,設定!$K$4:$P$43,$BL$16+2,0))","v":""},null,null,null,null,null,null,null,null,null,null,null,null,null,null,null,null,null,null,null,null,null,null,null,null,null,null,null,null,null,null,null,null,null,null,null,null,null,null,null,null,null,null,null,null,null,null,null,{"$f":"IF(設定!B12=\"\",\"\",設定!B12)","v":"2021-05-04"},{"$f":"IF(設定!C12=\"\",\"\",設定!C12)","v":"みどりの日"},8,null,null,null,null,null,null,null,0]
[null,7,{"$f":"IF(VLOOKUP(B12,設定!$K$4:$P$43,$BL$16+2,0)=0,\"\",VLOOKUP(B12,設定!$K$4:$P$43,$BL$16+2,0))","v":""},null,null,null,null,null,null,null,null,null,null,null,null,null,null,null,null,null,null,null,null,null,null,null,null,null,null,null,null,null,null,null,null,null,null,null,null,null,null,null,null,null,null,null,null,null,null,null,{"$f":"IF(設定!B13=\"\",\"\",設定!B13)","v":"2021-05-05"},{"$f":"IF(設定!C13=\"\",\"\",設定!C13)","v":"こどもの日"},9,null,null,null,null,null,null,null,0]
[null,8,{"$f":"IF(VLOOKUP(B13,設定!$K$4:$P$43,$BL$16+2,0)=0,\"\",VLOOKUP(B13,設定!$K$4:$P$43,$BL$16+2,0))","v":""},null,null,null,null,null,null,null,null,null,null,null,null,null,null,null,null,null,null,null,null,null,null,null,null,null,null,null,null,null,null,null,null,null,null,null,null,null,null,null,null,null,null,null,null,null,null,null,{"$f":"IF(設定!B14=\"\",\"\",設定!B14)","v":"2021-07-22"},{"$f":"IF(設定!C14=\"\",\"\",設定!C14)","v":"海の日"},10,null,null,null,null,null,null,null,0]
[null,9,{"$f":"IF(VLOOKUP(B14,設定!$K$4:$P$43,$BL$16+2,0)=0,\"\",VLOOKUP(B14,設定!$K$4:$P$43,$BL$16+2,0))","v":""},null,null,null,null,null,null,null,null,null,null,null,null,null,null,null,null,null,null,null,null,null,null,null,null,null,null,null,null,null,null,null,null,null,null,null,null,null,null,null,null,null,null,null,null,null,null,null,{"$f":"IF(設定!B15=\"\",\"\",設定!B15)","v":"2021-07-23"},{"$f":"IF(設定!C15=\"\",\"\",設定!C15)","v":"スポーツの日"},11,null,null,null,null,null,null,null,0]
[null,10,{"$f":"IF(VLOOKUP(B15,設定!$K$4:$P$43,$BL$16+2,0)=0,\"\",VLOOKUP(B15,設定!$K$4:$P$43,$BL$16+2,0))","v":""},null,null,null,null,null,null,null,null,null,null,null,null,null,null,null,null,null,null,null,null,null,null,null,null,null,null,null,null,null,null,null,null,null,null,null,null,null,null,null,null,null,null,null,null,null,null,null,{"$f":"IF(設定!B16=\"\",\"\",設定!B16)","v":"2021-08-08"},{"$f":"IF(設定!C16=\"\",\"\",設定!C16)","v":"山の日"},12,null,null,null,null,null,null,null,0]
[null,11,{"$f":"IF(VLOOKUP(B16,設定!$K$4:$P$43,$BL$16+2,0)=0,\"\",VLOOKUP(B16,設定!$K$4:$P$43,$BL$16+2,0))","v":""},null,null,null,null,null,null,null,null,null,null,null,null,null,null,null,null,null,null,null,null,null,null,null,null,null,null,null,null,null,null,null,null,null,null,null,null,null,null,null,null,null,null,null,null,null,null,null,{"$f":"IF(設定!B17=\"\",\"\",設定!B17)","v":"2021-08-09"},{"$f":"IF(設定!C17=\"\",\"\",設定!C17)","v":"休　　日"},13,null,null,null,null,null,null,null,0,null,"使用名列",0]
[null,12,{"$f":"IF(VLOOKUP(B17,設定!$K$4:$P$43,$BL$16+2,0)=0,\"\",VLOOKUP(B17,設定!$K$4:$P$43,$BL$16+2,0))","v":""},null,null,null,null,null,null,null,null,null,null,null,null,null,null,null,null,null,null,null,null,null,null,null,null,null,null,null,null,null,null,null,null,null,null,null,null,null,null,null,null,null,null,null,null,null,null,null,{"$f":"IF(設定!B18=\"\",\"\",設定!B18)","v":"2021-09-20"},{"$f":"IF(設定!C18=\"\",\"\",設定!C18)","v":"敬老の日"},14,null,null,null,null,null,null,null,0,null,null,null,null,"※「月始め処理」の前に入力"]
[null,13,{"$f":"IF(VLOOKUP(B18,設定!$K$4:$P$43,$BL$16+2,0)=0,\"\",VLOOKUP(B18,設定!$K$4:$P$43,$BL$16+2,0))","v":""},null,null,null,null,null,null,null,null,null,null,null,null,null,null,null,null,null,null,null,null,null,null,null,null,null,null,null,null,null,null,null,null,null,null,null,null,null,null,null,null,null,null,null,null,null,null,null,{"$f":"IF(設定!B19=\"\",\"\",設定!B19)","v":"2021-09-23"},{"$f":"IF(設定!C19=\"\",\"\",設定!C19)","v":"秋分の日"},15,null,null,null,null,null,null,null,0,null,"◆長期休業の文字間隔",null,null,"◆長期休業Ⅰ"]
[null,14,{"$f":"IF(VLOOKUP(B19,設定!$K$4:$P$43,$BL$16+2,0)=0,\"\",VLOOKUP(B19,設定!$K$4:$P$43,$BL$16+2,0))","v":""},null,null,null,null,null,null,null,null,null,null,null,null,null,null,null,null,null,null,null,null,null,null,null,null,null,null,null,null,null,null,null,null,null,null,null,null,null,null,null,null,null,null,null,null,null,null,null,{"$f":"IF(設定!B20=\"\",\"\",設定!B20)","v":"2021-11-03"},{"$f":"IF(設定!C20=\"\",\"\",設定!C20)","v":"文化の日"},16,null,null,null,null,null,null,null,0,null,"やや広く",null,null,"名称","学年末休業"]
[null,15,{"$f":"IF(VLOOKUP(B20,設定!$K$4:$P$43,$BL$16+2,0)=0,\"\",VLOOKUP(B20,設定!$K$4:$P$43,$BL$16+2,0))","v":""},null,null,null,null,null,null,null,null,null,null,null,null,null,null,null,null,null,null,null,null,null,null,null,null,null,null,null,null,null,null,null,null,null,null,null,null,null,null,null,null,null,null,null,null,null,null,null,{"$f":"IF(設定!B21=\"\",\"\",設定!B21)","v":"2021-11-23"},{"$f":"IF(設定!C21=\"\",\"\",設定!C21)","v":"勤労感謝の日"},17,null,null,null,null,null,null,null,0,null,"※長期休業の文字間隔を調節します。祝日との文字の重なりを回避することができます。",null,null,"開始日",25]
[null,16,{"$f":"IF(VLOOKUP(B21,設定!$K$4:$P$43,$BL$16+2,0)=0,\"\",VLOOKUP(B21,設定!$K$4:$P$43,$BL$16+2,0))","v":""},null,null,null,null,null,null,null,null,null,null,null,null,null,null,null,null,null,null,null,null,null,null,null,null,null,null,null,null,null,null,null,null,null,null,null,null,null,null,null,null,null,null,null,null,null,null,null,{"$f":"IF(設定!B22=\"\",\"\",設定!B22)","v":"2022-01-01"},{"$f":"IF(設定!C22=\"\",\"\",設定!C22)","v":"元　　日"},18,null,null,null,null,null,null,null,0,null,null,null,null,"終了日",31]
[null,17,{"$f":"IF(VLOOKUP(B22,設定!$K$4:$P$43,$BL$16+2,0)=0,\"\",VLOOKUP(B22,設定!$K$4:$P$43,$BL$16+2,0))","v":""},null,null,null,null,null,null,null,null,null,null,null,null,null,null,null,null,null,null,null,null,null,null,null,null,null,null,null,null,null,null,null,null,null,null,null,null,null,null,null,null,null,null,null,null,null,null,null,{"$f":"IF(設定!B23=\"\",\"\",設定!B23)","v":"2022-01-10"},{"$f":"IF(設定!C23=\"\",\"\",設定!C23)","v":"成人の日"},19,null,null,null,null,null,null,null,0,null,null,null,null,"◆長期休業Ⅱ"]
[null,18,{"$f":"IF(VLOOKUP(B23,設定!$K$4:$P$43,$BL$16+2,0)=0,\"\",VLOOKUP(B23,設定!$K$4:$P$43,$BL$16+2,0))","v":""},null,null,null,null,null,null,null,null,null,null,null,null,null,null,null,null,null,null,null,null,null,null,null,null,null,null,null,null,null,null,null,null,null,null,null,null,null,null,null,null,null,null,null,null,null,null,null,{"$f":"IF(設定!B24=\"\",\"\",設定!B24)","v":"2022-02-11"},{"$f":"IF(設定!C24=\"\",\"\",設定!C24)","v":"建国記念の日"},20,null,null,null,null,null,null,null,0,null,null,null,null,"名称"]
[null,19,{"$f":"IF(VLOOKUP(B24,設定!$K$4:$P$43,$BL$16+2,0)=0,\"\",VLOOKUP(B24,設定!$K$4:$P$43,$BL$16+2,0))","v":""},null,null,null,null,null,null,null,null,null,null,null,null,null,null,null,null,null,null,null,null,null,null,null,null,null,null,null,null,null,null,null,null,null,null,null,null,null,null,null,null,null,null,null,null,null,null,null,{"$f":"IF(設定!B25=\"\",\"\",設定!B25)","v":"2022-02-23"},{"$f":"IF(設定!C25=\"\",\"\",設定!C25)","v":"天皇誕生日"},21,null,null,null,null,null,null,null,0,null,"◆各処理にて再計算",null,null,"開始日"]
[null,20,{"$f":"IF(VLOOKUP(B25,設定!$K$4:$P$43,$BL$16+2,0)=0,\"\",VLOOKUP(B25,設定!$K$4:$P$43,$BL$16+2,0))","v":""},null,null,null,null,null,null,null,null,null,null,null,null,null,null,null,null,null,null,null,null,null,null,null,null,null,null,null,null,null,null,null,null,null,null,null,null,null,null,null,null,null,null,null,null,null,null,null,{"$f":"IF(設定!B26=\"\",\"\",設定!B26)","v":"2022-03-19"},{"$f":"IF(設定!C26=\"\",\"\",設定!C26)","v":"春分の日"},22,null,null,null,null,null,null,null,0,null,"児童生徒数",{"$f":"AY45","v":4},null,"終了日"]
[null,null,null,null,null,null,null,null,null,null,null,null,null,null,null,null,null,null,null,null,null,null,null,null,null,null,null,null,null,null,null,null,null,null,null,null,null,null,null,null,null,null,null,null,null,null,null,null,null,null,{"$f":"IF(設定!B27=\"\",\"\",設定!B27)","v":""},{"$f":"IF(設定!C27=\"\",\"\",設定!C27)","v":""},23,null,null,null,null,null,null,null,0,null,"授業日数",{"$f":"IF(AY46=\"\",\"\",AY46)","v":""},null,"◆長期休業Ⅲ"]
[null,null,null,null,null,null,null,1,2,3,4,5,6,7,8,9,10,11,12,13,14,15,16,17,18,19,20,21,22,23,24,25,26,27,28,29,30,31,null,null,null,null,null,null,null,null,null,null,null,null,{"$f":"IF(設定!B28=\"\",\"\",設定!B28)","v":""},{"$f":"IF(設定!C28=\"\",\"\",設定!C28)","v":""},24,null,null,null,null,null,null,null,0,null,"出席者数",22,null,"名称"]
["その他教育上特に必要と認めた日タ",21,{"$f":"IF(VLOOKUP(B28,設定!$K$4:$P$43,$BL$16+2,0)=0,\"\",VLOOKUP(B28,設定!$K$4:$P$43,$BL$16+2,0))","v":""},null,null,null,null,null,null,null,null,null,null,null,null,null,null,null,null,null,null,null,null,null,null,null,null,null,null,null,null,null,null,null,null,null,null,null,null,null,null,null,null,null,null,null,null,null,null,null,{"$f":"IF(設定!B29=\"\",\"\",設定!B29)","v":""},{"$f":"IF(設定!C29=\"\",\"\",設定!C29)","v":""},25,null,null,null,null,null,null,null,0,null,"全欠席者数",0,null,"開始日"]
[null,22,{"$f":"IF(VLOOKUP(B29,設定!$K$4:$P$43,$BL$16+2,0)=0,\"\",VLOOKUP(B29,設定!$K$4:$P$43,$BL$16+2,0))","v":""},null,null,null,null,null,null,null,null,null,null,null,null,null,null,null,null,null,null,null,null,null,null,null,null,null,null,null,null,null,null,null,null,null,null,null,null,null,null,null,null,null,null,null,null,null,null,null,{"$f":"IF(設定!B30=\"\",\"\",設定!B30)","v":""},{"$f":"IF(設定!C30=\"\",\"\",設定!C30)","v":""},26,null,null,null,null,null,null,null,0,null,"転入学者数",0,null,"終了日"]
[null,23,{"$f":"IF(VLOOKUP(B30,設定!$K$4:$P$43,$BL$16+2,0)=0,\"\",VLOOKUP(B30,設定!$K$4:$P$43,$BL$16+2,0))","v":""},null,null,null,null,null,null,null,null,null,null,null,null,null,null,null,null,null,null,null,null,null,null,null,null,null,null,null,null,null,null,null,null,null,null,null,null,null,null,null,null,null,null,null,null,null,null,null,{"$f":"IF(設定!B31=\"\",\"\",設定!B31)","v":""},{"$f":"IF(設定!C31=\"\",\"\",設定!C31)","v":""},27,null,null,null,null,null,null,null,0,null,"転学退学者数",0]
[null,24,{"$f":"IF(VLOOKUP(B31,設定!$K$4:$P$43,$BL$16+2,0)=0,\"\",VLOOKUP(B31,設定!$K$4:$P$43,$BL$16+2,0))","v":""},null,null,null,null,null,null,null,null,null,null,null,null,null,null,null,null,null,null,null,null,null,null,null,null,null,null,null,null,null,null,null,null,null,null,null,null,null,null,null,null,null,null,null,null,null,null,null,{"$f":"IF(設定!B32=\"\",\"\",設定!B32)","v":""},{"$f":"IF(設定!C32=\"\",\"\",設定!C32)","v":""},28,null,null,null,null,null,null,null,0]
[null,25,{"$f":"IF(VLOOKUP(B32,設定!$K$4:$P$43,$BL$16+2,0)=0,\"\",VLOOKUP(B32,設定!$K$4:$P$43,$BL$16+2,0))","v":""},null,null,null,null,null,null,null,null,null,null,null,null,null,null,null,null,null,null,null,null,null,null,null,null,null,null,null,null,null,null,null,null,null,null,null,null,null,null,null,null,null,null,null,null,null,null,null,{"$f":"IF(設定!B33=\"\",\"\",設定!B33)","v":""},{"$f":"IF(設定!C33=\"\",\"\",設定!C33)","v":""},29,null,null,null,null,null,null,null,0,null,"◆入力記号"]
[null,26,{"$f":"IF(VLOOKUP(B33,設定!$K$4:$P$43,$BL$16+2,0)=0,\"\",VLOOKUP(B33,設定!$K$4:$P$43,$BL$16+2,0))","v":""},null,null,null,null,null,null,null,null,null,null,null,null,null,null,null,null,null,null,null,null,null,null,null,null,null,null,null,null,null,null,null,null,null,null,null,null,null,null,null,null,null,null,null,null,null,null,null,{"$f":"IF(設定!B34=\"\",\"\",設定!B34)","v":""},{"$f":"IF(設定!C34=\"\",\"\",設定!C34)","v":""},30,null,null,null,null,null,null,null,0,null,"病欠","／"]
[null,27,{"$f":"IF(VLOOKUP(B34,設定!$K$4:$P$43,$BL$16+2,0)=0,\"\",VLOOKUP(B34,設定!$K$4:$P$43,$BL$16+2,0))","v":""},null,null,null,null,null,null,null,null,null,null,null,null,null,null,null,null,null,null,null,null,null,null,null,null,null,null,null,null,null,null,null,null,null,null,null,null,null,null,null,null,null,null,null,null,null,null,null,{"$f":"IF(設定!B35=\"\",\"\",設定!B35)","v":""},{"$f":"IF(設定!C35=\"\",\"\",設定!C35)","v":""},31,null,null,null,null,null,null,null,0,null,"事故欠","〃"]
[null,28,{"$f":"IF(VLOOKUP(B35,設定!$K$4:$P$43,$BL$16+2,0)=0,\"\",VLOOKUP(B35,設定!$K$4:$P$43,$BL$16+2,0))","v":""},null,null,null,null,null,null,null,null,null,null,null,null,null,null,null,null,null,null,null,null,null,null,null,null,null,null,null,null,null,null,null,null,null,null,null,null,null,null,null,null,null,null,null,null,null,null,null,{"$f":"IF(設定!B36=\"\",\"\",設定!B36)","v":""},{"$f":"IF(設定!C36=\"\",\"\",設定!C36)","v":""},null,null,null,null,null,null,null,null,null,null,"遅刻","×"]
[null,29,{"$f":"IF(VLOOKUP(B36,設定!$K$4:$P$43,$BL$16+2,0)=0,\"\",VLOOKUP(B36,設定!$K$4:$P$43,$BL$16+2,0))","v":""},null,null,null,null,null,null,null,null,null,null,null,null,null,null,null,null,null,null,null,null,null,null,null,null,null,null,null,null,null,null,null,null,null,null,null,null,null,null,null,null,null,null,null,null,null,null,null,{"$f":"IF(設定!B37=\"\",\"\",設定!B37)","v":""},{"$f":"IF(設定!C37=\"\",\"\",設定!C37)","v":""},null,31,"data(tu)　その月の日数",null,null,null,null,null,null,null,"早退","○"]
[null,30,{"$f":"IF(VLOOKUP(B37,設定!$K$4:$P$43,$BL$16+2,0)=0,\"\",VLOOKUP(B37,設定!$K$4:$P$43,$BL$16+2,0))","v":""},null,null,null,null,null,null,null,null,null,null,null,null,null,null,null,null,null,null,null,null,null,null,null,null,null,null,null,null,null,null,null,null,null,null,null,null,null,null,null,null,null,null,null,null,null,null,null,{"$f":"IF(設定!B38=\"\",\"\",設定!B38)","v":""},{"$f":"IF(設定!C38=\"\",\"\",設定!C38)","v":""},null,12,"hi　月の長期休業の日数",null,null,null,null,null,null,null,"遅刻・早退","×○"]
[null,31,{"$f":"IF(VLOOKUP(B38,設定!$K$4:$P$43,$BL$16+2,0)=0,\"\",VLOOKUP(B38,設定!$K$4:$P$43,$BL$16+2,0))","v":""},null,null,null,null,null,null,null,null,null,null,null,null,null,null,null,null,null,null,null,null,null,null,null,null,null,null,null,null,null,null,null,null,null,null,null,null,null,null,null,null,null,null,null,null,null,null,null,{"$f":"IF(設定!B39=\"\",\"\",設定!B39)","v":""},{"$f":"IF(設定!C39=\"\",\"\",設定!C39)","v":""},null,1,"hj　月の祝日の日数",null,null,null,null,null,null,null,"忌引","キ"]
[null,32,{"$f":"IF(VLOOKUP(B39,設定!$K$4:$P$43,$BL$16+2,0)=0,\"\",VLOOKUP(B39,設定!$K$4:$P$43,$BL$16+2,0))","v":""},null,null,null,null,null,null,null,null,null,null,null,null,null,null,null,null,null,null,null,null,null,null,null,null,null,null,null,null,null,null,null,null,null,null,null,null,null,null,null,null,null,null,null,null,null,null,null,{"$f":"IF(設定!B40=\"\",\"\",設定!B40)","v":""},{"$f":"IF(設定!C40=\"\",\"\",設定!C40)","v":""},null,5,"hk　月の祝日ではない土日の数",null,null,null,null,null,null,null,"出席停止","テ"]
[null,33,{"$f":"IF(VLOOKUP(B40,設定!$K$4:$P$43,$BL$16+2,0)=0,\"\",VLOOKUP(B40,設定!$K$4:$P$43,$BL$16+2,0))","v":""},null,null,null,null,null,null,null,null,null,null,null,null,null,null,null,null,null,null,null,null,null,null,null,null,null,null,null,null,null,null,null,null,null,null,null,null,null,null,null,null,null,null,null,null,null,null,null,{"$f":"IF(設定!B41=\"\",\"\",設定!B41)","v":""},{"$f":"IF(設定!C41=\"\",\"\",設定!C41)","v":""},null,0,"hl　長期休業で祝日と重複する数",null,null,null,null,null,null,null,"その他","タ"]
[null,34,{"$f":"IF(VLOOKUP(B41,設定!$K$4:$P$43,$BL$16+2,0)=0,\"\",VLOOKUP(B41,設定!$K$4:$P$43,$BL$16+2,0))","v":""},null,null,null,null,null,null,null,null,null,null,null,null,null,null,null,null,null,null,null,null,null,null,null,null,null,null,null,null,null,null,null,null,null,null,null,null,null,null,null,null,null,null,null,null,null,null,null,{"$f":"IF(設定!B42=\"\",\"\",設定!B42)","v":""},{"$f":"IF(設定!C42=\"\",\"\",設定!C42)","v":""},null,5,"so　卒業式後の日数",null,null,null,null,null,null,null,"転手転確転入","◎"]
[null,35,{"$f":"IF(VLOOKUP(B42,設定!$K$4:$P$43,$BL$16+2,0)=0,\"\",VLOOKUP(B42,設定!$K$4:$P$43,$BL$16+2,0))","v":""},null,null,null,null,null,null,null,null,null,null,null,null,null,null,null,null,null,null,null,null,null,null,null,null,null,null,null,null,null,null,null,null,null,null,null,null,null,null,null,null,null,null,null,null,null,null,null,{"$f":"IF(設定!B43=\"\",\"\",設定!B43)","v":""},{"$f":"IF(設定!C43=\"\",\"\",設定!C43)","v":""},null,0,"gh　学級閉鎖の日数"]
[null,36,{"$f":"IF(VLOOKUP(B43,設定!$K$4:$P$43,$BL$16+2,0)=0,\"\",VLOOKUP(B43,設定!$K$4:$P$43,$BL$16+2,0))","v":""},null,null,null,null,null,null,null,null,null,null,null,null,null,null,null,null,null,null,null,null,null,null,null,null,null,null,null,null,null,null,null,null,null,null,null,null,null,null,null,null,null,null,null,null,null,null,null,{"$f":"IF(設定!B44=\"\",\"\",設定!B44)","v":""},{"$f":"IF(設定!C44=\"\",\"\",設定!C44)","v":""},null,null,null,null,null,null,null,null,null,null,"※転出入については、集計欄の自動計算には対応していません。「月末処理」の後、手動にて修正をしてください。"]
[null,37,{"$f":"IF(VLOOKUP(B44,設定!$K$4:$P$43,$BL$16+2,0)=0,\"\",VLOOKUP(B44,設定!$K$4:$P$43,$BL$16+2,0))","v":""}]
[null,38,{"$f":"IF(VLOOKUP(B45,設定!$K$4:$P$43,$BL$16+2,0)=0,\"\",VLOOKUP(B45,設定!$K$4:$P$43,$BL$16+2,0))","v":""},null,null,null,null,null,null,null,null,null,null,null,null,null,null,null,null,null,null,null,null,null,null,null,null,null,null,null,null,null,null,null,null,null,null,null,null,null,null,null,null,null,null,null,null,null,null,"児童生徒数",{"$f":"40-BB45-BC45","v":4},null,null,{"$f":"COUNTIF(C6:C25,\"\")","v":16},{"$f":"COUNTIF(C28:C47,\"\")","v":20},"児童生徒欄の空白セル"]
[null,39,{"$f":"IF(VLOOKUP(B46,設定!$K$4:$P$43,$BL$16+2,0)=0,\"\",VLOOKUP(B46,設定!$K$4:$P$43,$BL$16+2,0))","v":""},null,null,null,null,null,null,null,null,null,null,null,null,null,null,null,null,null,null,null,null,null,null,null,null,null,null,null,null,null,null,null,null,null,null,null,null,null,null,null,null,null,null,null,null,null,null,"授業日数",null,"←月始め処理で授業日数が入力される"]
[null,40,{"$f":"IF(VLOOKUP(B47,設定!$K$4:$P$43,$BL$16+2,0)=0,\"\",VLOOKUP(B47,設定!$K$4:$P$43,$BL$16+2,0))","v":""},null,null,null,null,null,null,null,null,null,null,null,null,null,null,null,null,null,null,null,null,null,null,null,null,null,null,null,null,null,null,null,null,null,null,null,null,null,null,null,null,null,null,null,null,null,null,"出席者数",22,"←月末処理で入力される",null,"出席日数0のカウント"]
[null,"計","出  席  者  数",null,null,null,null,null,null,null,null,null,null,null,null,null,null,null,null,null,null,null,null,null,null,null,null,null,null,null,null,null,null,null,null,null,null,null,null,null,null,null,null,null,null,null,null,null,null,"全欠席者数",{"$f":"SUM(BH53:BH92)","v":0},"←月末処理で入力される",null,{"$f":"COUNTIF(AV6:AV25,0)","v":0},{"$f":"COUNTIF(AV28:AV47,0)","v":0},{"$f":"BB48+BC48","v":0}]
[null,null,"欠  席  者  数",null,null,null,null,null,null,null,null,null,null,null,null,null,null,null,null,null,null,null,null,null,null,null,null,null,null,null,null,null,null,null,null,null,null,null,null,null,null,null,null,null,null,null,null,null,null,"転入学者数",0,"←月末処理で入力される"]
[null,"授業","日数",null,null,null,null,"在籍","者数",null,null,null,null,null,null,"出席","者数",null,null,null,null,null,null,"全欠席","者　数",null,null,null,null,null,null,null,"転入学","者　数",null,null,null,null,null,"転学退",null,"学者数",null,null,null,null,null,null,null,"転学退学者数",0,"←月末処理で入力される"]
[]
[null,null,null,null,null,null,null,null,null,null,null,null,null,null,null,null,null,null,null,null,null,null,null,null,null,null,null,null,null,null,null,null,null,null,null,null,null,null,null,null,null,null,null,null,null,null,null,null,null,"長期休業間隔",{"$f":"IF(BK19=\"狭く\",9,IF(BK19=\"やや狭く\",8,IF(BK19=\"やや広く\",6,IF(BK19=\"広く\",5,7))))","v":6},null,"長期休業間隔",null,"標準",null,null,null,"全欠処理"]
[null,null,null,null,null,null,null,null,null,null,null,null,null,null,null,null,null,null,null,null,null,null,null,null,null,null,null,null,null,null,null,null,null,null,null,null,null,null,null,null,null,null,null,null,null,null,null,null,null,"長期休業処理",null,null,null,null,"狭く",null,null,null,1,{"$f":"IF(AV6<>\"\",IF(AM6-AR6-AS6=0,1,0),0)","v":0}]
[null,null,null,null,null,null,null,null,null,null,null,null,null,null,null,null,null,null,null,null,null,null,null,null,null,null,null,null,null,null,null,null,null,null,null,null,null,null,null,null,null,null,null,null,null,null,null,null,null,"長期休業Ⅰ",{"$f":"BO19","v":"学年末休業"},null,null,null,"やや狭く",null,null,null,2,{"$f":"IF(AV7<>\"\",IF(AM7-AR7-AS7=0,1,0),0)","v":0}]
[null,null,null,null,null,null,null,null,null,null,null,null,null,null,null,null,null,null,null,null,null,null,null,null,null,null,null,null,null,null,null,null,null,null,null,null,null,null,null,null,null,null,null,null,null,null,null,null,null,null,{"$f":"BO20","v":25},null,null,null,"やや広く",null,null,null,3,0]
[null,null,null,null,null,null,null,null,null,null,null,null,null,null,null,null,null,null,null,null,null,null,null,null,null,null,null,null,null,null,null,null,null,null,null,null,null,null,null,null,null,null,null,null,null,null,null,null,null,null,{"$f":"BO21","v":31},null,null,null,{"$f":"IF(F3=4,\"\",IF(F3=3,\"\",\"広く\"))","v":""},null,null,null,4,0]
[null,null,null,null,null,null,null,null,null,null,null,null,null,null,null,null,null,null,null,null,null,null,null,null,null,null,null,null,null,null,null,null,null,null,null,null,null,null,null,null,null,null,null,null,null,null,null,null,null,"長期休業Ⅱ",{"$f":"BO23","v":0},null,null,null,null,null,null,null,5,0]
[null,null,null,null,null,null,null,null,null,null,null,null,null,null,null,null,null,null,null,null,null,null,null,null,null,null,null,null,null,null,null,null,null,null,null,null,null,null,null,null,null,null,null,null,null,null,null,null,null,null,{"$f":"BO24","v":0},null,null,null,null,null,null,null,6,0]
[null,null,null,null,null,null,null,null,null,null,null,null,null,null,null,null,null,null,null,null,null,null,null,null,null,null,null,null,null,null,null,null,null,null,null,null,null,null,null,null,null,null,null,null,null,null,null,null,null,null,{"$f":"BO25","v":0},null,null,null,null,null,null,null,7,0]
[null,null,null,null,null,null,null,null,null,null,null,null,null,null,null,null,null,null,null,null,null,null,null,null,null,null,null,null,null,null,null,null,null,null,null,null,null,null,null,null,null,null,null,null,null,null,null,null,null,"長期休業Ⅲ",{"$f":"BO27","v":0},null,null,null,null,null,null,null,8,0]
[null,null,null,null,null,null,null,null,null,null,null,null,null,null,null,null,null,null,null,null,null,null,null,null,null,null,null,null,null,null,null,null,null,null,null,null,null,null,null,null,null,null,null,null,null,null,null,null,null,null,{"$f":"BO28","v":0},null,null,null,null,null,null,null,9,0]
[null,null,null,null,null,null,null,null,null,null,null,null,null,null,null,null,null,null,null,null,null,null,null,null,null,null,null,null,null,null,null,null,null,null,null,null,null,null,null,null,null,null,null,null,null,null,null,null,null,null,{"$f":"BO29","v":0},null,null,null,null,null,null,null,10,0]
[null,null,null,null,null,null,null,null,null,null,null,null,null,null,null,null,null,null,null,null,null,null,null,null,null,null,null,null,null,null,null,null,null,null,null,null,null,null,null,null,null,null,null,null,null,null,null,null,null,null,{"$f":"MAX(AY55,AY58,AY61)","v":25},null,null,null,null,null,null,null,11,0]
[null,null,null,null,null,null,null,null,null,null,null,null,null,null,null,null,null,null,null,null,null,null,null,null,null,null,null,null,null,null,null,null,null,null,null,null,null,null,null,null,null,null,null,null,null,null,null,null,null,null,null,null,null,null,null,null,null,null,12,0]
[null,null,null,null,null,null,null,null,null,null,null,null,null,null,null,null,null,null,null,null,null,null,null,null,null,null,null,null,null,null,null,null,null,null,null,null,null,null,null,null,null,null,null,null,null,null,null,null,null,null,null,null,null,null,null,null,null,null,13,0]
[null,null,null,null,null,null,null,null,null,null,null,null,null,null,null,null,null,null,null,null,null,null,null,null,null,null,null,null,null,null,null,null,null,null,null,null,null,null,null,null,null,null,null,null,null,null,null,null,null,null,null,null,null,null,null,null,null,null,14,0]
[null,null,null,null,null,null,null,null,null,null,null,null,null,null,null,null,null,null,null,null,null,null,null,null,null,null,null,null,null,null,null,null,null,null,null,null,null,null,null,null,null,null,null,null,null,null,null,null,null,null,null,null,null,null,null,null,null,null,15,0]
[null,null,null,null,null,null,null,null,null,null,null,null,null,null,null,null,null,null,null,null,null,null,null,null,null,null,null,null,null,null,null,null,null,null,null,null,null,null,null,null,null,null,null,null,null,null,null,null,null,null,null,null,null,null,null,null,null,null,16,0]
[null,null,null,null,null,null,null,null,null,null,null,null,null,null,null,null,null,null,null,null,null,null,null,null,null,null,null,null,null,null,null,null,null,null,null,null,null,null,null,null,null,null,null,null,null,null,null,null,null,"入力規則","／",null,null,null,null,null,null,null,17,0]
[null,null,null,null,null,null,null,null,null,null,null,null,null,null,null,null,null,null,null,null,null,null,null,null,null,null,null,null,null,null,null,null,null,null,null,null,null,null,null,null,null,null,null,null,null,null,null,null,null,null,"〃",null,null,null,null,null,null,null,18,0]
[null,null,null,null,null,null,null,null,null,null,null,null,null,null,null,null,null,null,null,null,null,null,null,null,null,null,null,null,null,null,null,null,null,null,null,null,null,null,null,null,null,null,null,null,null,null,null,null,null,null,"×",null,null,null,null,null,null,null,19,0]
[null,null,null,null,null,null,null,null,null,null,null,null,null,null,null,null,null,null,null,null,null,null,null,null,null,null,null,null,null,null,null,null,null,null,null,null,null,null,null,null,null,null,null,null,null,null,null,null,null,null,"○",null,null,null,null,null,null,null,20,0]
[null,null,null,null,null,null,null,null,null,null,null,null,null,null,null,null,null,null,null,null,null,null,null,null,null,null,null,null,null,null,null,null,null,null,null,null,null,null,null,null,null,null,null,null,null,null,null,null,null,null,"×○",null,null,null,null,null,null,null,21,{"$f":"IF(AV28<>\"\",IF(AM28-AR28-AS28=0,1,0),0)","v":0}]
[null,null,null,null,null,null,null,null,null,null,null,null,null,null,null,null,null,null,null,null,null,null,null,null,null,null,null,null,null,null,null,null,null,null,null,null,null,null,null,null,null,null,null,null,null,null,null,null,null,null,"キ",null,null,null,null,null,null,null,22,{"$f":"IF(AV29<>\"\",IF(AM29-AR29-AS29=0,1,0),0)","v":0}]
[null,null,null,null,null,null,null,null,null,null,null,null,null,null,null,null,null,null,null,null,null,null,null,null,null,null,null,null,null,null,null,null,null,null,null,null,null,null,null,null,null,null,null,null,null,null,null,null,null,null,"テ",null,null,null,null,null,null,null,23,0]
[null,null,null,null,null,null,null,null,null,null,null,null,null,null,null,null,null,null,null,null,null,null,null,null,null,null,null,null,null,null,null,null,null,null,null,null,null,null,null,null,null,null,null,null,null,null,null,null,null,null,"タ",null,null,null,null,null,null,null,24,0]
[null,null,null,null,null,null,null,null,null,null,null,null,null,null,null,null,null,null,null,null,null,null,null,null,null,null,null,null,null,null,null,null,null,null,null,null,null,null,null,null,null,null,null,null,null,null,null,null,null,null,"◎",null,null,null,null,null,null,null,25,0]
[null,null,null,null,null,null,null,null,null,null,null,null,null,null,null,null,null,null,null,null,null,null,null,null,null,null,null,null,null,null,null,null,null,null,null,null,null,null,null,null,null,null,null,null,null,null,null,null,null,null,null,null,null,null,null,null,null,null,26,0]
[null,null,null,null,null,null,null,null,null,null,null,null,null,null,null,null,null,null,null,null,null,null,null,null,null,null,null,null,null,null,null,null,null,null,null,null,null,null,null,null,null,null,null,null,null,null,null,null,null,null,null,null,null,null,null,null,null,null,27,0]
[null,null,null,null,null,null,null,null,null,null,null,null,null,null,null,null,null,null,null,null,null,null,null,null,null,null,null,null,null,null,null,null,null,null,null,null,null,null,null,null,null,null,null,null,null,null,null,null,null,null,null,null,null,null,null,null,null,null,28,0]
[null,null,null,null,null,null,null,null,null,null,null,null,null,null,null,null,null,null,null,null,null,null,null,null,null,null,null,null,null,null,null,null,null,null,null,null,null,null,null,null,null,null,null,null,null,null,null,null,null,null,null,null,null,null,null,null,null,null,29,0]
[null,null,null,null,null,null,null,null,null,null,null,null,null,null,null,null,null,null,null,null,null,null,null,null,null,null,null,null,null,null,null,null,null,null,null,null,null,null,null,null,null,null,null,null,null,null,null,null,null,null,null,null,null,null,null,null,null,null,30,0]
[null,null,null,null,null,null,null,null,null,null,null,null,null,null,null,null,null,null,null,null,null,null,null,null,null,null,null,null,null,null,null,null,null,null,null,null,null,null,null,null,null,null,null,null,null,null,null,null,null,null,null,null,null,null,null,null,null,null,31,0]
[null,null,null,null,null,null,null,null,null,null,null,null,null,null,null,null,null,null,null,null,null,null,null,null,null,null,null,null,null,null,null,null,null,null,null,null,null,null,null,null,null,null,null,null,null,null,null,null,null,"追加休業","臨時休業",null,null,null,null,null,null,null,32,0]
[null,null,null,null,null,null,null,null,null,null,null,null,null,null,null,null,null,null,null,null,null,null,null,null,null,null,null,null,null,null,null,null,null,null,null,null,null,null,null,null,null,null,null,null,null,null,null,null,null,null,"学年閉鎖",null,null,null,null,null,null,null,33,0]
[null,null,null,null,null,null,null,null,null,null,null,null,null,null,null,null,null,null,null,null,null,null,null,null,null,null,null,null,null,null,null,null,null,null,null,null,null,null,null,null,null,null,null,null,null,null,null,null,null,null,"学級閉鎖",null,null,null,null,null,null,null,34,0]
[null,null,null,null,null,null,null,null,null,null,null,null,null,null,null,null,null,null,null,null,null,null,null,null,null,null,null,null,null,null,null,null,null,null,null,null,null,null,null,null,null,null,null,null,null,null,null,null,null,null,null,null,null,null,null,null,null,null,35,0]
[null,null,null,null,null,null,null,null,null,null,null,null,null,null,null,null,null,null,null,null,null,null,null,null,null,null,null,null,null,null,null,null,null,null,null,null,null,null,null,null,null,null,null,null,null,null,null,null,null,null,null,null,null,null,null,null,null,null,36,0]
[null,null,null,null,null,null,null,null,null,null,null,null,null,null,null,null,null,null,null,null,null,null,null,null,null,null,null,null,null,null,null,null,null,null,null,null,null,null,null,null,null,null,null,null,null,null,null,null,null,null,null,null,null,null,null,null,null,null,37,0]
[null,null,null,null,null,null,null,null,null,null,null,null,null,null,null,null,null,null,null,null,null,null,null,null,null,null,null,null,null,null,null,null,null,null,null,null,null,null,null,null,null,null,null,null,null,null,null,null,null,"長期休業","学年始休業",null,null,null,null,null,null,null,38,0]
[null,null,null,null,null,null,null,null,null,null,null,null,null,null,null,null,null,null,null,null,null,null,null,null,null,null,null,null,null,null,null,null,null,null,null,null,null,null,null,null,null,null,null,null,null,null,null,null,null,null,"夏季休業",null,null,null,null,null,null,null,39,0]
[null,null,null,null,null,null,null,null,null,null,null,null,null,null,null,null,null,null,null,null,null,null,null,null,null,null,null,null,null,null,null,null,null,null,null,null,null,null,null,null,null,null,null,null,null,null,null,null,null,null,"秋季休業",null,null,null,null,null,null,null,40,{"$f":"IF(AV47<>\"\",IF(AM47-AR47-AS47=0,1,0),0)","v":0}]
[null,null,null,null,null,null,null,null,null,null,null,null,null,null,null,null,null,null,null,null,null,null,null,null,null,null,null,null,null,null,null,null,null,null,null,null,null,null,null,null,null,null,null,null,null,null,null,null,null,null,"冬季休業"]
[null,null,null,null,null,null,null,null,null,null,null,null,null,null,null,null,null,null,null,null,null,null,null,null,null,null,null,null,null,null,null,null,null,null,null,null,null,null,null,null,null,null,null,null,null,null,null,null,null,null,"学年末休業"]
[null,null,null,null,null,null,null,null,null,null,null,null,null,null,null,null,null,null,null,null,null,null,null,null,null,null,null,null,null,null,null,null,null,null,null,null,null,null,null,null,null,null,null,null,null,null,null,null,null,null,"臨時休業"]
[null,null,null,null,null,null,null,null,null,null,null,null,null,null,null,null,null,null,null,null,null,null,null,null,null,null,null,null,null,null,null,null,null,null,null,null,null,null,null,null,null,null,null,null,null,null,null,null,null,null,"学年閉鎖"]